BEGIN:VCALENDAR
VERSION:2.0
PRODID:-//Vakok és Gyengénlátók Közép-Magyarországi Regionális Egyesülete - ECPv6.15.20//NONSGML v1.0//EN
CALSCALE:GREGORIAN
METHOD:PUBLISH
X-ORIGINAL-URL:https://vgyke.com
X-WR-CALDESC:Események Vakok és Gyengénlátók Közép-Magyarországi Regionális Egyesülete
REFRESH-INTERVAL;VALUE=DURATION:PT1H
X-Robots-Tag:noindex
X-PUBLISHED-TTL:PT1H
BEGIN:VTIMEZONE
TZID:Europe/Budapest
BEGIN:DAYLIGHT
TZOFFSETFROM:+0100
TZOFFSETTO:+0200
TZNAME:CEST
DTSTART:20220327T010000
END:DAYLIGHT
BEGIN:STANDARD
TZOFFSETFROM:+0200
TZOFFSETTO:+0100
TZNAME:CET
DTSTART:20221030T010000
END:STANDARD
BEGIN:DAYLIGHT
TZOFFSETFROM:+0100
TZOFFSETTO:+0200
TZNAME:CEST
DTSTART:20230326T010000
END:DAYLIGHT
BEGIN:STANDARD
TZOFFSETFROM:+0200
TZOFFSETTO:+0100
TZNAME:CET
DTSTART:20231029T010000
END:STANDARD
BEGIN:DAYLIGHT
TZOFFSETFROM:+0100
TZOFFSETTO:+0200
TZNAME:CEST
DTSTART:20240331T010000
END:DAYLIGHT
BEGIN:STANDARD
TZOFFSETFROM:+0200
TZOFFSETTO:+0100
TZNAME:CET
DTSTART:20241027T010000
END:STANDARD
END:VTIMEZONE
BEGIN:VEVENT
DTSTART;TZID=Europe/Budapest:20230108T150000
DTEND;TZID=Europe/Budapest:20230108T180000
DTSTAMP:20260423T230008
CREATED:20230628T151506Z
LAST-MODIFIED:20230628T151506Z
UID:33064-1673190000-1673200800@vgyke.com
SUMMARY:Varázslatos Kaland a Szent István parkban
DESCRIPTION:A jelenlévők részt vehettek a Speckó szabadtéri kalandjátékán a Szent István parkban\, mely során különböző feladatok nyomán megszerezhették a varázskulcsot. Az ügyes csapatokat forró tea\,forralt bor és édességek várták a célban.
URL:https://vgyke.com/event/varazslatos-kaland-a-szent-istvan-parkban/
LOCATION:Szent István park\, Budapest\, 1137
ORGANIZER;CN="Koll%C3%A1rszki Bogl%C3%A1rka":MAILTO:csepel.szervezo@vgyke.com
END:VEVENT
END:VCALENDAR