BEGIN:VCALENDAR
VERSION:2.0
PRODID:-//Vakok és Gyengénlátók Közép-Magyarországi Regionális Egyesülete - ECPv6.15.20//NONSGML v1.0//EN
CALSCALE:GREGORIAN
METHOD:PUBLISH
X-ORIGINAL-URL:https://vgyke.com
X-WR-CALDESC:Események Vakok és Gyengénlátók Közép-Magyarországi Regionális Egyesülete
REFRESH-INTERVAL;VALUE=DURATION:PT1H
X-Robots-Tag:noindex
X-PUBLISHED-TTL:PT1H
BEGIN:VTIMEZONE
TZID:Europe/Budapest
BEGIN:DAYLIGHT
TZOFFSETFROM:+0100
TZOFFSETTO:+0200
TZNAME:CEST
DTSTART:20220327T010000
END:DAYLIGHT
BEGIN:STANDARD
TZOFFSETFROM:+0200
TZOFFSETTO:+0100
TZNAME:CET
DTSTART:20221030T010000
END:STANDARD
BEGIN:DAYLIGHT
TZOFFSETFROM:+0100
TZOFFSETTO:+0200
TZNAME:CEST
DTSTART:20230326T010000
END:DAYLIGHT
BEGIN:STANDARD
TZOFFSETFROM:+0200
TZOFFSETTO:+0100
TZNAME:CET
DTSTART:20231029T010000
END:STANDARD
BEGIN:DAYLIGHT
TZOFFSETFROM:+0100
TZOFFSETTO:+0200
TZNAME:CEST
DTSTART:20240331T010000
END:DAYLIGHT
BEGIN:STANDARD
TZOFFSETFROM:+0200
TZOFFSETTO:+0100
TZNAME:CET
DTSTART:20241027T010000
END:STANDARD
END:VTIMEZONE
BEGIN:VEVENT
DTSTART;TZID=Europe/Budapest:20230208T170000
DTEND;TZID=Europe/Budapest:20230208T190000
DTSTAMP:20260423T212102
CREATED:20230705T142419Z
LAST-MODIFIED:20230705T142419Z
UID:33238-1675875600-1675882800@vgyke.com
SUMMARY:Részvétel a 2023. február 8-ai Civil kerekasztal ülésén
DESCRIPTION:Új egyesület bemutakozása\, Angyalföldi TTE Kiss László\,\nCivil Szakmai Fórum – Közösségi akciótervezés workshop
URL:https://vgyke.com/event/reszvetel-a-2023-februar-8-ai-civil-kerekasztal-ulesen/
LOCATION:Angyalföldi József Attila Művelődési Központ   Budapest\, 1131. József Attila tér 4.
ORGANIZER;CN="Majl%C3%A1th M%C3%B3nika":MAILTO:angyalfold.szervezo@vgyke.com
END:VEVENT
BEGIN:VEVENT
DTSTART;TZID=Europe/Budapest:20230208T170000
DTEND;TZID=Europe/Budapest:20230208T190000
DTSTAMP:20260423T212102
CREATED:20230705T143218Z
LAST-MODIFIED:20230705T143218Z
UID:33244-1675875600-1675882800@vgyke.com
SUMMARY:Részvétel a 2023. február 8-ai Civil kerekasztal ülésén
DESCRIPTION:Új egyesület bemutakozása\, Angyalföldi TTE Kiss László\,\nCivil Szakmai Fórum – Közösségi akciótervezés workshop
URL:https://vgyke.com/event/reszvetel-a-2023-februar-8-ai-civil-kerekasztal-ulesen-2/
LOCATION:Angyalföldi József Attila Művelődési Központ   Budapest\, 1131. József Attila tér 4.
ORGANIZER;CN="Majl%C3%A1th M%C3%B3nika":MAILTO:angyalfold.szervezo@vgyke.com
END:VEVENT
END:VCALENDAR