BEGIN:VCALENDAR
VERSION:2.0
PRODID:-//Vakok és Gyengénlátók Közép-Magyarországi Regionális Egyesülete - ECPv6.15.20//NONSGML v1.0//EN
CALSCALE:GREGORIAN
METHOD:PUBLISH
X-ORIGINAL-URL:https://vgyke.com
X-WR-CALDESC:Események Vakok és Gyengénlátók Közép-Magyarországi Regionális Egyesülete
REFRESH-INTERVAL;VALUE=DURATION:PT1H
X-Robots-Tag:noindex
X-PUBLISHED-TTL:PT1H
BEGIN:VTIMEZONE
TZID:Europe/Budapest
BEGIN:DAYLIGHT
TZOFFSETFROM:+0100
TZOFFSETTO:+0200
TZNAME:CEST
DTSTART:20220327T010000
END:DAYLIGHT
BEGIN:STANDARD
TZOFFSETFROM:+0200
TZOFFSETTO:+0100
TZNAME:CET
DTSTART:20221030T010000
END:STANDARD
BEGIN:DAYLIGHT
TZOFFSETFROM:+0100
TZOFFSETTO:+0200
TZNAME:CEST
DTSTART:20230326T010000
END:DAYLIGHT
BEGIN:STANDARD
TZOFFSETFROM:+0200
TZOFFSETTO:+0100
TZNAME:CET
DTSTART:20231029T010000
END:STANDARD
BEGIN:DAYLIGHT
TZOFFSETFROM:+0100
TZOFFSETTO:+0200
TZNAME:CEST
DTSTART:20240331T010000
END:DAYLIGHT
BEGIN:STANDARD
TZOFFSETFROM:+0200
TZOFFSETTO:+0100
TZNAME:CET
DTSTART:20241027T010000
END:STANDARD
END:VTIMEZONE
BEGIN:VEVENT
DTSTART;TZID=Europe/Budapest:20230216T140000
DTEND;TZID=Europe/Budapest:20230216T160000
DTSTAMP:20260423T212058
CREATED:20230623T151054Z
LAST-MODIFIED:20230623T151054Z
UID:32992-1676556000-1676563200@vgyke.com
SUMMARY:Farsang és ismerkedés Erzsébetvárosban
DESCRIPTION:A jelenlévők megismerkedhetnek egymással és a farsang történetével játékos formában
URL:https://vgyke.com/event/farsang-es-ismerkedes-erzsebetvarosban/
LOCATION:KlauDió Civil Központ\, Nagydiófa utca 34.\, Budapest\, 1077
ORGANIZER;CN="J%C3%A1nosi Veronika":MAILTO:erzsebetvaros.szervezo@vgyke.com
END:VEVENT
BEGIN:VEVENT
DTSTART;TZID=Europe/Budapest:20230216T173000
DTEND;TZID=Europe/Budapest:20230216T203000
DTSTAMP:20260423T212058
CREATED:20230705T133237Z
LAST-MODIFIED:20230705T133237Z
UID:33210-1676568600-1676579400@vgyke.com
SUMMARY:Fényből szőtt álmok - kirándulás a Lumina Parkba
DESCRIPTION:Szeretettel hívunk a margitszigeti Palatinus fürdő területén már csak február folyamán megtekinthető Lumina Parkba\, ahol felejthetetlen világkörüli sétát tehetsz egy különleges\, fény és hangjáték által létrehozott mesebeli világban! A parkban 19 lélegzetelállító helyszín varázsol el\, és 3 művész 4 egyedi installációja is megtalálható a mintegy 1800 méteres\, szinte valamennyi állomásán rámpákkal akadálymentesített sétányon. A sötétben megelevenednek előttünk Földünk kontinensei és annak csodálatos állatvilága\, nevezetességei.\nA séta tervezett időtartama 120 perc\, a csoport létszáma legfeljebb 20 fő.
URL:https://vgyke.com/event/fenybol-szott-almok-kirandulas-a-lumina-parkba/
LOCATION:Lumina Park Budapest – 1003 Budapest\, Soós Rezső stny. 1. (Palatinus fürdő)
ORGANIZER;CN="Murg%C3%A1cs J%C3%A1nosn%C3%A9":MAILTO:ujpest.szervezo@vgyke.com
END:VEVENT
END:VCALENDAR