BEGIN:VCALENDAR
VERSION:2.0
PRODID:-//Vakok és Gyengénlátók Közép-Magyarországi Regionális Egyesülete - ECPv6.15.20//NONSGML v1.0//EN
CALSCALE:GREGORIAN
METHOD:PUBLISH
X-WR-CALNAME:Vakok és Gyengénlátók Közép-Magyarországi Regionális Egyesülete
X-ORIGINAL-URL:https://vgyke.com
X-WR-CALDESC:Események Vakok és Gyengénlátók Közép-Magyarországi Regionális Egyesülete
REFRESH-INTERVAL;VALUE=DURATION:PT1H
X-Robots-Tag:noindex
X-PUBLISHED-TTL:PT1H
BEGIN:VTIMEZONE
TZID:Europe/Budapest
BEGIN:DAYLIGHT
TZOFFSETFROM:+0100
TZOFFSETTO:+0200
TZNAME:CEST
DTSTART:20220327T010000
END:DAYLIGHT
BEGIN:STANDARD
TZOFFSETFROM:+0200
TZOFFSETTO:+0100
TZNAME:CET
DTSTART:20221030T010000
END:STANDARD
BEGIN:DAYLIGHT
TZOFFSETFROM:+0100
TZOFFSETTO:+0200
TZNAME:CEST
DTSTART:20230326T010000
END:DAYLIGHT
BEGIN:STANDARD
TZOFFSETFROM:+0200
TZOFFSETTO:+0100
TZNAME:CET
DTSTART:20231029T010000
END:STANDARD
BEGIN:DAYLIGHT
TZOFFSETFROM:+0100
TZOFFSETTO:+0200
TZNAME:CEST
DTSTART:20240331T010000
END:DAYLIGHT
BEGIN:STANDARD
TZOFFSETFROM:+0200
TZOFFSETTO:+0100
TZNAME:CET
DTSTART:20241027T010000
END:STANDARD
END:VTIMEZONE
BEGIN:VEVENT
DTSTART;TZID=Europe/Budapest:20230217T100000
DTEND;TZID=Europe/Budapest:20230217T120000
DTSTAMP:20260423T211935
CREATED:20230703T142928Z
LAST-MODIFIED:20230703T142928Z
UID:33186-1676628000-1676635200@vgyke.com
SUMMARY:Lakásklubot tartottunk farsangi hangulatban.
DESCRIPTION:Farsangi szokásokról beszélgettünk a tagokkal. Felidéztük régi kedves emlékeinket\, és közben farsangi fánkot fogyasztottunk.
URL:https://vgyke.com/event/lakasklubot-tartottunk-farsangi-hangulatban/
ORGANIZER;CN="Vasn%C3%A9 Pint%C3%A9r Ter%C3%A9z":MAILTO:obuda.szervezo@vgyke.com
END:VEVENT
BEGIN:VEVENT
DTSTART;TZID=Europe/Budapest:20230217T100000
DTEND;TZID=Europe/Budapest:20230217T130000
DTSTAMP:20260423T211935
CREATED:20230623T150155Z
LAST-MODIFIED:20230627T075338Z
UID:32985-1676628000-1676638800@vgyke.com
SUMMARY:Látogatás  a Vakok Iskolája Péktanműhelyében
DESCRIPTION:A résztvevők megismerkedhetnek a látássérültek számára Budapesten elérhető pékrésszakképzés történetével és tanítási módszereivel.
URL:https://vgyke.com/event/latogatas-a-vakok-iskolaja-pektanmuhelyeben/
LOCATION:Vakok Iskolája\, Ajtósi Dűrer Sor 39.\, Budapest\, 1146
ORGANIZER;CN="Duplinszki Katalin":MAILTO:kobanya.szervezo@vgyke.com
END:VEVENT
BEGIN:VEVENT
DTSTART;TZID=Europe/Budapest:20230217T100000
DTEND;TZID=Europe/Budapest:20230217T130000
DTSTAMP:20260423T211935
CREATED:20230627T080036Z
LAST-MODIFIED:20230627T080149Z
UID:33016-1676628000-1676638800@vgyke.com
SUMMARY:Látogatás  a Vakok Iskolája Péktanműhelyében
DESCRIPTION:A résztvevők megismerkedhetnek a látássérültek számára Budapesten elérhető pékrésszakképzés történetével és tanítási módszereivel.
URL:https://vgyke.com/event/latogatas-a-vakok-iskolaja-pektanmuhelyeben-3/
LOCATION:Vakok Iskolája\, Ajtósi Dűrer Sor 39.\, Budapest\, 1146
ORGANIZER;CN="J%C3%A1nosi Veronika":MAILTO:erzsebetvaros.szervezo@vgyke.com
END:VEVENT
END:VCALENDAR