BEGIN:VCALENDAR
VERSION:2.0
PRODID:-//Vakok és Gyengénlátók Közép-Magyarországi Regionális Egyesülete - ECPv6.15.20//NONSGML v1.0//EN
CALSCALE:GREGORIAN
METHOD:PUBLISH
X-ORIGINAL-URL:https://vgyke.com
X-WR-CALDESC:Események Vakok és Gyengénlátók Közép-Magyarországi Regionális Egyesülete
REFRESH-INTERVAL;VALUE=DURATION:PT1H
X-Robots-Tag:noindex
X-PUBLISHED-TTL:PT1H
BEGIN:VTIMEZONE
TZID:Europe/Budapest
BEGIN:DAYLIGHT
TZOFFSETFROM:+0100
TZOFFSETTO:+0200
TZNAME:CEST
DTSTART:20220327T010000
END:DAYLIGHT
BEGIN:STANDARD
TZOFFSETFROM:+0200
TZOFFSETTO:+0100
TZNAME:CET
DTSTART:20221030T010000
END:STANDARD
BEGIN:DAYLIGHT
TZOFFSETFROM:+0100
TZOFFSETTO:+0200
TZNAME:CEST
DTSTART:20230326T010000
END:DAYLIGHT
BEGIN:STANDARD
TZOFFSETFROM:+0200
TZOFFSETTO:+0100
TZNAME:CET
DTSTART:20231029T010000
END:STANDARD
BEGIN:DAYLIGHT
TZOFFSETFROM:+0100
TZOFFSETTO:+0200
TZNAME:CEST
DTSTART:20240331T010000
END:DAYLIGHT
BEGIN:STANDARD
TZOFFSETFROM:+0200
TZOFFSETTO:+0100
TZNAME:CET
DTSTART:20241027T010000
END:STANDARD
END:VTIMEZONE
BEGIN:VEVENT
DTSTART;TZID=Europe/Budapest:20230301T150000
DTEND;TZID=Europe/Budapest:20230301T170000
DTSTAMP:20260423T195439
CREATED:20230705T133604Z
LAST-MODIFIED:20230705T133821Z
UID:33213-1677682800-1677690000@vgyke.com
SUMMARY:Márciusi Klubnap
DESCRIPTION:Szeretettel hívunk márciusi klubnapunkra\, melynek témája a bűnmegelőzés\, a legújabb bűnözői trükkök\, ezek megismerése\, kivédése.\nVendégünk Varga Brigitta főtörzszászlós kmb.\, akit február elején tüntetett ki a Rendészeti Országos Rendőrkapitány-helyettes a 2022-es „Iskola rendőre” programban nyújtott kiemelkedő teljesítményéért. Ezúttal is a tőle megszokott élvezetes és informatív előadás keretében mesél a különféle átverésekről\, csalásokról\, tanulságos bűnesetekről – elkerülendő\, hogy áldozatul essünk ezeknek.\nA klub második felében pedig az Ayala Együttes játszik majd\, zenével ünnepelve a tél végét\, a tavasz kezdetét\, a találkozást.\nVárjuk minden kedves tagunkat\, családtagjaikat és kísérőiket! A klub nyitott és nyilvános\, minden érdeklődőt szívesen látunk!
URL:https://vgyke.com/event/marciusi-klubnap/
LOCATION:Újpesti Ifjúsági Ház 1042 Budapest István út 17-19
ORGANIZER;CN="Murg%C3%A1cs J%C3%A1nosn%C3%A9":MAILTO:ujpest.szervezo@vgyke.com
END:VEVENT
END:VCALENDAR