BEGIN:VCALENDAR
VERSION:2.0
PRODID:-//Vakok és Gyengénlátók Közép-Magyarországi Regionális Egyesülete - ECPv6.15.20//NONSGML v1.0//EN
CALSCALE:GREGORIAN
METHOD:PUBLISH
X-WR-CALNAME:Vakok és Gyengénlátók Közép-Magyarországi Regionális Egyesülete
X-ORIGINAL-URL:https://vgyke.com
X-WR-CALDESC:Események Vakok és Gyengénlátók Közép-Magyarországi Regionális Egyesülete
REFRESH-INTERVAL;VALUE=DURATION:PT1H
X-Robots-Tag:noindex
X-PUBLISHED-TTL:PT1H
BEGIN:VTIMEZONE
TZID:Europe/Budapest
BEGIN:DAYLIGHT
TZOFFSETFROM:+0100
TZOFFSETTO:+0200
TZNAME:CEST
DTSTART:20220327T010000
END:DAYLIGHT
BEGIN:STANDARD
TZOFFSETFROM:+0200
TZOFFSETTO:+0100
TZNAME:CET
DTSTART:20221030T010000
END:STANDARD
BEGIN:DAYLIGHT
TZOFFSETFROM:+0100
TZOFFSETTO:+0200
TZNAME:CEST
DTSTART:20230326T010000
END:DAYLIGHT
BEGIN:STANDARD
TZOFFSETFROM:+0200
TZOFFSETTO:+0100
TZNAME:CET
DTSTART:20231029T010000
END:STANDARD
BEGIN:DAYLIGHT
TZOFFSETFROM:+0100
TZOFFSETTO:+0200
TZNAME:CEST
DTSTART:20240331T010000
END:DAYLIGHT
BEGIN:STANDARD
TZOFFSETFROM:+0200
TZOFFSETTO:+0100
TZNAME:CET
DTSTART:20241027T010000
END:STANDARD
END:VTIMEZONE
BEGIN:VEVENT
DTSTART;TZID=Europe/Budapest:20230320T100000
DTEND;TZID=Europe/Budapest:20230320T140000
DTSTAMP:20260423T195310
CREATED:20230619T175155Z
LAST-MODIFIED:20230619T175226Z
UID:32917-1679306400-1679320800@vgyke.com
SUMMARY:Látogatás a Budapest Retro Élményközpontba
DESCRIPTION:Egy élménydús\, interaktív időutazásra hívunk.\nGyere és próbáld ki milyen egy Lada rendőrautóval járőrözni a Gazdagréti lakótelepen\, nézd meg mi mindent vitt magával az űrbe Farkas Bertalan\, hallgass korabeli vicceket\, kabarékat telefonfülkében\, próbáld ki magad bemondóként a korabeli Híradó stúdiójában. A 3 szintes ultramodern létesítmény még számtalan élményt kínál. Ha időutazásod során megéheznél\, vagy egy italra vágysz\, vár az Élményközpont Bisztrója sok-sok retro finomsággal.
URL:https://vgyke.com/event/latogatas-a-budapest-retro-elmenykozpontba/
LOCATION:Budapest Retro Élményközpont\, Október 6. utca 4.\, Budapest\, 1051
ORGANIZER;CN="P%C3%A1zm%C3%A1n Krisztina":MAILTO:18.kerulet.szervezo@vgyke.com
END:VEVENT
BEGIN:VEVENT
DTSTART;TZID=Europe/Budapest:20230320T150000
DTEND;TZID=Europe/Budapest:20230320T163000
DTSTAMP:20260423T195310
CREATED:20230628T145722Z
LAST-MODIFIED:20230628T145722Z
UID:33055-1679324400-1679329800@vgyke.com
SUMMARY:Szülinapoztunk
DESCRIPTION:A XVI. Kerületi klub 5. szülinapját ünnepelte\, mely keretében beszélgettünk\, süteményeztünk\, és egy nagyon kedves tagunk egy saját készítésű ajándékkal is meglepett bennünket.
URL:https://vgyke.com/event/szulinapoztunk/
LOCATION:Napraforgó Központ\, Cziráki utca 22. 1. emelet\, klubterem\, Budapest\, 1163
ORGANIZER;CN="Koll%C3%A1rszki Bogl%C3%A1rka":MAILTO:csepel.szervezo@vgyke.com
END:VEVENT
END:VCALENDAR