BEGIN:VCALENDAR
VERSION:2.0
PRODID:-//Vakok és Gyengénlátók Közép-Magyarországi Regionális Egyesülete - ECPv6.15.20//NONSGML v1.0//EN
CALSCALE:GREGORIAN
METHOD:PUBLISH
X-ORIGINAL-URL:https://vgyke.com
X-WR-CALDESC:Események Vakok és Gyengénlátók Közép-Magyarországi Regionális Egyesülete
REFRESH-INTERVAL;VALUE=DURATION:PT1H
X-Robots-Tag:noindex
X-PUBLISHED-TTL:PT1H
BEGIN:VTIMEZONE
TZID:Europe/Budapest
BEGIN:DAYLIGHT
TZOFFSETFROM:+0100
TZOFFSETTO:+0200
TZNAME:CEST
DTSTART:20220327T010000
END:DAYLIGHT
BEGIN:STANDARD
TZOFFSETFROM:+0200
TZOFFSETTO:+0100
TZNAME:CET
DTSTART:20221030T010000
END:STANDARD
BEGIN:DAYLIGHT
TZOFFSETFROM:+0100
TZOFFSETTO:+0200
TZNAME:CEST
DTSTART:20230326T010000
END:DAYLIGHT
BEGIN:STANDARD
TZOFFSETFROM:+0200
TZOFFSETTO:+0100
TZNAME:CET
DTSTART:20231029T010000
END:STANDARD
BEGIN:DAYLIGHT
TZOFFSETFROM:+0100
TZOFFSETTO:+0200
TZNAME:CEST
DTSTART:20240331T010000
END:DAYLIGHT
BEGIN:STANDARD
TZOFFSETFROM:+0200
TZOFFSETTO:+0100
TZNAME:CET
DTSTART:20241027T010000
END:STANDARD
END:VTIMEZONE
BEGIN:VEVENT
DTSTART;TZID=Europe/Budapest:20230326T190000
DTEND;TZID=Europe/Budapest:20230326T210000
DTSTAMP:20260423T195454
CREATED:20230619T180224Z
LAST-MODIFIED:20230619T180224Z
UID:32923-1679857200-1679864400@vgyke.com
SUMMARY:Grecsó Krisztián: Vera - audionarrált színházi előadás a Pinceszínházban
DESCRIPTION:„Egy kislány a nyolcvanas évek Magyarországán. Figyel\, tanul. Tanulja a világot\, aminek a megértése bármikor nagy feladat lenne\, de ebben az évtizedben különösen is az. Tanulja a többi gyereket\, hogy miben olyan\, és miben más\, mint azok. Tanulja a felnőtteket\, akikkel (egyre inkább úgy érzi) nem stimmel valami. És ahogy elmerül a sok kis részletben\, szépen lassan világossá válik számára: a körülötte lévők nem mondanak igazat…„\nA Kőszegi Várszínház produkciója.\nAudionarrátor: Baksa-Szerecz Zsófia. Színpadbejárás nincs.
URL:https://vgyke.com/event/grecso-krisztian-vera-audionarralt-szinhazi-eloadas-a-pinceszinhazban/
LOCATION:Pinceszínház\, Török Pál u. 3.\, Budapest\, 1093
ORGANIZER;CN="P%C3%A1zm%C3%A1n Krisztina":MAILTO:18.kerulet.szervezo@vgyke.com
END:VEVENT
END:VCALENDAR