BEGIN:VCALENDAR
VERSION:2.0
PRODID:-//Vakok és Gyengénlátók Közép-Magyarországi Regionális Egyesülete - ECPv6.15.20//NONSGML v1.0//EN
CALSCALE:GREGORIAN
METHOD:PUBLISH
X-WR-CALNAME:Vakok és Gyengénlátók Közép-Magyarországi Regionális Egyesülete
X-ORIGINAL-URL:https://vgyke.com
X-WR-CALDESC:Események Vakok és Gyengénlátók Közép-Magyarországi Regionális Egyesülete
REFRESH-INTERVAL;VALUE=DURATION:PT1H
X-Robots-Tag:noindex
X-PUBLISHED-TTL:PT1H
BEGIN:VTIMEZONE
TZID:Europe/Budapest
BEGIN:DAYLIGHT
TZOFFSETFROM:+0100
TZOFFSETTO:+0200
TZNAME:CEST
DTSTART:20220327T010000
END:DAYLIGHT
BEGIN:STANDARD
TZOFFSETFROM:+0200
TZOFFSETTO:+0100
TZNAME:CET
DTSTART:20221030T010000
END:STANDARD
BEGIN:DAYLIGHT
TZOFFSETFROM:+0100
TZOFFSETTO:+0200
TZNAME:CEST
DTSTART:20230326T010000
END:DAYLIGHT
BEGIN:STANDARD
TZOFFSETFROM:+0200
TZOFFSETTO:+0100
TZNAME:CET
DTSTART:20231029T010000
END:STANDARD
BEGIN:DAYLIGHT
TZOFFSETFROM:+0100
TZOFFSETTO:+0200
TZNAME:CEST
DTSTART:20240331T010000
END:DAYLIGHT
BEGIN:STANDARD
TZOFFSETFROM:+0200
TZOFFSETTO:+0100
TZNAME:CET
DTSTART:20241027T010000
END:STANDARD
END:VTIMEZONE
BEGIN:VEVENT
DTSTART;TZID=Europe/Budapest:20230404T090000
DTEND;TZID=Europe/Budapest:20230404T120000
DTSTAMP:20260423T181442
CREATED:20230616T154127Z
LAST-MODIFIED:20230616T154127Z
UID:32858-1680598800-1680609600@vgyke.com
SUMMARY:2023.04.04-Tolerancia nap
DESCRIPTION:A VGYKE a IX. kerületi Politechnikumban szemléletformálás
URL:https://vgyke.com/event/2023-04-04-tolerancia-nap/
END:VEVENT
BEGIN:VEVENT
DTSTART;TZID=Europe/Budapest:20230404T140000
DTEND;TZID=Europe/Budapest:20230404T163000
DTSTAMP:20260423T181442
CREATED:20230702T082806Z
LAST-MODIFIED:20230702T082806Z
UID:33092-1680616800-1680625800@vgyke.com
SUMMARY:klubnap
DESCRIPTION:Szalai Tünde kollégánk költői\, írói munkásságát mutatta be
URL:https://vgyke.com/event/klubnap-2/
LOCATION:Rákoshegyi Közösségi Ház\, Podmaniczky Zs. u. 3.\, Budapest\, 1174
END:VEVENT
END:VCALENDAR