BEGIN:VCALENDAR
VERSION:2.0
PRODID:-//Vakok és Gyengénlátók Közép-Magyarországi Regionális Egyesülete - ECPv6.15.20//NONSGML v1.0//EN
CALSCALE:GREGORIAN
METHOD:PUBLISH
X-WR-CALNAME:Vakok és Gyengénlátók Közép-Magyarországi Regionális Egyesülete
X-ORIGINAL-URL:https://vgyke.com
X-WR-CALDESC:Események Vakok és Gyengénlátók Közép-Magyarországi Regionális Egyesülete
REFRESH-INTERVAL;VALUE=DURATION:PT1H
X-Robots-Tag:noindex
X-PUBLISHED-TTL:PT1H
BEGIN:VTIMEZONE
TZID:Europe/Budapest
BEGIN:DAYLIGHT
TZOFFSETFROM:+0100
TZOFFSETTO:+0200
TZNAME:CEST
DTSTART:20220327T010000
END:DAYLIGHT
BEGIN:STANDARD
TZOFFSETFROM:+0200
TZOFFSETTO:+0100
TZNAME:CET
DTSTART:20221030T010000
END:STANDARD
BEGIN:DAYLIGHT
TZOFFSETFROM:+0100
TZOFFSETTO:+0200
TZNAME:CEST
DTSTART:20230326T010000
END:DAYLIGHT
BEGIN:STANDARD
TZOFFSETFROM:+0200
TZOFFSETTO:+0100
TZNAME:CET
DTSTART:20231029T010000
END:STANDARD
BEGIN:DAYLIGHT
TZOFFSETFROM:+0100
TZOFFSETTO:+0200
TZNAME:CEST
DTSTART:20240331T010000
END:DAYLIGHT
BEGIN:STANDARD
TZOFFSETFROM:+0200
TZOFFSETTO:+0100
TZNAME:CET
DTSTART:20241027T010000
END:STANDARD
END:VTIMEZONE
BEGIN:VEVENT
DTSTART;TZID=Europe/Budapest:20230405T080000
DTEND;TZID=Europe/Budapest:20230405T130000
DTSTAMP:20260423T181516
CREATED:20230705T151142Z
LAST-MODIFIED:20230705T151548Z
UID:33277-1680681600-1680699600@vgyke.com
SUMMARY:Szemléletformálás a XIII. Hunyadi Mátyás Általános Iskolában
DESCRIPTION:Tájékoztattuk a gyerekeket a kutyakiképzés folyamatáról és költségeiről\, illetve\, hogy hol tartanak kutyakiképzést. Beszéltünk a beszélő okostelefon és számítógépek használatáról\, a vakvezető kutyával és a fehér bottal való közlekedésről is\, valamint a segítségnyújtás formáiról.
URL:https://vgyke.com/event/szemleletformalas-a-xiii-hunyadi-matyas-altalanos-iskolaban/
LOCATION:1138. Karikás Frigyes u. 3.
ORGANIZER;CN="Majl%C3%A1th M%C3%B3nika":MAILTO:angyalfold.szervezo@vgyke.com
END:VEVENT
BEGIN:VEVENT
DTSTART;TZID=Europe/Budapest:20230405T150000
DTEND;TZID=Europe/Budapest:20230405T170000
DTSTAMP:20260423T181516
CREATED:20230705T134300Z
LAST-MODIFIED:20230705T134300Z
UID:33218-1680706800-1680714000@vgyke.com
SUMMARY:Áprilisi klub - Egy újpesti orvos nyomában
DESCRIPTION:Szeretettel hívunk áprilisi klubnapunkra\, amely vendége Bernolák Béla író-fényképész.\n1943. január 12-én kezdődött meg a Don-kanyarban a szovjet áttörés. A Magyar Királyi 2. Honvéd Hadsereg katonáinak -40 fokos hidegben\, nyári hadfelszerelésben\, nehéz fegyverzet nélkül kellett megtartaniuk a több\, mint 200 kilométeres frontvonalat. A kilátástalan helyzet ellenére napokig védték állásaikat\, ám a védvonal végül összeroppant a túlerő nyomásától.\nA harcokban és a hosszú visszavonulás alatt 100-120 ezer magyar katona vesztette életét\, köztük egy újpesti családorvos\, dr. Bernolák Béla is. Unokája az ő sorsát kutatva kétszer is járt a Don-kanyarban és a voronyezsi katonai temetőben; ezekről az utakról és a kutatásról mesél majd nekünk. Fényképeiből több kiállítás\, illetve egy kisfilm is készült\, amit lehetőségünk lesz a klubon megtekinteni.
URL:https://vgyke.com/event/aprilisi-klub-egy-ujpesti-orvos-nyomaban/
LOCATION:Újpesti Ifjúsági Ház 1042 Budapest István út 17-19
ORGANIZER;CN="Murg%C3%A1cs J%C3%A1nosn%C3%A9":MAILTO:ujpest.szervezo@vgyke.com
END:VEVENT
END:VCALENDAR