BEGIN:VCALENDAR
VERSION:2.0
PRODID:-//Vakok és Gyengénlátók Közép-Magyarországi Regionális Egyesülete - ECPv6.15.20//NONSGML v1.0//EN
CALSCALE:GREGORIAN
METHOD:PUBLISH
X-WR-CALNAME:Vakok és Gyengénlátók Közép-Magyarországi Regionális Egyesülete
X-ORIGINAL-URL:https://vgyke.com
X-WR-CALDESC:Események Vakok és Gyengénlátók Közép-Magyarországi Regionális Egyesülete
REFRESH-INTERVAL;VALUE=DURATION:PT1H
X-Robots-Tag:noindex
X-PUBLISHED-TTL:PT1H
BEGIN:VTIMEZONE
TZID:Europe/Budapest
BEGIN:DAYLIGHT
TZOFFSETFROM:+0100
TZOFFSETTO:+0200
TZNAME:CEST
DTSTART:20220327T010000
END:DAYLIGHT
BEGIN:STANDARD
TZOFFSETFROM:+0200
TZOFFSETTO:+0100
TZNAME:CET
DTSTART:20221030T010000
END:STANDARD
BEGIN:DAYLIGHT
TZOFFSETFROM:+0100
TZOFFSETTO:+0200
TZNAME:CEST
DTSTART:20230326T010000
END:DAYLIGHT
BEGIN:STANDARD
TZOFFSETFROM:+0200
TZOFFSETTO:+0100
TZNAME:CET
DTSTART:20231029T010000
END:STANDARD
BEGIN:DAYLIGHT
TZOFFSETFROM:+0100
TZOFFSETTO:+0200
TZNAME:CEST
DTSTART:20240331T010000
END:DAYLIGHT
BEGIN:STANDARD
TZOFFSETFROM:+0200
TZOFFSETTO:+0100
TZNAME:CET
DTSTART:20241027T010000
END:STANDARD
END:VTIMEZONE
BEGIN:VEVENT
DTSTART;TZID=Europe/Budapest:20230421T100000
DTEND;TZID=Europe/Budapest:20230421T120000
DTSTAMP:20260423T181442
CREATED:20230703T141903Z
LAST-MODIFIED:20230703T141903Z
UID:33177-1682071200-1682078400@vgyke.com
SUMMARY:Klubnap vendége: Bartolf Zsuzsanna népdalénekes és Horváth Attila harmonikaművész
DESCRIPTION:Költészet napja alkalmából verseket hallgattunk. Utána Zsuzsi kedvelt népdalokat énekelt\, Attila harmónikán kísérte.
URL:https://vgyke.com/event/klubnap-vendege-bartolf-zsuzsanna-nepdalenekes-es-horvath-attila-harmonikamuvesz/
LOCATION:Békásmegyeri Közösségi Ház\, Csobánka tér 5.\, Budapest\,\, 1039
ORGANIZER;CN="Vasn%C3%A9 Pint%C3%A9r Ter%C3%A9z":MAILTO:obuda.szervezo@vgyke.com
END:VEVENT
END:VCALENDAR