BEGIN:VCALENDAR
VERSION:2.0
PRODID:-//Vakok és Gyengénlátók Közép-Magyarországi Regionális Egyesülete - ECPv6.15.20//NONSGML v1.0//EN
CALSCALE:GREGORIAN
METHOD:PUBLISH
X-WR-CALNAME:Vakok és Gyengénlátók Közép-Magyarországi Regionális Egyesülete
X-ORIGINAL-URL:https://vgyke.com
X-WR-CALDESC:Események Vakok és Gyengénlátók Közép-Magyarországi Regionális Egyesülete
REFRESH-INTERVAL;VALUE=DURATION:PT1H
X-Robots-Tag:noindex
X-PUBLISHED-TTL:PT1H
BEGIN:VTIMEZONE
TZID:Europe/Budapest
BEGIN:DAYLIGHT
TZOFFSETFROM:+0100
TZOFFSETTO:+0200
TZNAME:CEST
DTSTART:20220327T010000
END:DAYLIGHT
BEGIN:STANDARD
TZOFFSETFROM:+0200
TZOFFSETTO:+0100
TZNAME:CET
DTSTART:20221030T010000
END:STANDARD
BEGIN:DAYLIGHT
TZOFFSETFROM:+0100
TZOFFSETTO:+0200
TZNAME:CEST
DTSTART:20230326T010000
END:DAYLIGHT
BEGIN:STANDARD
TZOFFSETFROM:+0200
TZOFFSETTO:+0100
TZNAME:CET
DTSTART:20231029T010000
END:STANDARD
BEGIN:DAYLIGHT
TZOFFSETFROM:+0100
TZOFFSETTO:+0200
TZNAME:CEST
DTSTART:20240331T010000
END:DAYLIGHT
BEGIN:STANDARD
TZOFFSETFROM:+0200
TZOFFSETTO:+0100
TZNAME:CET
DTSTART:20241027T010000
END:STANDARD
END:VTIMEZONE
BEGIN:VEVENT
DTSTART;TZID=Europe/Budapest:20230501T100000
DTEND;TZID=Europe/Budapest:20230501T140000
DTSTAMP:20260423T165443
CREATED:20230702T083122Z
LAST-MODIFIED:20230702T083122Z
UID:33094-1682935200-1682949600@vgyke.com
SUMMARY:program
DESCRIPTION:Hagyományosan részt veszünk a kerületi majálison\, ahol az érdeklődők megismerkedtek a vakos játékokkal és a Braille írással
URL:https://vgyke.com/event/program-3/
LOCATION:Rákoskeresztúr\, Népkert\, 1173
END:VEVENT
BEGIN:VEVENT
DTSTART;TZID=Europe/Budapest:20230501T100000
DTEND;TZID=Europe/Budapest:20230501T153000
DTSTAMP:20260423T165443
CREATED:20230628T142559Z
LAST-MODIFIED:20230628T142559Z
UID:33042-1682935200-1682955000@vgyke.com
SUMMARY:Szemléletformálás az Erzsébet ligetben
DESCRIPTION:A Kertvárosi Majálisra települt ki a VGYKE. Interaktív játékokkal és vakvezető kutya-simogatással készültünk erre a programra.
URL:https://vgyke.com/event/szemleletformalas-az-erzsebet-ligetben/
LOCATION:Erzsébet liget\, Budapest\, 1165
ORGANIZER;CN="Koll%C3%A1rszki Bogl%C3%A1rka":MAILTO:csepel.szervezo@vgyke.com
END:VEVENT
END:VCALENDAR