BEGIN:VCALENDAR
VERSION:2.0
PRODID:-//Vakok és Gyengénlátók Közép-Magyarországi Regionális Egyesülete - ECPv6.15.20//NONSGML v1.0//EN
CALSCALE:GREGORIAN
METHOD:PUBLISH
X-ORIGINAL-URL:https://vgyke.com
X-WR-CALDESC:Események Vakok és Gyengénlátók Közép-Magyarországi Regionális Egyesülete
REFRESH-INTERVAL;VALUE=DURATION:PT1H
X-Robots-Tag:noindex
X-PUBLISHED-TTL:PT1H
BEGIN:VTIMEZONE
TZID:Europe/Budapest
BEGIN:DAYLIGHT
TZOFFSETFROM:+0100
TZOFFSETTO:+0200
TZNAME:CEST
DTSTART:20220327T010000
END:DAYLIGHT
BEGIN:STANDARD
TZOFFSETFROM:+0200
TZOFFSETTO:+0100
TZNAME:CET
DTSTART:20221030T010000
END:STANDARD
BEGIN:DAYLIGHT
TZOFFSETFROM:+0100
TZOFFSETTO:+0200
TZNAME:CEST
DTSTART:20230326T010000
END:DAYLIGHT
BEGIN:STANDARD
TZOFFSETFROM:+0200
TZOFFSETTO:+0100
TZNAME:CET
DTSTART:20231029T010000
END:STANDARD
BEGIN:DAYLIGHT
TZOFFSETFROM:+0100
TZOFFSETTO:+0200
TZNAME:CEST
DTSTART:20240331T010000
END:DAYLIGHT
BEGIN:STANDARD
TZOFFSETFROM:+0200
TZOFFSETTO:+0100
TZNAME:CET
DTSTART:20241027T010000
END:STANDARD
END:VTIMEZONE
BEGIN:VEVENT
DTSTART;TZID=Europe/Budapest:20230503T150000
DTEND;TZID=Europe/Budapest:20230503T170000
DTSTAMP:20260423T165638
CREATED:20230705T135257Z
LAST-MODIFIED:20230705T135257Z
UID:33225-1683126000-1683133200@vgyke.com
SUMMARY:Tavaszi tere-fere
DESCRIPTION:Szeretettel hívunk májusi klubnapunkra\, melyen megbeszéljük a májusra tervezett\, klubunk 10 éves fennállását ünneplő bográcsolás részleteit. Akik nem tudtak részt venni\, azoknak elmeséljük az elmúlt hónap eseményeit\, és kíváncsiak vagyunk arra is\, kivel mi történt áprilisban\, mit tervez májusra…\nMindemellett\, nem felejtve el az ígéretet\, amelyet a legutóbbi kirándulásunk végén rögtönzött hanami (azaz cseresznyevirág-nézés) során tettünk: megismerhetitek a japán díszcseresznye virágának és levelének ízvilágát tea és szakuravirággal készült édesség formájában.\nVárjuk minden kedves tagunkat\, családtagjaikat\, barátaikat és kísérőiket!
URL:https://vgyke.com/event/tavaszi-tere-fere/
LOCATION:Újpesti Ifjúsági Ház 1042 Budapest István út 17-19
ORGANIZER;CN="Murg%C3%A1cs J%C3%A1nosn%C3%A9":MAILTO:ujpest.szervezo@vgyke.com
END:VEVENT
END:VCALENDAR