BEGIN:VCALENDAR
VERSION:2.0
PRODID:-//Vakok és Gyengénlátók Közép-Magyarországi Regionális Egyesülete - ECPv6.15.20//NONSGML v1.0//EN
CALSCALE:GREGORIAN
METHOD:PUBLISH
X-ORIGINAL-URL:https://vgyke.com
X-WR-CALDESC:Események Vakok és Gyengénlátók Közép-Magyarországi Regionális Egyesülete
REFRESH-INTERVAL;VALUE=DURATION:PT1H
X-Robots-Tag:noindex
X-PUBLISHED-TTL:PT1H
BEGIN:VTIMEZONE
TZID:Europe/Budapest
BEGIN:DAYLIGHT
TZOFFSETFROM:+0100
TZOFFSETTO:+0200
TZNAME:CEST
DTSTART:20220327T010000
END:DAYLIGHT
BEGIN:STANDARD
TZOFFSETFROM:+0200
TZOFFSETTO:+0100
TZNAME:CET
DTSTART:20221030T010000
END:STANDARD
BEGIN:DAYLIGHT
TZOFFSETFROM:+0100
TZOFFSETTO:+0200
TZNAME:CEST
DTSTART:20230326T010000
END:DAYLIGHT
BEGIN:STANDARD
TZOFFSETFROM:+0200
TZOFFSETTO:+0100
TZNAME:CET
DTSTART:20231029T010000
END:STANDARD
BEGIN:DAYLIGHT
TZOFFSETFROM:+0100
TZOFFSETTO:+0200
TZNAME:CEST
DTSTART:20240331T010000
END:DAYLIGHT
BEGIN:STANDARD
TZOFFSETFROM:+0200
TZOFFSETTO:+0100
TZNAME:CET
DTSTART:20241027T010000
END:STANDARD
END:VTIMEZONE
BEGIN:VEVENT
DTSTART;TZID=Europe/Budapest:20230614T070000
DTEND;TZID=Europe/Budapest:20230614T200000
DTSTAMP:20260423T153155
CREATED:20230705T140153Z
LAST-MODIFIED:20230705T140153Z
UID:33232-1686726000-1686772800@vgyke.com
SUMMARY:Egy szép nyári nap Szegeden
DESCRIPTION:Szeretnénk veletek eltölteni egy tartalmas és emlékezetes szép napot.\nSzékesfehérvár\, Szolnok és Tihany után újra egy egésznapos\, buszos kirándulásra várunk:\ngyertek velünk megnézni Szeged nevezetességeit!\nSétálunk\, benézünk a dómba\, beállunk a kínai agyagkatonák elé\, elfogyasztunk egy finom ebédet egy jó kávé mellett. Hazafelé a buszon visszanézzük a fotókat\, visszaidézzük a legjobb pillanatokat és nagyokat nevetünk. \nUtazás: az Újpesti Önkormányzat által biztosított busszal \nA kirándulásra való jelentkezést emailben várjuk az ujpest.szervezo@vgyke.com email címre 2023 Június 12.-én 12:00 óráig\, illetve a míg a létszám engedi.\nTovábbi információ:\nMurgács Jánosné és Czagány Izabella\nközösségi civil szervezők\n06-30/314-9336\, 06-70/387-5261\nEmail: ujpest.szervezo@vgyke.com Kevesebb jelenjen meg
URL:https://vgyke.com/event/egy-szep-nyari-nap-szegeden/
LOCATION:Budapest- Szeged-Budapest
ORGANIZER;CN="Murg%C3%A1cs J%C3%A1nosn%C3%A9":MAILTO:ujpest.szervezo@vgyke.com
END:VEVENT
BEGIN:VEVENT
DTSTART;TZID=Europe/Budapest:20230614T140000
DTEND;TZID=Europe/Budapest:20230614T160000
DTSTAMP:20260423T153155
CREATED:20230611T191747Z
LAST-MODIFIED:20230611T191747Z
UID:32739-1686751200-1686758400@vgyke.com
SUMMARY:Hangfürdő
DESCRIPTION:A zuglói lámpásklub vezetői Hangfürdő -t szerveznek a Zuglói Civil Házban.
URL:https://vgyke.com/event/hangfurdo/
LOCATION:Zuglói Civil Ház\, Csertő park 12.\, Budapest\, 1144
ORGANIZER;CN="Kiss M%C3%A1rta":MAILTO:zuglo.szervezo@vgyke.com
END:VEVENT
BEGIN:VEVENT
DTSTART;TZID=Europe/Budapest:20230614T140000
DTEND;TZID=Europe/Budapest:20230614T160000
DTSTAMP:20260423T153155
CREATED:20230702T082212Z
LAST-MODIFIED:20230702T082212Z
UID:33088-1686751200-1686758400@vgyke.com
SUMMARY:program
DESCRIPTION:Hangfürdő – A zuglói tagokkal közösen élveztük Krayné Faragó Zsuzsanna hangfürdőjét
URL:https://vgyke.com/event/program/
LOCATION:Zuglói Civil Ház\, Csertő park 12.\, Budapest\, 1144
END:VEVENT
BEGIN:VEVENT
DTSTART;TZID=Europe/Budapest:20230614T140000
DTEND;TZID=Europe/Budapest:20230614T160000
DTSTAMP:20260423T153155
CREATED:20230703T132132Z
LAST-MODIFIED:20230703T132132Z
UID:33139-1686751200-1686758400@vgyke.com
SUMMARY:Klubnap
DESCRIPTION:Krayné Faragó Zsuzsa hangmasszőr és gong oktató tartott hangfürdőt (hangtálakkal és gonggal)
URL:https://vgyke.com/event/klubnap-12/
LOCATION:Zuglói Civil Ház\, Csertő park 12.\, Budapest\, 1144
ORGANIZER;CN="Kiss M%C3%A1rta":MAILTO:zuglo.szervezo@vgyke.com
END:VEVENT
END:VCALENDAR