BEGIN:VCALENDAR
VERSION:2.0
PRODID:-//Vakok és Gyengénlátók Közép-Magyarországi Regionális Egyesülete - ECPv6.15.20//NONSGML v1.0//EN
CALSCALE:GREGORIAN
METHOD:PUBLISH
X-ORIGINAL-URL:https://vgyke.com
X-WR-CALDESC:Események Vakok és Gyengénlátók Közép-Magyarországi Regionális Egyesülete
REFRESH-INTERVAL;VALUE=DURATION:PT1H
X-Robots-Tag:noindex
X-PUBLISHED-TTL:PT1H
BEGIN:VTIMEZONE
TZID:Europe/Budapest
BEGIN:DAYLIGHT
TZOFFSETFROM:+0100
TZOFFSETTO:+0200
TZNAME:CEST
DTSTART:20220327T010000
END:DAYLIGHT
BEGIN:STANDARD
TZOFFSETFROM:+0200
TZOFFSETTO:+0100
TZNAME:CET
DTSTART:20221030T010000
END:STANDARD
BEGIN:DAYLIGHT
TZOFFSETFROM:+0100
TZOFFSETTO:+0200
TZNAME:CEST
DTSTART:20230326T010000
END:DAYLIGHT
BEGIN:STANDARD
TZOFFSETFROM:+0200
TZOFFSETTO:+0100
TZNAME:CET
DTSTART:20231029T010000
END:STANDARD
BEGIN:DAYLIGHT
TZOFFSETFROM:+0100
TZOFFSETTO:+0200
TZNAME:CEST
DTSTART:20240331T010000
END:DAYLIGHT
BEGIN:STANDARD
TZOFFSETFROM:+0200
TZOFFSETTO:+0100
TZNAME:CET
DTSTART:20241027T010000
END:STANDARD
END:VTIMEZONE
BEGIN:VEVENT
DTSTART;TZID=Europe/Budapest:20230705T090000
DTEND;TZID=Europe/Budapest:20230705T160000
DTSTAMP:20260423T135200
CREATED:20230705T150508Z
LAST-MODIFIED:20230705T150508Z
UID:33273-1688547600-1688572800@vgyke.com
SUMMARY:Látogatás a siófoki fordított házakhoz
DESCRIPTION:Tagjainkkal ellátogatunk a siófoki fordított házakhoz.
URL:https://vgyke.com/event/latogatas-a-siofoki-forditott-hazakhoz-2/
LOCATION:Siófok\, Siófok\, Magyarország
ORGANIZER;CN="Majl%C3%A1th M%C3%B3nika":MAILTO:angyalfold.szervezo@vgyke.com
END:VEVENT
BEGIN:VEVENT
DTSTART;TZID=Europe/Budapest:20230705T150000
DTEND;TZID=Europe/Budapest:20230705T170000
DTSTAMP:20260423T135200
CREATED:20230701T085224Z
LAST-MODIFIED:20230701T085224Z
UID:33080-1688569200-1688576400@vgyke.com
SUMMARY:Beszélgetés a köz- és közlekedésbiztonságról
DESCRIPTION:Szeretettel várunk júliusi klubunkra\, melynek témája a köz- és közlekedésbiztonság. Látássérültként különösen fontossá válik a mindennapok során\, hogy megfelelő elővigyázatossággal járjuk az utcákat\, intézzük ügyeinket a valós és virtuális térben egyaránt – hiszen ép emberek is gyakran esnek bűncselekmény áldozatául\, egy fogyatékkal élő pedig fokozottan veszélyeztetettnek számít.\nTermészetesen\, félni nem kell\, az csak az életminőséget rombolná – de némi extra odafigyelés\, illetve a különféle bűnözői trükkök ismerete\, mások esteiből való tanulás hasznos lehet.\nElőadónk a már sokunk által megismert és megkedvelt Varga Brigitta főhadnagy kmb.\, aki a biztonságos közlekedésről\, életvédelemről\, valamint a legújabb online bűnözési szokásokról fog nekünk mesélni. Eddigi tapasztalatain alapján igen érdekes és tartalmas alkalomnak nézünk elébe!\nCsatlakozz hozzánk\, hogy közösen vitassuk meg a hallottakat és esetleges kérdéseid némi harapnivaló és szörp mellett!\nVárjuk minden kedves tagunkat és kísérőiket!
URL:https://vgyke.com/event/beszelgetes-a-koz-es-kozlekedesbiztonsagrol/
LOCATION:Újpesti Ifjúsági Ház\, István út 17-19\, Budapest\, 1042
ORGANIZER;CN="Murg%C3%A1cs J%C3%A1nosn%C3%A9":MAILTO:ujpest.szervezo@vgyke.com
END:VEVENT
END:VCALENDAR