BEGIN:VCALENDAR
VERSION:2.0
PRODID:-//Vakok és Gyengénlátók Közép-Magyarországi Regionális Egyesülete - ECPv6.15.20//NONSGML v1.0//EN
CALSCALE:GREGORIAN
METHOD:PUBLISH
X-ORIGINAL-URL:https://vgyke.com
X-WR-CALDESC:Események Vakok és Gyengénlátók Közép-Magyarországi Regionális Egyesülete
REFRESH-INTERVAL;VALUE=DURATION:PT1H
X-Robots-Tag:noindex
X-PUBLISHED-TTL:PT1H
BEGIN:VTIMEZONE
TZID:Europe/Budapest
BEGIN:DAYLIGHT
TZOFFSETFROM:+0100
TZOFFSETTO:+0200
TZNAME:CEST
DTSTART:20220327T010000
END:DAYLIGHT
BEGIN:STANDARD
TZOFFSETFROM:+0200
TZOFFSETTO:+0100
TZNAME:CET
DTSTART:20221030T010000
END:STANDARD
BEGIN:DAYLIGHT
TZOFFSETFROM:+0100
TZOFFSETTO:+0200
TZNAME:CEST
DTSTART:20230326T010000
END:DAYLIGHT
BEGIN:STANDARD
TZOFFSETFROM:+0200
TZOFFSETTO:+0100
TZNAME:CET
DTSTART:20231029T010000
END:STANDARD
BEGIN:DAYLIGHT
TZOFFSETFROM:+0100
TZOFFSETTO:+0200
TZNAME:CEST
DTSTART:20240331T010000
END:DAYLIGHT
BEGIN:STANDARD
TZOFFSETFROM:+0200
TZOFFSETTO:+0100
TZNAME:CET
DTSTART:20241027T010000
END:STANDARD
END:VTIMEZONE
BEGIN:VEVENT
DTSTART;TZID=Europe/Budapest:20230724T100000
DTEND;TZID=Europe/Budapest:20230724T120000
DTSTAMP:20260423T135231
CREATED:20230713T102137Z
LAST-MODIFIED:20230713T102137Z
UID:33331-1690192800-1690200000@vgyke.com
SUMMARY:Látogatás az újpesti rendőrkapitányságra
DESCRIPTION:Kedves klubtagunk\, tisztelt érdeklődő!\nLehetőségünk adódott a felújított kerületi rendőrkapitányságot. Varga Brigitta főhadnagy kíséretében megtekinteni.\nA kapitányság épületével való ismerkedés közben sok érdekességet tudhatunk meg a rendőrök munkájáról. Biztosak vagyunk benne\, hogy mindeközben életünkben hasznosítható életvédelmi illetve közbiztonsági tanácsokkal is gazdagabbak leszünk.\nA program időtartama előreláthatóan 2 óra\nIdőpont: 2023. július 24.\, 10:00-12:00\nTalálkozó: Újpest-központ metróállomás aluljáró\, 09:30-09:45 között\nHelyszín: IV. kerületi Rendőrkapitányság\n1042 Budapest\, Árpád út 87. \nA csoport maximális létszáma 25 fő\, melyet a jelentkezések sorrendjében fogunk feltölteni.\nA programra előzetes bejelentkezés szükséges legkésőbb 2023. július 19. 12:00-ig! Kísérőt sajnos csak igen korlátozott mértékben tudunk biztosítani\, ezirányú igényeiteket mindenképp jelezzétek\, vagy gondoskodjatok saját segítőről. Megértéseteket köszönjük!
URL:https://vgyke.com/event/latogatas-az-ujpesti-rendorkapitanysagra/
LOCATION:1042 Budapest\, Árpád út 87
ORGANIZER;CN="Murg%C3%A1cs J%C3%A1nosn%C3%A9":MAILTO:ujpest.szervezo@vgyke.com
END:VEVENT
END:VCALENDAR