BEGIN:VCALENDAR
VERSION:2.0
PRODID:-//Vakok és Gyengénlátók Közép-Magyarországi Regionális Egyesülete - ECPv6.15.20//NONSGML v1.0//EN
CALSCALE:GREGORIAN
METHOD:PUBLISH
X-WR-CALNAME:Vakok és Gyengénlátók Közép-Magyarországi Regionális Egyesülete
X-ORIGINAL-URL:https://vgyke.com
X-WR-CALDESC:Események Vakok és Gyengénlátók Közép-Magyarországi Regionális Egyesülete
REFRESH-INTERVAL;VALUE=DURATION:PT1H
X-Robots-Tag:noindex
X-PUBLISHED-TTL:PT1H
BEGIN:VTIMEZONE
TZID:Europe/Budapest
BEGIN:DAYLIGHT
TZOFFSETFROM:+0100
TZOFFSETTO:+0200
TZNAME:CEST
DTSTART:20220327T010000
END:DAYLIGHT
BEGIN:STANDARD
TZOFFSETFROM:+0200
TZOFFSETTO:+0100
TZNAME:CET
DTSTART:20221030T010000
END:STANDARD
BEGIN:DAYLIGHT
TZOFFSETFROM:+0100
TZOFFSETTO:+0200
TZNAME:CEST
DTSTART:20230326T010000
END:DAYLIGHT
BEGIN:STANDARD
TZOFFSETFROM:+0200
TZOFFSETTO:+0100
TZNAME:CET
DTSTART:20231029T010000
END:STANDARD
BEGIN:DAYLIGHT
TZOFFSETFROM:+0100
TZOFFSETTO:+0200
TZNAME:CEST
DTSTART:20240331T010000
END:DAYLIGHT
BEGIN:STANDARD
TZOFFSETFROM:+0200
TZOFFSETTO:+0100
TZNAME:CET
DTSTART:20241027T010000
END:STANDARD
END:VTIMEZONE
BEGIN:VEVENT
DTSTART;TZID=Europe/Budapest:20231130T160000
DTEND;TZID=Europe/Budapest:20231130T163000
DTSTAMP:20260423T064700
CREATED:20231024T072600Z
LAST-MODIFIED:20231024T072600Z
UID:34189-1701360000-1701361800@vgyke.com
SUMMARY:2. kerület novemberi online lámpás klub
DESCRIPTION:Szent Márton-napja\, és a hozzá kapcsolódó népszokások.
URL:https://vgyke.com/event/2-kerulet-novemberi-online-lampas-klub/
LOCATION:https://www.facebook.com/KozossegLampasaiMasodikKerulet
ORGANIZER;CN="T%C3%B6r%C3%B6k-Zselensky Eszter":MAILTO:2.kerulet.szervezo@vgyke.com
END:VEVENT
BEGIN:VEVENT
DTSTART;TZID=Europe/Budapest:20231130T160000
DTEND;TZID=Europe/Budapest:20231130T163000
DTSTAMP:20260423T064700
CREATED:20231024T073010Z
LAST-MODIFIED:20231024T073010Z
UID:34191-1701360000-1701361800@vgyke.com
SUMMARY:Hegyvidék novemberi online lámpás klub
DESCRIPTION:Szent Márton-napja\, és a hozzá kapcsolódó népszokások.
URL:https://vgyke.com/event/hegyvidek-novemberi-online-lampas-klub/
LOCATION:https://www.facebook.com/KozossegLampasaiHegyvidek
ORGANIZER;CN="T%C3%B6r%C3%B6k-Zselensky Eszter":MAILTO:2.kerulet.szervezo@vgyke.com
END:VEVENT
END:VCALENDAR