BEGIN:VCALENDAR
VERSION:2.0
PRODID:-//Vakok és Gyengénlátók Közép-Magyarországi Regionális Egyesülete - ECPv6.15.20//NONSGML v1.0//EN
CALSCALE:GREGORIAN
METHOD:PUBLISH
X-ORIGINAL-URL:https://vgyke.com
X-WR-CALDESC:Események Vakok és Gyengénlátók Közép-Magyarországi Regionális Egyesülete
REFRESH-INTERVAL;VALUE=DURATION:PT1H
X-Robots-Tag:noindex
X-PUBLISHED-TTL:PT1H
BEGIN:VTIMEZONE
TZID:Europe/Budapest
BEGIN:DAYLIGHT
TZOFFSETFROM:+0100
TZOFFSETTO:+0200
TZNAME:CEST
DTSTART:20230326T010000
END:DAYLIGHT
BEGIN:STANDARD
TZOFFSETFROM:+0200
TZOFFSETTO:+0100
TZNAME:CET
DTSTART:20231029T010000
END:STANDARD
BEGIN:DAYLIGHT
TZOFFSETFROM:+0100
TZOFFSETTO:+0200
TZNAME:CEST
DTSTART:20240331T010000
END:DAYLIGHT
BEGIN:STANDARD
TZOFFSETFROM:+0200
TZOFFSETTO:+0100
TZNAME:CET
DTSTART:20241027T010000
END:STANDARD
BEGIN:DAYLIGHT
TZOFFSETFROM:+0100
TZOFFSETTO:+0200
TZNAME:CEST
DTSTART:20250330T010000
END:DAYLIGHT
BEGIN:STANDARD
TZOFFSETFROM:+0200
TZOFFSETTO:+0100
TZNAME:CET
DTSTART:20251026T010000
END:STANDARD
END:VTIMEZONE
BEGIN:VEVENT
DTSTART;TZID=Europe/Budapest:20240210T110000
DTEND;TZID=Europe/Budapest:20240210T130000
DTSTAMP:20260423T041207
CREATED:20240209T162037Z
LAST-MODIFIED:20240209T162037Z
UID:34857-1707562800-1707570000@vgyke.com
SUMMARY:Cirkusz kicsit másképp
DESCRIPTION:Kedves klubtagunk\, Tisztelt érdeklődő!\nSzeretettel invitálunk Benneteket a Mezőgazdasági Múzeumban található időszaki kiállításra.\nA Cirkusz világ címet viselő cirkusztörténeti kiállítás betekintést enged a cirkuszművészek a magyar illetve nemzetközi dinasztiák közé\, produkciók\, elért eredmények\, kosztúnök\, fotók. A magyar közönség először tekinthet bele a Magyar Cirkuszművészeti Múzeum\, Könyvtár és Archívum gyűjteményeibe és tudományos munkájába is.\nMindezeket tekintetbe véve nagyon tartalmas és érdekes programnak nézünk elébe.\nVárunk mindenkit szeretettel.
URL:https://vgyke.com/event/cirkusz-kicsit-maskepp/
LOCATION:Mezőgazdasági Múzeum\,   Budapest\, Városliget  Vajdahunyad Vár
ORGANIZER;CN="Murg%C3%A1cs J%C3%A1nosn%C3%A9":MAILTO:ujpest.szervezo@vgyke.com
END:VEVENT
END:VCALENDAR