BEGIN:VCALENDAR
VERSION:2.0
PRODID:-//Vakok és Gyengénlátók Közép-Magyarországi Regionális Egyesülete - ECPv6.15.20//NONSGML v1.0//EN
CALSCALE:GREGORIAN
METHOD:PUBLISH
X-WR-CALNAME:Vakok és Gyengénlátók Közép-Magyarországi Regionális Egyesülete
X-ORIGINAL-URL:https://vgyke.com
X-WR-CALDESC:Események Vakok és Gyengénlátók Közép-Magyarországi Regionális Egyesülete
REFRESH-INTERVAL;VALUE=DURATION:PT1H
X-Robots-Tag:noindex
X-PUBLISHED-TTL:PT1H
BEGIN:VTIMEZONE
TZID:Europe/Budapest
BEGIN:DAYLIGHT
TZOFFSETFROM:+0100
TZOFFSETTO:+0200
TZNAME:CEST
DTSTART:20230326T010000
END:DAYLIGHT
BEGIN:STANDARD
TZOFFSETFROM:+0200
TZOFFSETTO:+0100
TZNAME:CET
DTSTART:20231029T010000
END:STANDARD
BEGIN:DAYLIGHT
TZOFFSETFROM:+0100
TZOFFSETTO:+0200
TZNAME:CEST
DTSTART:20240331T010000
END:DAYLIGHT
BEGIN:STANDARD
TZOFFSETFROM:+0200
TZOFFSETTO:+0100
TZNAME:CET
DTSTART:20241027T010000
END:STANDARD
BEGIN:DAYLIGHT
TZOFFSETFROM:+0100
TZOFFSETTO:+0200
TZNAME:CEST
DTSTART:20250330T010000
END:DAYLIGHT
BEGIN:STANDARD
TZOFFSETFROM:+0200
TZOFFSETTO:+0100
TZNAME:CET
DTSTART:20251026T010000
END:STANDARD
END:VTIMEZONE
BEGIN:VEVENT
DTSTART;TZID=Europe/Budapest:20240422T150000
DTEND;TZID=Europe/Budapest:20240422T163000
DTSTAMP:20260423T011810
CREATED:20240417T172430Z
LAST-MODIFIED:20240417T192910Z
UID:35480-1713798000-1713803400@vgyke.com
SUMMARY:Régi történetek\, ismeretlen-kedves helyek: vendégünk a Kertvárosi Időutazó
DESCRIPTION:Sétáltál velünk Mátyásföldön Nagypénteken\, és tetszett\, amit láttál-hallottál? Szívesen beszélgetnél azzal az emberrel\, aki közel negyedszázada megálmodta-megvalósította ezt – az azóta eltelt években méltán híressé vált – programot? Esetleg nem sikerült csatlakoznod hozzánk legutóbb\, ám a következő kirándulásról már semmiképpen sem szeretnél lemaradni? \nJó hírünk van számodra! Április negyedik hétfőjén különleges vendéget köszönthetünk a XVI. kerületi Lámpás Klubon: maga Benedek Ágnes\, a Kertvárosi Időutazó látogat el hozzánk.\nSétái és kirándulásai népszerűsége töretlen\, mióta 2001. május 9-én megtartotta az első\, fiataloknak szóló városnéző programot. Sétáinak fő fókuszában a XVI. kerület\, azon belül is Mátyásföld és a Mátyásföldi Villanegyed áll. Izgalmas történetei\, korabeli sztorijai által a résztvevők kvázi időutazáson érezhetik magukat; elmúlt korok atmoszféráját szívhatják magukba\, és olyan tárgyakat láthatnak\, melyek visszarepítenek a múltba. \nHa kíváncsi vagy a Kertvárosi Időutazóra és történeteire\, vagy bogarat ültetett a füledbe\, hogy ugyan\, mitől is lehet olyan izgalmas hely a XVI. kerület\, nincs más dolgod: hozd magad\, lelkesedésedet\, kérdéseidet\, és gyere el hozzánk Ágnes előadására! \nAz esemény Facebook-linkje:\nhttps://fb.me/e/23vdRCaUQ
URL:https://vgyke.com/event/regi-tortenetek-ismeretlen-kedves-helyek-vendegunk-a-kertvarosi-idoutazo/
LOCATION:Napraforgó Család- és Gyermekjóléti Központ (1163 Budapest\, Cziráki utca 22.) I. emelet klubterem
ORGANIZER;CN="Czag%C3%A1ny Izabella":MAILTO:16.kerulet.szervezo@vgyke.com
END:VEVENT
END:VCALENDAR