BEGIN:VCALENDAR
VERSION:2.0
PRODID:-//Vakok és Gyengénlátók Közép-Magyarországi Regionális Egyesülete - ECPv6.15.20//NONSGML v1.0//EN
CALSCALE:GREGORIAN
METHOD:PUBLISH
X-ORIGINAL-URL:https://vgyke.com
X-WR-CALDESC:Események Vakok és Gyengénlátók Közép-Magyarországi Regionális Egyesülete
REFRESH-INTERVAL;VALUE=DURATION:PT1H
X-Robots-Tag:noindex
X-PUBLISHED-TTL:PT1H
BEGIN:VTIMEZONE
TZID:Europe/Budapest
BEGIN:DAYLIGHT
TZOFFSETFROM:+0100
TZOFFSETTO:+0200
TZNAME:CEST
DTSTART:20230326T010000
END:DAYLIGHT
BEGIN:STANDARD
TZOFFSETFROM:+0200
TZOFFSETTO:+0100
TZNAME:CET
DTSTART:20231029T010000
END:STANDARD
BEGIN:DAYLIGHT
TZOFFSETFROM:+0100
TZOFFSETTO:+0200
TZNAME:CEST
DTSTART:20240331T010000
END:DAYLIGHT
BEGIN:STANDARD
TZOFFSETFROM:+0200
TZOFFSETTO:+0100
TZNAME:CET
DTSTART:20241027T010000
END:STANDARD
BEGIN:DAYLIGHT
TZOFFSETFROM:+0100
TZOFFSETTO:+0200
TZNAME:CEST
DTSTART:20250330T010000
END:DAYLIGHT
BEGIN:STANDARD
TZOFFSETFROM:+0200
TZOFFSETTO:+0100
TZNAME:CET
DTSTART:20251026T010000
END:STANDARD
END:VTIMEZONE
BEGIN:VEVENT
DTSTART;TZID=Europe/Budapest:20240722T120000
DTEND;TZID=Europe/Budapest:20240722T130000
DTSTAMP:20260422T205524
CREATED:20240805T171516Z
LAST-MODIFIED:20240805T171516Z
UID:36295-1721649600-1721653200@vgyke.com
SUMMARY:Kerületünkről Erzsébetvárosban
DESCRIPTION:A nézők megismerkednek a Budapesti strandolás történetévvel.
URL:https://vgyke.com/event/keruletunkrol-erzsebetvarosban/
LOCATION:https://www.facebook.com/kozosseglampasaierzsebetvaros
ORGANIZER;CN="J%C3%A1nosi Veronika":MAILTO:erzsebetvaros.szervezo@vgyke.com
END:VEVENT
BEGIN:VEVENT
DTSTART;TZID=Europe/Budapest:20240722T140000
DTEND;TZID=Europe/Budapest:20240722T160000
DTSTAMP:20260422T205524
CREATED:20240712T061121Z
LAST-MODIFIED:20240712T061121Z
UID:36185-1721656800-1721664000@vgyke.com
SUMMARY:A Láthatár Bolt Angliában – avagy színes program a júliusi klubon
DESCRIPTION:Júliusi klubunkon – mely a megszokotthoz képest egy órával hamarabb\, 14:00-kor kezdődik – két programmal is várunk titeket!
URL:https://vgyke.com/event/a-lathatar-bolt-angliaban-avagy-szines-program-a-juliusi-klubon/
LOCATION:Napraforgó Család- és Gyermekjóléti Központ (1163 Budapest\, Cziráki utca 22.) I. emelet klubterem
ORGANIZER;CN="Czag%C3%A1ny Izabella":MAILTO:16.kerulet.szervezo@vgyke.com
END:VEVENT
END:VCALENDAR