BEGIN:VCALENDAR
VERSION:2.0
PRODID:-//Vakok és Gyengénlátók Közép-Magyarországi Regionális Egyesülete - ECPv6.15.20//NONSGML v1.0//EN
CALSCALE:GREGORIAN
METHOD:PUBLISH
X-ORIGINAL-URL:https://vgyke.com
X-WR-CALDESC:Események Vakok és Gyengénlátók Közép-Magyarországi Regionális Egyesülete
REFRESH-INTERVAL;VALUE=DURATION:PT1H
X-Robots-Tag:noindex
X-PUBLISHED-TTL:PT1H
BEGIN:VTIMEZONE
TZID:Europe/Budapest
BEGIN:DAYLIGHT
TZOFFSETFROM:+0100
TZOFFSETTO:+0200
TZNAME:CEST
DTSTART:20230326T010000
END:DAYLIGHT
BEGIN:STANDARD
TZOFFSETFROM:+0200
TZOFFSETTO:+0100
TZNAME:CET
DTSTART:20231029T010000
END:STANDARD
BEGIN:DAYLIGHT
TZOFFSETFROM:+0100
TZOFFSETTO:+0200
TZNAME:CEST
DTSTART:20240331T010000
END:DAYLIGHT
BEGIN:STANDARD
TZOFFSETFROM:+0200
TZOFFSETTO:+0100
TZNAME:CET
DTSTART:20241027T010000
END:STANDARD
BEGIN:DAYLIGHT
TZOFFSETFROM:+0100
TZOFFSETTO:+0200
TZNAME:CEST
DTSTART:20250330T010000
END:DAYLIGHT
BEGIN:STANDARD
TZOFFSETFROM:+0200
TZOFFSETTO:+0100
TZNAME:CET
DTSTART:20251026T010000
END:STANDARD
END:VTIMEZONE
BEGIN:VEVENT
DTSTART;TZID=Europe/Budapest:20241004T140000
DTEND;TZID=Europe/Budapest:20241004T180000
DTSTAMP:20260422T092250
CREATED:20240912T140522Z
LAST-MODIFIED:20240917T082040Z
UID:36616-1728050400-1728064800@vgyke.com
SUMMARY:Fehér bot napi ünnepség
DESCRIPTION:Idén különleges helyszínen az Unicum házban tartja a IX.-ik kerület a fehér bot napi ünnepségét.
URL:https://vgyke.com/event/feherbot-nap-ix-kerulet/
LOCATION:IX. kerület\, Unicum Ház (1095 Budapest\, Dandár ú. 1.)
ORGANIZER;CN="Szalai Mikl%C3%B3sn%C3%A9":MAILTO:ferencvaros.szervezo@vgyke.com
END:VEVENT
END:VCALENDAR