BEGIN:VCALENDAR
VERSION:2.0
PRODID:-//Vakok és Gyengénlátók Közép-Magyarországi Regionális Egyesülete - ECPv6.15.20//NONSGML v1.0//EN
CALSCALE:GREGORIAN
METHOD:PUBLISH
X-ORIGINAL-URL:https://vgyke.com
X-WR-CALDESC:Események Vakok és Gyengénlátók Közép-Magyarországi Regionális Egyesülete
REFRESH-INTERVAL;VALUE=DURATION:PT1H
X-Robots-Tag:noindex
X-PUBLISHED-TTL:PT1H
BEGIN:VTIMEZONE
TZID:Europe/Budapest
BEGIN:DAYLIGHT
TZOFFSETFROM:+0100
TZOFFSETTO:+0200
TZNAME:CEST
DTSTART:20230326T010000
END:DAYLIGHT
BEGIN:STANDARD
TZOFFSETFROM:+0200
TZOFFSETTO:+0100
TZNAME:CET
DTSTART:20231029T010000
END:STANDARD
BEGIN:DAYLIGHT
TZOFFSETFROM:+0100
TZOFFSETTO:+0200
TZNAME:CEST
DTSTART:20240331T010000
END:DAYLIGHT
BEGIN:STANDARD
TZOFFSETFROM:+0200
TZOFFSETTO:+0100
TZNAME:CET
DTSTART:20241027T010000
END:STANDARD
BEGIN:DAYLIGHT
TZOFFSETFROM:+0100
TZOFFSETTO:+0200
TZNAME:CEST
DTSTART:20250330T010000
END:DAYLIGHT
BEGIN:STANDARD
TZOFFSETFROM:+0200
TZOFFSETTO:+0100
TZNAME:CET
DTSTART:20251026T010000
END:STANDARD
END:VTIMEZONE
BEGIN:VEVENT
DTSTART;TZID=Europe/Budapest:20241009T140000
DTEND;TZID=Europe/Budapest:20241009T160000
DTSTAMP:20260422T012745
CREATED:20240923T073632Z
LAST-MODIFIED:20240923T074414Z
UID:36632-1728482400-1728489600@vgyke.com
SUMMARY:Fehér bot napi ünnepség
DESCRIPTION:A „Közösség Lámpásai” Zuglói Látássérültek Klubja meghívja Önt a 2024. október 9-én megrendezésre kerülő Fehér bot napi ünnepségére. A világon mindenhol október 15-e a látássérültek napja\, melyet egyesületünk is minden évben hagyományosan megünnepel. \nMegnyitó: Fodor Ágnes a VGYKE elnöke\nKöszöntő: Rózsa András Zugló Polgármestere \nFellépő vendégeink: \n• A Zuglói Arany János Általános Iskola és Alapfokú Művészeti Iskola Néptánc csoportja\,\n• A Vakok Iskolájának tanulói vers és ének\, kísérő tanár: Balázs Levente\,\n• Berta Edina a Tollforgató fuvolista
URL:https://vgyke.com/event/feher-bot-napi-unnepseg-3/
LOCATION:Zuglói Civil Ház\, Csertő Park 12.\, Budapest\, 1142
ORGANIZER;CN="Kiss M%C3%A1rta":MAILTO:zuglo.szervezo@vgyke.com
END:VEVENT
END:VCALENDAR