BEGIN:VCALENDAR
VERSION:2.0
PRODID:-//Vakok és Gyengénlátók Közép-Magyarországi Regionális Egyesülete - ECPv6.15.20//NONSGML v1.0//EN
CALSCALE:GREGORIAN
METHOD:PUBLISH
X-WR-CALNAME:Vakok és Gyengénlátók Közép-Magyarországi Regionális Egyesülete
X-ORIGINAL-URL:https://vgyke.com
X-WR-CALDESC:Események Vakok és Gyengénlátók Közép-Magyarországi Regionális Egyesülete
REFRESH-INTERVAL;VALUE=DURATION:PT1H
X-Robots-Tag:noindex
X-PUBLISHED-TTL:PT1H
BEGIN:VTIMEZONE
TZID:Europe/Budapest
BEGIN:DAYLIGHT
TZOFFSETFROM:+0100
TZOFFSETTO:+0200
TZNAME:CEST
DTSTART:20240331T010000
END:DAYLIGHT
BEGIN:STANDARD
TZOFFSETFROM:+0200
TZOFFSETTO:+0100
TZNAME:CET
DTSTART:20241027T010000
END:STANDARD
BEGIN:DAYLIGHT
TZOFFSETFROM:+0100
TZOFFSETTO:+0200
TZNAME:CEST
DTSTART:20250330T010000
END:DAYLIGHT
BEGIN:STANDARD
TZOFFSETFROM:+0200
TZOFFSETTO:+0100
TZNAME:CET
DTSTART:20251026T010000
END:STANDARD
BEGIN:DAYLIGHT
TZOFFSETFROM:+0100
TZOFFSETTO:+0200
TZNAME:CEST
DTSTART:20260329T010000
END:DAYLIGHT
BEGIN:STANDARD
TZOFFSETFROM:+0200
TZOFFSETTO:+0100
TZNAME:CET
DTSTART:20261025T010000
END:STANDARD
END:VTIMEZONE
BEGIN:VEVENT
DTSTART;TZID=Europe/Budapest:20250318T100000
DTEND;TZID=Europe/Budapest:20250318T140000
DTSTAMP:20260421T100109
CREATED:20250227T090049Z
LAST-MODIFIED:20250227T090049Z
UID:37752-1742292000-1742306400@vgyke.com
SUMMARY:Újpesti Lámpás Klub klubprogram
DESCRIPTION:Az Újpesti Lámpás Klub tagjai egy igazán különleges helyre látogatnak el\, a 2023-ban megnyílt Budapesti Madame Tussauds panoptikumba\, ahol 54 magyar és nemzetközi élethű világsztárral találkozhatnak testközelben. A kiállításon a figurák és a csodálatos díszletek mellett rengeteg élmény\, interaktivitás\, hang- és fényjáték\, lenyűgöző audiovizuális tartalom\, szelfipont és számos egyéb izgalmas meglepetés garantálja az emlékezetes szórakozást.
URL:https://vgyke.com/event/ujpesti-lampas-klub-klubprogram/
LOCATION:Madame Tussauds Budapest 1051. Budapest\, Dorottya utca 6.
ORGANIZER;CN="Majl%C3%A1th M%C3%B3nika":MAILTO:angyalfold.szervezo@vgyke.com
END:VEVENT
END:VCALENDAR