BEGIN:VCALENDAR
VERSION:2.0
PRODID:-//Vakok és Gyengénlátók Közép-Magyarországi Regionális Egyesülete - ECPv6.15.20//NONSGML v1.0//EN
CALSCALE:GREGORIAN
METHOD:PUBLISH
X-ORIGINAL-URL:https://vgyke.com
X-WR-CALDESC:Események Vakok és Gyengénlátók Közép-Magyarországi Regionális Egyesülete
REFRESH-INTERVAL;VALUE=DURATION:PT1H
X-Robots-Tag:noindex
X-PUBLISHED-TTL:PT1H
BEGIN:VTIMEZONE
TZID:Europe/Budapest
BEGIN:DAYLIGHT
TZOFFSETFROM:+0100
TZOFFSETTO:+0200
TZNAME:CEST
DTSTART:20240331T010000
END:DAYLIGHT
BEGIN:STANDARD
TZOFFSETFROM:+0200
TZOFFSETTO:+0100
TZNAME:CET
DTSTART:20241027T010000
END:STANDARD
BEGIN:DAYLIGHT
TZOFFSETFROM:+0100
TZOFFSETTO:+0200
TZNAME:CEST
DTSTART:20250330T010000
END:DAYLIGHT
BEGIN:STANDARD
TZOFFSETFROM:+0200
TZOFFSETTO:+0100
TZNAME:CET
DTSTART:20251026T010000
END:STANDARD
BEGIN:DAYLIGHT
TZOFFSETFROM:+0100
TZOFFSETTO:+0200
TZNAME:CEST
DTSTART:20260329T010000
END:DAYLIGHT
BEGIN:STANDARD
TZOFFSETFROM:+0200
TZOFFSETTO:+0100
TZNAME:CET
DTSTART:20261025T010000
END:STANDARD
END:VTIMEZONE
BEGIN:VEVENT
DTSTART;TZID=Europe/Budapest:20250711T140000
DTEND;TZID=Europe/Budapest:20250711T160000
DTSTAMP:20260421T102002
CREATED:20250703T142256Z
LAST-MODIFIED:20250703T144017Z
UID:38619-1752242400-1752249600@vgyke.com
SUMMARY:Klubnap-Hajléktalanellátás a IX. kerületben-mit tehetünk?
DESCRIPTION:Kedves tagjaink\, kedves érdeklődők! \nKövetkező klubnapunkon\, egy nagyon érzékeny\, de időszerű témáról fogunk beszélgetni.\nHajléktalanok a IX. kerületben. Ez az utcai lét kihívást jelent\, mind az ebben a helyzetben levőknek\, mind a kerületben élő lakosoknak. \nA beszélgetés meghívott vendége Siroki István csoportkoordinátor\, a\nLélek-Pont és utcai szociális munkás csoport munkatársa a IX.-ik kerületből. \nFő célja ennek a beszélgetésnek\, az aktuális helyzet felvázolása\, a fennálló ellentétek csökkentése a lakosság és a hajléktalanok között\, valamint az esetleges segítségnyújtás lehetősége\, hogy a mindennapok mindenki számára elviselhetők legyenek.\nBeszélgetünk arról is\, hogy mit lehet tenni\, ha a hajléktalan egyben látássérült is. \n 
URL:https://vgyke.com/event/klubnap-hajlektalanellatas-a-ix-keruletben-mit-tehetunk/
LOCATION:Ferencvárosi Művelődési Központ (FMK) Budapest Haller u. 27. 1093
ORGANIZER;CN="Szalain%C3%A9 T%C3%BCndi":MAILTO:ferencvaros.szervezo@vgyke.com
END:VEVENT
END:VCALENDAR