BEGIN:VCALENDAR
VERSION:2.0
PRODID:-//Vakok és Gyengénlátók Közép-Magyarországi Regionális Egyesülete - ECPv6.15.20//NONSGML v1.0//EN
CALSCALE:GREGORIAN
METHOD:PUBLISH
X-ORIGINAL-URL:https://vgyke.com
X-WR-CALDESC:Események Vakok és Gyengénlátók Közép-Magyarországi Regionális Egyesülete
REFRESH-INTERVAL;VALUE=DURATION:PT1H
X-Robots-Tag:noindex
X-PUBLISHED-TTL:PT1H
BEGIN:VTIMEZONE
TZID:Europe/Budapest
BEGIN:DAYLIGHT
TZOFFSETFROM:+0100
TZOFFSETTO:+0200
TZNAME:CEST
DTSTART:20240331T010000
END:DAYLIGHT
BEGIN:STANDARD
TZOFFSETFROM:+0200
TZOFFSETTO:+0100
TZNAME:CET
DTSTART:20241027T010000
END:STANDARD
BEGIN:DAYLIGHT
TZOFFSETFROM:+0100
TZOFFSETTO:+0200
TZNAME:CEST
DTSTART:20250330T010000
END:DAYLIGHT
BEGIN:STANDARD
TZOFFSETFROM:+0200
TZOFFSETTO:+0100
TZNAME:CET
DTSTART:20251026T010000
END:STANDARD
BEGIN:DAYLIGHT
TZOFFSETFROM:+0100
TZOFFSETTO:+0200
TZNAME:CEST
DTSTART:20260329T010000
END:DAYLIGHT
BEGIN:STANDARD
TZOFFSETFROM:+0200
TZOFFSETTO:+0100
TZNAME:CET
DTSTART:20261025T010000
END:STANDARD
END:VTIMEZONE
BEGIN:VEVENT
DTSTART;TZID=Europe/Budapest:20250903T150000
DTEND;TZID=Europe/Budapest:20250903T170000
DTSTAMP:20260419T183252
CREATED:20250903T100826Z
LAST-MODIFIED:20250903T101018Z
UID:38895-1756911600-1756918800@vgyke.com
SUMMARY:Újpesti Lámpás Klub klubnap
DESCRIPTION:A nagyszülők világnapja alkalmából klubnapunkon megünnepeljük a nagypapákat és a nagymamákat.E kedves ünnep alkálmából Pesa Anna Mária saját a olvassuk fel. A klubnap második felében pedig a 2025. szeptember 10-ére tervezett Nyíregyházi Állatparki kirándulásunk részleteit beszéljük meg\,
URL:https://vgyke.com/event/ujpesti-lampas-klub-klubnap-7/
LOCATION:Újpesti Kulturális Központ 1042. Budapest\, István út 17-19.
END:VEVENT
END:VCALENDAR