BEGIN:VCALENDAR
VERSION:2.0
PRODID:-//Vakok és Gyengénlátók Közép-Magyarországi Regionális Egyesülete - ECPv6.15.20//NONSGML v1.0//EN
CALSCALE:GREGORIAN
METHOD:PUBLISH
X-ORIGINAL-URL:https://vgyke.com
X-WR-CALDESC:Események Vakok és Gyengénlátók Közép-Magyarországi Regionális Egyesülete
REFRESH-INTERVAL;VALUE=DURATION:PT1H
X-Robots-Tag:noindex
X-PUBLISHED-TTL:PT1H
BEGIN:VTIMEZONE
TZID:Europe/Budapest
BEGIN:DAYLIGHT
TZOFFSETFROM:+0100
TZOFFSETTO:+0200
TZNAME:CEST
DTSTART:20240331T010000
END:DAYLIGHT
BEGIN:STANDARD
TZOFFSETFROM:+0200
TZOFFSETTO:+0100
TZNAME:CET
DTSTART:20241027T010000
END:STANDARD
BEGIN:DAYLIGHT
TZOFFSETFROM:+0100
TZOFFSETTO:+0200
TZNAME:CEST
DTSTART:20250330T010000
END:DAYLIGHT
BEGIN:STANDARD
TZOFFSETFROM:+0200
TZOFFSETTO:+0100
TZNAME:CET
DTSTART:20251026T010000
END:STANDARD
BEGIN:DAYLIGHT
TZOFFSETFROM:+0100
TZOFFSETTO:+0200
TZNAME:CEST
DTSTART:20260329T010000
END:DAYLIGHT
BEGIN:STANDARD
TZOFFSETFROM:+0200
TZOFFSETTO:+0100
TZNAME:CET
DTSTART:20261025T010000
END:STANDARD
END:VTIMEZONE
BEGIN:VEVENT
DTSTART;TZID=Europe/Budapest:20250906T160000
DTEND;TZID=Europe/Budapest:20250906T180000
DTSTAMP:20260419T183133
CREATED:20250908T144951Z
LAST-MODIFIED:20250908T144951Z
UID:38931-1757174400-1757181600@vgyke.com
SUMMARY:Irány a Pozsonyi Piknik!
DESCRIPTION:Van egy rendezvény Újlipótvárosban\, mely évek óta zarándokhelye a kultúra szerelmeseinek: ez a Pozsonyi Piknik\, melyen testközelből találkozhatsz kedvenc színészeiddel\, vagy beszélgethetsz a színházak és könyvkiadók standjainál\, miközben a közeli színpadokon zajló előadásokat hallgatod. De ha csak elvegyülnél a forgatagban\, hogy végigjárd a bazársort\, a színházjegyek mellett kézműves és gasztronómiai különlegességeket pakolj fel\, vagy egy ital mellett beszélgess barátaiddal egy sörpadon\, miközben az Operettszínház művészei énekelnek a háttérben – akkor sem fogsz csalódni. Ha még sosem hallottál róla\, akkor mindenképp azt ajánljuk\, látogass ki\, nem bánod meg! De ha eddig azért nem vettél részt\, mert nem volt kedved egyedül kimenni\, akkor itt az alkalom: csatlakozz hozzánk\, hogy együtt fedezzük fel\, milyen újdonságokat kínál számunkra az idei Piknik! \nTalálkozó: Keleti pályaudvar\, 76-os trolibusz megállója\, 15:45 \nA programra előzetes bejelentkezés szükséges elérhetőségeinken legkésőbb 2025. szeptember 5. 16:00-ig! („Ott leszek” jelölése a Facebook-eseménynél önmagában nem minősül jelentkezésnek; ha számodra az a platform lenne a legkényelmesebb\, jelöld bátran – ám pár szót írj mellé nekünk privát üzenetben!) Kirándulásunkon minden résztvevő saját felelősségére vesz részt. \nA csoport maximális létszáma 20 fő\, melyet a jelentkezések sorrendjében fogunk feltölteni. Vakvezető kutya természetesen hozható. Kísérőt sajnos csak igen korlátozott mértékben tudunk biztosítani\, ezirányú igényeid mindenképp jelezd\, vagy gondoskodj saját segítőről. Megértésedet köszönjük! \nVárunk szeretettel!
URL:https://vgyke.com/event/irany-a-pozsonyi-piknik/
LOCATION:Pozsonyi Piknik (Bp. XIII. ker.)
ORGANIZER;CN="Tanai Csaba":MAILTO:zuglo.szervezo@vgyke.com
END:VEVENT
END:VCALENDAR