BEGIN:VCALENDAR
VERSION:2.0
PRODID:-//Vakok és Gyengénlátók Közép-Magyarországi Regionális Egyesülete - ECPv6.15.20//NONSGML v1.0//EN
CALSCALE:GREGORIAN
METHOD:PUBLISH
X-ORIGINAL-URL:https://vgyke.com
X-WR-CALDESC:Események Vakok és Gyengénlátók Közép-Magyarországi Regionális Egyesülete
REFRESH-INTERVAL;VALUE=DURATION:PT1H
X-Robots-Tag:noindex
X-PUBLISHED-TTL:PT1H
BEGIN:VTIMEZONE
TZID:Europe/Budapest
BEGIN:DAYLIGHT
TZOFFSETFROM:+0100
TZOFFSETTO:+0200
TZNAME:CEST
DTSTART:20240331T010000
END:DAYLIGHT
BEGIN:STANDARD
TZOFFSETFROM:+0200
TZOFFSETTO:+0100
TZNAME:CET
DTSTART:20241027T010000
END:STANDARD
BEGIN:DAYLIGHT
TZOFFSETFROM:+0100
TZOFFSETTO:+0200
TZNAME:CEST
DTSTART:20250330T010000
END:DAYLIGHT
BEGIN:STANDARD
TZOFFSETFROM:+0200
TZOFFSETTO:+0100
TZNAME:CET
DTSTART:20251026T010000
END:STANDARD
BEGIN:DAYLIGHT
TZOFFSETFROM:+0100
TZOFFSETTO:+0200
TZNAME:CEST
DTSTART:20260329T010000
END:DAYLIGHT
BEGIN:STANDARD
TZOFFSETFROM:+0200
TZOFFSETTO:+0100
TZNAME:CET
DTSTART:20261025T010000
END:STANDARD
END:VTIMEZONE
BEGIN:VEVENT
DTSTART;TZID=Europe/Budapest:20250910T080000
DTEND;TZID=Europe/Budapest:20250910T190000
DTSTAMP:20260419T183207
CREATED:20250903T101315Z
LAST-MODIFIED:20250903T101433Z
UID:38898-1757491200-1757530800@vgyke.com
SUMMARY:Újpesti Lámpás Klub klubprogram
DESCRIPTION:E havi klubprogramunk helyszíne a Nyíregyházi Állatpark lesz\, ahol vezetők segítségével fogjuk körbejárni az állatok lakhelyeit. Tapinthatunk majd különböző állati dolgokat\, megnézzük a fóka-show-t és egy finom ebédet is elfogyasztunk majd az állatok társaságában.
URL:https://vgyke.com/event/ujpesti-lampas-klub-klubprogram-5/
LOCATION:Nyíregyházi Állatpark 4431. Sóstói út
END:VEVENT
BEGIN:VEVENT
DTSTART;TZID=Europe/Budapest:20250910T140000
DTEND;TZID=Europe/Budapest:20250910T160000
DTSTAMP:20260419T183207
CREATED:20250908T144515Z
LAST-MODIFIED:20250908T144615Z
UID:38928-1757512800-1757520000@vgyke.com
SUMMARY:A természet patikája
DESCRIPTION:A növények nélkülözhetetlenek a földi ökoszisztémában; nélkülük egyszerűen nem léteznénk. Fontosságukat nyelvünk is őrzi: például\, ha egy táj vagy élethelyzet különösen reménytelen\, azt mondjuk rá: ott a fű se nő. Viszont ha valaki fűt-fát-vadvirágot ígér\, biztosak lehetünk benne\, hogy nem fukarkodott az ajánlatokkal! Ha egyik sem tetszik\, legfeljebb útilaput kötünk a talpára… Szeretetünket szóban-tettben virágokkal fejezzük ki\, mindennapi életünk rituáléi elképzelhetetlenek nélkülük. Otthonunkban – ízlés és lehetőség szerint – gyakran használjuk zöld kísérőinket fűszerként\, lakásunk illatosítására\, légtisztítóként\, dekorációs értékük miatt… Legősibb felhasználási módjuk azonban (az étkezés mellett) a gyógyítás. \nBiztosan vannak élményeid gyermekkori betegségekről\, melyre teát adtak az öregek; vagy sérülésről\, melyet egy másik növényből készült krémmel kenegettek. Ha valaha is elgondolkodtál azon\, milyen jó lenne többet tudni a különféle gyógyfüvek és egyebek jótékony hatásairól\, alkalmazási lehetőségeiről\, akkor szeptemberi klubunkat\, melyen Nyőgér Tibor tart előadást a gyógynövényekről\, neked találtuk ki! \nTibort már gyermekkorában elbűvölte a növényvilág gyógyító ereje\, nem csoda hát\, hogy ezzel kezdett foglalkozni. Hosszú évtizedek alatt tekintélyes tudásra tett szert\, melynek morzsáit most velünk is megosztja. Lesz alkalom valódi gyógynövények kézbevételére\, illatolására\, sőt kóstolására is! Az előadás során lehetőség nyílik energetikai állapotfelmérésre\, továbbá Tibor beszélni fog a vízér hatásairól és más ehhez kapcsolódó\, izgalmas témákról is. Tarts velünk Te is! \nA helyszín megközelíthetősége: Örs vezér tere felől 131\, 144\, 231-es buszok\, valamint 82\, 82A trolibusz „Vezér utca” megálló; Örs vezér tere felé ugyanezen járatok + 231B busz „Füredi utca” megálló \nAmennyiben segítségre volna szükséged a klubhelyszín megközelítéséhez\, keresd szervezőinket! Kísérőt biztosítani sajnos nem tudunk\, de ha időben szólsz\, a fent jelzett megállókba kimegyünk érted.\nA klubnap esetleges további részletei Facebook-eseményünkben olvashatóak\, mely Facebook-fiók megléte nélkül is megtekinthető:\nhttps://www.facebook.com/events/1205841008239299 \nVárunk szeretettel!
URL:https://vgyke.com/event/a-termeszet-patikaja/
LOCATION:Zuglói Civil Ház  1144 Budapest\, Csertő park 12.
ORGANIZER;CN="Tanai Csaba":MAILTO:zuglo.szervezo@vgyke.com
END:VEVENT
END:VCALENDAR