BEGIN:VCALENDAR
VERSION:2.0
PRODID:-//Vakok és Gyengénlátók Közép-Magyarországi Regionális Egyesülete - ECPv6.15.20//NONSGML v1.0//EN
CALSCALE:GREGORIAN
METHOD:PUBLISH
X-WR-CALNAME:Vakok és Gyengénlátók Közép-Magyarországi Regionális Egyesülete
X-ORIGINAL-URL:https://vgyke.com
X-WR-CALDESC:Események Vakok és Gyengénlátók Közép-Magyarországi Regionális Egyesülete
REFRESH-INTERVAL;VALUE=DURATION:PT1H
X-Robots-Tag:noindex
X-PUBLISHED-TTL:PT1H
BEGIN:VTIMEZONE
TZID:Europe/Budapest
BEGIN:DAYLIGHT
TZOFFSETFROM:+0100
TZOFFSETTO:+0200
TZNAME:CEST
DTSTART:20240331T010000
END:DAYLIGHT
BEGIN:STANDARD
TZOFFSETFROM:+0200
TZOFFSETTO:+0100
TZNAME:CET
DTSTART:20241027T010000
END:STANDARD
BEGIN:DAYLIGHT
TZOFFSETFROM:+0100
TZOFFSETTO:+0200
TZNAME:CEST
DTSTART:20250330T010000
END:DAYLIGHT
BEGIN:STANDARD
TZOFFSETFROM:+0200
TZOFFSETTO:+0100
TZNAME:CET
DTSTART:20251026T010000
END:STANDARD
BEGIN:DAYLIGHT
TZOFFSETFROM:+0100
TZOFFSETTO:+0200
TZNAME:CEST
DTSTART:20260329T010000
END:DAYLIGHT
BEGIN:STANDARD
TZOFFSETFROM:+0200
TZOFFSETTO:+0100
TZNAME:CET
DTSTART:20261025T010000
END:STANDARD
END:VTIMEZONE
BEGIN:VEVENT
DTSTART;TZID=Europe/Budapest:20250918T140000
DTEND;TZID=Europe/Budapest:20250918T160000
DTSTAMP:20260419T183000
CREATED:20250903T100052Z
LAST-MODIFIED:20250903T100149Z
UID:38893-1758204000-1758211200@vgyke.com
SUMMARY:Az iskolakezdésről Erzsébetvárosban
DESCRIPTION:Meghívó\nAz iskolakezdésről Erzsébetvárosban \nKedves Klubtagok\, Kísérők\, Érdeklődők!\nSzeretettel hívunk mindenkit az erzsébetvárosi Lámpás Klub soron következő klubnapjára\, amely az iskolakezdésről szól majd. Elevenítsük fel együtt gyermekként miként éltük meg a hosszú nyári szünet után az iskolaév kezdetét. Tudjuk például\, hogy miért is szeptember 1-je az iskolaév kezdete? Mindenhol így van ez a világon? Mit is gondolunk a tanulásról? Fontos-e számunkra az élethosszig tartó tanulás\, ha igen\, miért?\nAki számára érdekes a témafelvetés jöjjön bátran! \nKíséretet a klubnapra sajnos csak előre egyeztetve\, igen korlátozott mértékben tudunk biztosítani. Visszajelzéseiket a részvételről és az esetleges segítség igényléséről 2025. 09. 15-én 12 óráig várjuk elérhetőségeink valamelyikén.\nFontos: A részvételi szándékot és a segítségre való igényt mindenképp szíveskedjenek jelezni a megadott időpontig\, mivel a segítségnyújtás korlátozott mértékben megoldható és szervezést igényel! \nKérjük\, amennyiben ismer olyat\, aki szívesen segítené önkéntesként klubjaink és programjaink lebonyolítását (főképp kísérésben)\, ajánljon neki minket! \nJánosi Veronika Közösségi civilszervező \nElérhetőségek:\nMobil: +36 70 387 52 66\nE-mail: erzsebetvaros.szervezo@vgyke.com \n 
URL:https://vgyke.com/event/az-iskolakezdesrol-erzsebetvarosban/
LOCATION:1072 Budapest\, Nagydiófa utca 34. (KlauDió Civil Központ)
ORGANIZER;CN="J%C3%A1nosi Veronika":MAILTO:erzsebetvaros.szervezo@vgyke.com
END:VEVENT
END:VCALENDAR