BEGIN:VCALENDAR
VERSION:2.0
PRODID:-//Vakok és Gyengénlátók Közép-Magyarországi Regionális Egyesülete - ECPv6.15.20//NONSGML v1.0//EN
CALSCALE:GREGORIAN
METHOD:PUBLISH
X-ORIGINAL-URL:https://vgyke.com
X-WR-CALDESC:Események Vakok és Gyengénlátók Közép-Magyarországi Regionális Egyesülete
REFRESH-INTERVAL;VALUE=DURATION:PT1H
X-Robots-Tag:noindex
X-PUBLISHED-TTL:PT1H
BEGIN:VTIMEZONE
TZID:Europe/Budapest
BEGIN:DAYLIGHT
TZOFFSETFROM:+0100
TZOFFSETTO:+0200
TZNAME:CEST
DTSTART:20240331T010000
END:DAYLIGHT
BEGIN:STANDARD
TZOFFSETFROM:+0200
TZOFFSETTO:+0100
TZNAME:CET
DTSTART:20241027T010000
END:STANDARD
BEGIN:DAYLIGHT
TZOFFSETFROM:+0100
TZOFFSETTO:+0200
TZNAME:CEST
DTSTART:20250330T010000
END:DAYLIGHT
BEGIN:STANDARD
TZOFFSETFROM:+0200
TZOFFSETTO:+0100
TZNAME:CET
DTSTART:20251026T010000
END:STANDARD
BEGIN:DAYLIGHT
TZOFFSETFROM:+0100
TZOFFSETTO:+0200
TZNAME:CEST
DTSTART:20260329T010000
END:DAYLIGHT
BEGIN:STANDARD
TZOFFSETFROM:+0200
TZOFFSETTO:+0100
TZNAME:CET
DTSTART:20261025T010000
END:STANDARD
END:VTIMEZONE
BEGIN:VEVENT
DTSTART;TZID=Europe/Budapest:20250922T100000
DTEND;TZID=Europe/Budapest:20250922T120000
DTSTAMP:20260419T183252
CREATED:20250911T134320Z
LAST-MODIFIED:20250911T134320Z
UID:38952-1758535200-1758542400@vgyke.com
SUMMARY:Időutazás Mátyásföldön – A második felvonás
DESCRIPTION:Ha lelkesen követed klubjainkat és programjainkat\, már biztosan találkoztál Bene-dek Ági\, a Kertvárosi Időutazó nevével. Ha nem\, akkor itt az idő\, hogy megismerd Ágit és munkásságát\, mert: ismét közös sétát szervezünk Mátyásföldön! \nA 90-es években a XVI. kerületben még alig volt kulturális élet\, ezért kezdett Be-nedek Ági kávéházi estéket szervezni a sashalmi könyvtárban. 2001. május 9-én volt az első fiataloknak szóló városnézés\, amit Ági szervezett\, azóta pedig töretlen a Kertvárosi Időutazó népszerűsége. De mégis hogyan lesz időutazás egy város-néző séta? “Aki velem sétál\, időutazik maga is.” – mondja Ági. A séták során a résztvevők mintegy átszelik az időt Ágnes izgalmas\, régi történetei által\, olyan tár-gyakat láthatnak\, amelyek visszarepítenek a múltba. A Mátyásföldi villanegyed méltán különleges gyöngyszeme az országnak\, mert az épületeknek több mint a fele eredeti; s bár az ingatlanok gazdát cserélnek\, az új tulajdonosok pedig alakí-tanak a villákon\, a Településképi Arculati Kézikönyv nagyban meghatározza a ja-vasolt beépítési módokat – így ma is a régi\, szinte eredeti pompájukban csodál-hatjuk meg ezeket a gyönyörű épületeket. \n2024. tavaszán már volt lehetőségünk Ágival Mátyásföld keleti részén kirándulni\, most azonban a Pilóta utcát és környékét járjuk majd be\, körbeszőve Ági izgalma-sabbnál izgalmasabb történeteivel\, a sétánkat pedig a méltán jól ismert Habcsók Cukrászdában zárjuk. \nA programra előzetes bejelentkezés szükséges elérhetőségeinken legkésőbb 2025. szeptember 19. 16:00-ig! A kirándulás résztvevőinknek ingyenes a XVI. kerületi Önkormányzat támogatása jóvoltából – a cukrászdai fogyasztás önköltsé-ges (és természetesen szabadon választható). \nA csoport maximális létszáma 20 fő\, melyet a jelentkezések sorrendjében fo-gunk feltölteni. Vakvezető kutya természetesen hozható. Sétánk időtartama kb. 2 óra; mosdó-lehetőség a végén a Habcsók Cukrászdában lesz (illetve a Belváros felől érkezőknek az Örs vezér téri Ikeában). \nKísérőt sajnos csak igen korlátozott mértékben tudunk biztosítani\, ezirányú igé-nyeid mindenképp jelezd\, vagy gondoskodj saját segítőről. Megértésed köszönjük! Kérjük\, amennyiben ismersz olyat\, aki szívesen segítené önkéntesként klubjaink és programjaink lebonyolítását (főképp kísérésben)\, ajánlj neki minket!\nTalálkozó:\n1.: Örs vezér tere M2 kijárat 09:30 (a kürtöskalácsosnál\, innen közösen sétálunk át a hévállomáshoz\, a 9:48-as hévet tervezzük elérni) Izával;\n2.: H8\, H9-ES HÉV „Mátyásföld\, repülőtér” megálló (Örs vezér tere felől érkező oldal) 10:00 Bogival \nAz esemény Facebook-linkje:\nhttps://www.facebook.com/events/1830339241218563
URL:https://vgyke.com/event/idoutazas-matyasfoldon-a-masodik-felvonas/
LOCATION:Mátyásföld\, illetve a Habcsók Cukrászda (1165 Bp.\, Újszász u. 45/b-L.épület)
ORGANIZER;CN="Koll%C3%A1rszky Bogl%C3%A1rka":MAILTO:16.kerulet.szervezo@vgyke.com
END:VEVENT
BEGIN:VEVENT
DTSTART;TZID=Europe/Budapest:20250922T140000
DTEND;TZID=Europe/Budapest:20250922T160000
DTSTAMP:20260419T183252
CREATED:20250915T162705Z
LAST-MODIFIED:20250915T162705Z
UID:38977-1758549600-1758556800@vgyke.com
SUMMARY:Újra megnyitja kapuit az angyalföldi lámpás klub
DESCRIPTION:Angyalföld VGYKE Klub \nKedves Tagtársak és Érdeklődők! \nÖrömmel értesítelek Benneteket\, hogy újra megnyitja kapuit az angyalföldi lámpás klub! \nSzeptember 22-én\, 14:00-16:00 óra között tartandó klubnapomra sok szeretettel várok minden tagot\, kísérőt és érdeklődőt egy kellemes\, baráti hangulatú együttlétre. \nCélom\, hogy közösen egy olyan közösséget építsünk\, ahol mindenki szeretettel\, jókedvvel és nyitottsággal tölthet időt. Szívből remélem\, hogy ez az alkalom lehetőséget ad majd arra is\, hogy megosszátok velem igényeiteket\, ötleteiteket\, hogy még inkább a magatokénak érezhessétek ezt a közösséget – ahová mindig szívesen tértek vissza. \nA délután első felében lehetőségünk nyílik egy kis ismerkedésre\, ezt követően vendégünk lesz Márton Tibor\, aki a világegyetem kezdetétől napjainkig kalauzol el bennünket. Előadásában szó lesz arról\, hogyan és mikor keletkezett a Föld\, milyen messze található a legközelebbi csillag\, és mekkora távolságok húzódnak a világegyetemben. Tibor nemcsak száraz tudományos szemszögből közelíti meg a témát\, hanem közérthetően\, élményszerűen\, ráadásul interaktív szemléltetéssel is készül\, hogy mindenki átélhesse a csillagok és galaxisok közötti utazás varázsát. \nNe feledjétek\, klubjaink mindig nyitottak \, így bátran hozhattok magatokkal családtagot\, barátokat vagy ismerősöket is! \nVárlak Benneteket sok szeretettel és jókedvvel! \nIdőpont: 2025. szeptember 22. (hétfő) 14:00-16:00 \nHelyszín: 1134 Budapest\, XIII. kerület\, Tüzér utca 56–58. (Prevenciós Központ)
URL:https://vgyke.com/event/ujra-megnyitja-kapuit-az-angyalfoldi-lampas-klub/
LOCATION:1134 Budapest\, XIII. kerület\, Tüzér utca 56–58. (Prevenciós Központ)
ORGANIZER;CN="Kindl R%C3%A9ka":MAILTO:angyalfold.szervezo@vgyke.com
END:VEVENT
END:VCALENDAR