BEGIN:VCALENDAR
VERSION:2.0
PRODID:-//Vakok és Gyengénlátók Közép-Magyarországi Regionális Egyesülete - ECPv6.15.20//NONSGML v1.0//EN
CALSCALE:GREGORIAN
METHOD:PUBLISH
X-WR-CALNAME:Vakok és Gyengénlátók Közép-Magyarországi Regionális Egyesülete
X-ORIGINAL-URL:https://vgyke.com
X-WR-CALDESC:Események Vakok és Gyengénlátók Közép-Magyarországi Regionális Egyesülete
REFRESH-INTERVAL;VALUE=DURATION:PT1H
X-Robots-Tag:noindex
X-PUBLISHED-TTL:PT1H
BEGIN:VTIMEZONE
TZID:Europe/Budapest
BEGIN:DAYLIGHT
TZOFFSETFROM:+0100
TZOFFSETTO:+0200
TZNAME:CEST
DTSTART:20240331T010000
END:DAYLIGHT
BEGIN:STANDARD
TZOFFSETFROM:+0200
TZOFFSETTO:+0100
TZNAME:CET
DTSTART:20241027T010000
END:STANDARD
BEGIN:DAYLIGHT
TZOFFSETFROM:+0100
TZOFFSETTO:+0200
TZNAME:CEST
DTSTART:20250330T010000
END:DAYLIGHT
BEGIN:STANDARD
TZOFFSETFROM:+0200
TZOFFSETTO:+0100
TZNAME:CET
DTSTART:20251026T010000
END:STANDARD
BEGIN:DAYLIGHT
TZOFFSETFROM:+0100
TZOFFSETTO:+0200
TZNAME:CEST
DTSTART:20260329T010000
END:DAYLIGHT
BEGIN:STANDARD
TZOFFSETFROM:+0200
TZOFFSETTO:+0100
TZNAME:CET
DTSTART:20261025T010000
END:STANDARD
END:VTIMEZONE
BEGIN:VEVENT
DTSTART;TZID=Europe/Budapest:20250925T190000
DTEND;TZID=Europe/Budapest:20250925T210000
DTSTAMP:20260419T183002
CREATED:20250913T104942Z
LAST-MODIFIED:20250913T104942Z
UID:38963-1758826800-1758834000@vgyke.com
SUMMARY:Hangszínek   -   koncert vak zenészek műveiből
DESCRIPTION:A Vakok Általános Iskolájának Nádor termében ezúttal vak zenészek művei csendülnek fel ismert látó és látássérült előadóművészek tolmácsolásában. A VGYKE III. kerületi Lámpás Klubjának tagjai és kísérőik szervezett koncertlátogatás keretében vesznek részt e hangversenyen.
URL:https://vgyke.com/event/hangszinek-koncert-vak-zeneszek-muveibol/
LOCATION:Vakok Általános Iskolája (1146 Budapest Ajtósi Dürer sor 39.)
ORGANIZER;CN="Ruzsa Viktor":MAILTO:obuda.szervezo@vgyke.com
END:VEVENT
END:VCALENDAR