BEGIN:VCALENDAR
VERSION:2.0
PRODID:-//Vakok és Gyengénlátók Közép-Magyarországi Regionális Egyesülete - ECPv6.15.20//NONSGML v1.0//EN
CALSCALE:GREGORIAN
METHOD:PUBLISH
X-ORIGINAL-URL:https://vgyke.com
X-WR-CALDESC:Események Vakok és Gyengénlátók Közép-Magyarországi Regionális Egyesülete
REFRESH-INTERVAL;VALUE=DURATION:PT1H
X-Robots-Tag:noindex
X-PUBLISHED-TTL:PT1H
BEGIN:VTIMEZONE
TZID:Europe/Budapest
BEGIN:DAYLIGHT
TZOFFSETFROM:+0100
TZOFFSETTO:+0200
TZNAME:CEST
DTSTART:20240331T010000
END:DAYLIGHT
BEGIN:STANDARD
TZOFFSETFROM:+0200
TZOFFSETTO:+0100
TZNAME:CET
DTSTART:20241027T010000
END:STANDARD
BEGIN:DAYLIGHT
TZOFFSETFROM:+0100
TZOFFSETTO:+0200
TZNAME:CEST
DTSTART:20250330T010000
END:DAYLIGHT
BEGIN:STANDARD
TZOFFSETFROM:+0200
TZOFFSETTO:+0100
TZNAME:CET
DTSTART:20251026T010000
END:STANDARD
BEGIN:DAYLIGHT
TZOFFSETFROM:+0100
TZOFFSETTO:+0200
TZNAME:CEST
DTSTART:20260329T010000
END:DAYLIGHT
BEGIN:STANDARD
TZOFFSETFROM:+0200
TZOFFSETTO:+0100
TZNAME:CET
DTSTART:20261025T010000
END:STANDARD
END:VTIMEZONE
BEGIN:VEVENT
DTSTART;TZID=Europe/Budapest:20250927T100000
DTEND;TZID=Europe/Budapest:20250927T140000
DTSTAMP:20260419T183253
CREATED:20250915T163649Z
LAST-MODIFIED:20250915T163649Z
UID:38983-1758967200-1758981600@vgyke.com
SUMMARY:A VGYKE is képviselteti magát a kispesti Szent Mihály-napi Búcsún
DESCRIPTION:A VGYKE XIX. Kerületi Lámpás Klubja is bemutatkozik a kispesti Templom téren megrendezésre kerülő Szent Mihály-napi Búcsún. Saját standdal\, szemléletformáló játékos feladatokkal készülünk az érdeklődők számára. Bárkit szeretettel várunk\, aki érdeklődik és nyitott a látássérült emberek mindennapi életét megkönnyítő segédeszközök és a látássérült emberek iránt.
URL:https://vgyke.com/event/a-vgyke-is-kepviselteti-magat-a-kispesti-szent-mihaly-napi-bucsun/
LOCATION:1191 Budapest Templom tér (a 42-es villamos megállójánál)
ORGANIZER;CN="R%C3%A1t%C3%B3ti Krisztina":MAILTO:kispest.szervezo@vgyke.com
END:VEVENT
BEGIN:VEVENT
DTSTART;TZID=Europe/Budapest:20250927T100000
DTEND;TZID=Europe/Budapest:20250927T140000
DTSTAMP:20260419T183253
CREATED:20250924T175712Z
LAST-MODIFIED:20250924T175759Z
UID:39053-1758967200-1758981600@vgyke.com
SUMMARY:Martonvásári kirándulás-Brunszvik kastély-Beethowen emlékmúzeum
DESCRIPTION:Kedves tagjaink\, kedves érdeklődők!\n2025. szeptember 27-én a Martonvásári Brunszvik kastélyba látogatunk.\n„A legangolabb magyar kastély\, egy darabka Anglia elevenedik meg Martonvásáron\, az angol-neogót stílusú Brunszvik-kastélyt és elképesztően szép parkját látogatva. A fantasztikus\, hófehér falú Tudor stílusú kastélyban egy érdekes kiállítás is várja a vendégeket\, a kastély leghíresebb vendégének \, Beethovennek az emlékmúzeuma. A legnagyobb attrakció pedig kétségkívül Magyarország talán legszebb kastélyparkja.” – ahogy egy kirándulásokat ajánló oldal írja. A program keretében meglátogatjuk a kastélyt\, a parkot és idegenvezetéssel az emlékmúzeumot.\nTalálkozó: Fél 9-háromnegyed 9 közöttt a Déli pályaudvar Metró kijáratánál Fornetti körül. A 9.10-kor induló vonattal megyünk Martonvásárra. Kérem mindenki időben érkezzen! Kísérőt lehetőleg mindenki hozzon magával. Az utazás\, és a belépés neki is ingyenes. A programra kérem MVGYOSZ igazolványát mindenki hozza magával\, ugyanis a belépés ingyenes\, a tárlatvezetés pedig pályázati pénzből valósul meg. Előzetes bejelentkezés a létszám miatt a lenti elérhetőségen szükséges.\nProgramjaink a Ferencvárosi Önkormányzat támogatásával valósulnak meg. Mindenkit sok szeretettel várok
URL:https://vgyke.com/event/martonvasari-kirandulas-brunszvik-kastely-beethowen-emlekmuzeum/
ORGANIZER;CN="Szalain%C3%A9 T%C3%BCndi":MAILTO:ferencvaros.szervezo@vgyke.com
END:VEVENT
BEGIN:VEVENT
DTSTART;TZID=Europe/Budapest:20250927T130000
DTEND;TZID=Europe/Budapest:20250927T170000
DTSTAMP:20260419T183253
CREATED:20250923T080759Z
LAST-MODIFIED:20250923T080759Z
UID:39042-1758978000-1758992400@vgyke.com
SUMMARY:Érzékenyítés és kitelepülés a Rákoshegyi napokon
DESCRIPTION:Ha szeretnél bepillantást nyerni a lámpások munkájába\, akkor tarts velünk a Rákoshegyi Napokra! Beszélgetésre is mód nyílik.
URL:https://vgyke.com/event/erzekenyites-es-kitelepules-a-rakoshegyi-napokon/
LOCATION:Rákoshegyi Közösségi Ház Kép u. 7-9
END:VEVENT
BEGIN:VEVENT
DTSTART;TZID=Europe/Budapest:20250927T140000
DTEND;TZID=Europe/Budapest:20250927T160000
DTSTAMP:20260419T183253
CREATED:20250929T190536Z
LAST-MODIFIED:20250929T190858Z
UID:39075-1758981600-1758988800@vgyke.com
SUMMARY:A józsefvárosi Lámpás Klub szeptemberi klubprogramja
DESCRIPTION:Sétahajózás budapest szívében
URL:https://vgyke.com/event/a-jozsefvarosi-lampas-klub-szeptemberi-klubprogramja/
LOCATION:Vigadó tér – Hajókikötő 5A dokk\, Vigadó tér – Hajókikötő\, Budapest\, 1051
ORGANIZER;CN="Nagy L%C3%A1szl%C3%B3":MAILTO:jozsefvaros.szervezo@vgyke.com
END:VEVENT
END:VCALENDAR