BEGIN:VCALENDAR
VERSION:2.0
PRODID:-//Vakok és Gyengénlátók Közép-Magyarországi Regionális Egyesülete - ECPv6.15.20//NONSGML v1.0//EN
CALSCALE:GREGORIAN
METHOD:PUBLISH
X-ORIGINAL-URL:https://vgyke.com
X-WR-CALDESC:Események Vakok és Gyengénlátók Közép-Magyarországi Regionális Egyesülete
REFRESH-INTERVAL;VALUE=DURATION:PT1H
X-Robots-Tag:noindex
X-PUBLISHED-TTL:PT1H
BEGIN:VTIMEZONE
TZID:Europe/Budapest
BEGIN:DAYLIGHT
TZOFFSETFROM:+0100
TZOFFSETTO:+0200
TZNAME:CEST
DTSTART:20240331T010000
END:DAYLIGHT
BEGIN:STANDARD
TZOFFSETFROM:+0200
TZOFFSETTO:+0100
TZNAME:CET
DTSTART:20241027T010000
END:STANDARD
BEGIN:DAYLIGHT
TZOFFSETFROM:+0100
TZOFFSETTO:+0200
TZNAME:CEST
DTSTART:20250330T010000
END:DAYLIGHT
BEGIN:STANDARD
TZOFFSETFROM:+0200
TZOFFSETTO:+0100
TZNAME:CET
DTSTART:20251026T010000
END:STANDARD
BEGIN:DAYLIGHT
TZOFFSETFROM:+0100
TZOFFSETTO:+0200
TZNAME:CEST
DTSTART:20260329T010000
END:DAYLIGHT
BEGIN:STANDARD
TZOFFSETFROM:+0200
TZOFFSETTO:+0100
TZNAME:CET
DTSTART:20261025T010000
END:STANDARD
END:VTIMEZONE
BEGIN:VEVENT
DTSTART;TZID=Europe/Budapest:20251001T150000
DTEND;TZID=Europe/Budapest:20251001T170000
DTSTAMP:20260419T183038
CREATED:20250922T151204Z
LAST-MODIFIED:20250922T151204Z
UID:39040-1759330800-1759338000@vgyke.com
SUMMARY:Újpesti Lámpás Klub Fehér bot napi rendezvény
DESCRIPTION:2025. október 1-én újra megrendezésre kerül az Újpesti Lámpás Klub Fehér bot napi rendezvénye. Nyitóbeszédet mond Fodor Ágnes a VGYKE elnökasszonya ezután a\nPécsi Sebestyén Általános és Zenetagozatos Iskola tanulói fellépését tekinthetik meg\, valamint\nPesa Anna Mária amatőr író\, költő írásaiból Pintér Teréz olvas fel\, akik látássérültek. A műsor után szendvicsekkel és süteményekkel\, ásványvízzel\, üdítővel kínáljuk vendégeinket.
URL:https://vgyke.com/event/ujpesti-lampas-klub-feher-bot-napi-rendezveny/
LOCATION:Újpesti Kulturális Központ Ifjúsági Ház 1042. Budapest\, István út 17-19.
END:VEVENT
END:VCALENDAR