BEGIN:VCALENDAR
VERSION:2.0
PRODID:-//Vakok és Gyengénlátók Közép-Magyarországi Regionális Egyesülete - ECPv6.15.20//NONSGML v1.0//EN
CALSCALE:GREGORIAN
METHOD:PUBLISH
X-ORIGINAL-URL:https://vgyke.com
X-WR-CALDESC:Események Vakok és Gyengénlátók Közép-Magyarországi Regionális Egyesülete
REFRESH-INTERVAL;VALUE=DURATION:PT1H
X-Robots-Tag:noindex
X-PUBLISHED-TTL:PT1H
BEGIN:VTIMEZONE
TZID:Europe/Budapest
BEGIN:DAYLIGHT
TZOFFSETFROM:+0100
TZOFFSETTO:+0200
TZNAME:CEST
DTSTART:20240331T010000
END:DAYLIGHT
BEGIN:STANDARD
TZOFFSETFROM:+0200
TZOFFSETTO:+0100
TZNAME:CET
DTSTART:20241027T010000
END:STANDARD
BEGIN:DAYLIGHT
TZOFFSETFROM:+0100
TZOFFSETTO:+0200
TZNAME:CEST
DTSTART:20250330T010000
END:DAYLIGHT
BEGIN:STANDARD
TZOFFSETFROM:+0200
TZOFFSETTO:+0100
TZNAME:CET
DTSTART:20251026T010000
END:STANDARD
BEGIN:DAYLIGHT
TZOFFSETFROM:+0100
TZOFFSETTO:+0200
TZNAME:CEST
DTSTART:20260329T010000
END:DAYLIGHT
BEGIN:STANDARD
TZOFFSETFROM:+0200
TZOFFSETTO:+0100
TZNAME:CET
DTSTART:20261025T010000
END:STANDARD
END:VTIMEZONE
BEGIN:VEVENT
DTSTART;TZID=Europe/Budapest:20251003T150000
DTEND;TZID=Europe/Budapest:20251003T170000
DTSTAMP:20260419T183200
CREATED:20250915T163232Z
LAST-MODIFIED:20250915T163325Z
UID:38981-1759503600-1759510800@vgyke.com
SUMMARY:Fehér Bot és okoseszközök a Kispesti Lámpás Klubon
DESCRIPTION:A VGYKE 2025-ben is megemlékezik a Fehér Bot Nemzetközi Napjáról. Október folyamán valamennyi Lámpás Klub tart tematikus klubnapokat. A Kispesti Lámpás Klubon egy rövid ünnepi műsort követően megismerhetik Lakatos Melittát\, a VGYKE okoseszköz-oktatóját és az általa bemutatott\, látássérült emberek mindennapi életét megkönnyítő okoseszközöket.
URL:https://vgyke.com/event/feher-bot-es-okoseszkozok-a-kispesti-lampas-klubon/
LOCATION:Kispesti Kaszinó  (1191 Budapest Fő u. 42.)
ORGANIZER;CN="Ruzsa Viktor":MAILTO:kispest.szervezo@vgyke.com
END:VEVENT
BEGIN:VEVENT
DTSTART;TZID=Europe/Budapest:20251003T150000
DTEND;TZID=Europe/Budapest:20251003T170000
DTSTAMP:20260419T183200
CREATED:20250930T173840Z
LAST-MODIFIED:20250930T173840Z
UID:39091-1759503600-1759510800@vgyke.com
SUMMARY:A Fehér Bot Nemzetközi Napja
DESCRIPTION:A Fehér Bot Nemzetközi Napja \nTisztelt képviselő Hölgyek/Urak! Kedves Tagtársaink\, kedves Érdeklődők! \nOktóber a látás hónapja\, október 15-e pedig a Fehér Bot Nemzetközi Napja. Ez\nalkalomból a Vakok és Gyengénlátók Közép-Magyarországi Regionális Egyesülete\nbudapesti Lámpás Klubjai – köztük a XIX. kerületi – tematikus klubnapokat\,\nprogramokat tartanak.\nSzeretettel hívjuk Önöket a Vakok és Gyengénlátók Közép-Magyarországi\nRegionális Egyesülete XIX. kerületi Lámpás Klubjának októberi klubnapjára. \nIdőpont: \n2025. október 3. péntek 15:00 \nHelyszín: \nKispesti Kaszinó (1191 Budapest Fő u. 40.\, a Határ út és Tulipán utca között \nközlekedő 42-es villamos Templom téri megállójánál) \nKöszöntőt mond FODOR ÁGNES\, \na Vakok és Gyengénlátók Közép-Magyarországi Regionális Egyesületének elnöke \nFellépők: MÁRTON RÉKA (vers) és SOMOGYI CSEPERKE (népdal)\, \na Harsányi Melinda Színitanoda növendékei \nFehér Bot-napi műsorunkat követően szeretettel várjuk Önöket asztalainkhoz\nszerény harapnivalóval és ásványvízzel\, valamint szeretettel invitálunk mindenkit egy\njó hangulatú kötetlen beszélgetésre egészen 17 óráig.\nKérjük\, hogy ha van olyan családtagjuk\, ismerősük\, aki önkéntesként szívesen\nsegítené munkánkat\, hozza magával\, őt is szeretettel látjuk\, segítségét pedig ezúton\nis megköszönjük! \nKlubjaink és programjaink Kispest Önkormányzatának támogatásával valósulnak\nmeg. \nRátóti Krisztina és Ruzsa Viktor\nVGYKE XIX. ker. közösségi civilszervezők
URL:https://vgyke.com/event/a-feher-bot-nemzetkozi-napja/
LOCATION:Kispesti Kaszinó\, Fő utca 42.\, Budapest\, 1195\, Magyarország
ORGANIZER;CN="R%C3%A1t%C3%B3ti Krisztina":MAILTO:kispest.szervezo@vgyke.com
END:VEVENT
BEGIN:VEVENT
DTSTART;TZID=Europe/Budapest:20251003T160000
DTEND;TZID=Europe/Budapest:20251003T180000
DTSTAMP:20260419T183200
CREATED:20250930T175029Z
LAST-MODIFIED:20251002T140850Z
UID:39096-1759507200-1759514400@vgyke.com
SUMMARY:Látogatás a különleges Lakomatív étterembe
DESCRIPTION:A jelenlévők kellemes délutánt töltenek egymás társaságában a vasúti kiszolgálás mellett.
URL:https://vgyke.com/event/latogatas-a-kulonleges-lakomativ-etterembe/
LOCATION:1076 Budapest\, Verseny u. 2. (Lakomatív Étterem)
ORGANIZER;CN="J%C3%A1nosi Veronika":MAILTO:erzsebetvaros.szervezo@vgyke.com
END:VEVENT
END:VCALENDAR