BEGIN:VCALENDAR
VERSION:2.0
PRODID:-//Vakok és Gyengénlátók Közép-Magyarországi Regionális Egyesülete - ECPv6.15.20//NONSGML v1.0//EN
CALSCALE:GREGORIAN
METHOD:PUBLISH
X-WR-CALNAME:Vakok és Gyengénlátók Közép-Magyarországi Regionális Egyesülete
X-ORIGINAL-URL:https://vgyke.com
X-WR-CALDESC:Események Vakok és Gyengénlátók Közép-Magyarországi Regionális Egyesülete
REFRESH-INTERVAL;VALUE=DURATION:PT1H
X-Robots-Tag:noindex
X-PUBLISHED-TTL:PT1H
BEGIN:VTIMEZONE
TZID:Europe/Budapest
BEGIN:DAYLIGHT
TZOFFSETFROM:+0100
TZOFFSETTO:+0200
TZNAME:CEST
DTSTART:20240331T010000
END:DAYLIGHT
BEGIN:STANDARD
TZOFFSETFROM:+0200
TZOFFSETTO:+0100
TZNAME:CET
DTSTART:20241027T010000
END:STANDARD
BEGIN:DAYLIGHT
TZOFFSETFROM:+0100
TZOFFSETTO:+0200
TZNAME:CEST
DTSTART:20250330T010000
END:DAYLIGHT
BEGIN:STANDARD
TZOFFSETFROM:+0200
TZOFFSETTO:+0100
TZNAME:CET
DTSTART:20251026T010000
END:STANDARD
BEGIN:DAYLIGHT
TZOFFSETFROM:+0100
TZOFFSETTO:+0200
TZNAME:CEST
DTSTART:20260329T010000
END:DAYLIGHT
BEGIN:STANDARD
TZOFFSETFROM:+0200
TZOFFSETTO:+0100
TZNAME:CET
DTSTART:20261025T010000
END:STANDARD
END:VTIMEZONE
BEGIN:VEVENT
DTSTART;TZID=Europe/Budapest:20251111T190000
DTEND;TZID=Europe/Budapest:20251111T210000
DTSTAMP:20260419T213631
CREATED:20251110T204833Z
LAST-MODIFIED:20251110T204958Z
UID:39327-1762887600-1762894800@vgyke.com
SUMMARY:Újpesti Lámpás Klub klubprogram
DESCRIPTION:Klubprogramunk alkalmával a Thália Színház “A legszebb férfikor” című előadását tekintjük meg tagjainkkal\, mely egy mulatságos bohózat. A vendégek\, sármos\, negyvenes férfiak\, akik Lady Rosemary iránt reménytelen szerelmet tápláltak egyetemista éveik alatt. De talán\, most a legszebb férfikorban feltámad a remény\, az a bizonyos 20 éve várt egyéjszakás kaland az oxfordi kollégisták találkozóján.
URL:https://vgyke.com/event/ujpesti-lampas-klub-klubprogram-6/
LOCATION:1065 Budapest\, Nagymező u. 22-24.
END:VEVENT
END:VCALENDAR