BEGIN:VCALENDAR
VERSION:2.0
PRODID:-//Vakok és Gyengénlátók Közép-Magyarországi Regionális Egyesülete - ECPv6.15.20//NONSGML v1.0//EN
CALSCALE:GREGORIAN
METHOD:PUBLISH
X-ORIGINAL-URL:https://vgyke.com
X-WR-CALDESC:Események Vakok és Gyengénlátók Közép-Magyarországi Regionális Egyesülete
REFRESH-INTERVAL;VALUE=DURATION:PT1H
X-Robots-Tag:noindex
X-PUBLISHED-TTL:PT1H
BEGIN:VTIMEZONE
TZID:Europe/Budapest
BEGIN:DAYLIGHT
TZOFFSETFROM:+0100
TZOFFSETTO:+0200
TZNAME:CEST
DTSTART:20240331T010000
END:DAYLIGHT
BEGIN:STANDARD
TZOFFSETFROM:+0200
TZOFFSETTO:+0100
TZNAME:CET
DTSTART:20241027T010000
END:STANDARD
BEGIN:DAYLIGHT
TZOFFSETFROM:+0100
TZOFFSETTO:+0200
TZNAME:CEST
DTSTART:20250330T010000
END:DAYLIGHT
BEGIN:STANDARD
TZOFFSETFROM:+0200
TZOFFSETTO:+0100
TZNAME:CET
DTSTART:20251026T010000
END:STANDARD
BEGIN:DAYLIGHT
TZOFFSETFROM:+0100
TZOFFSETTO:+0200
TZNAME:CEST
DTSTART:20260329T010000
END:DAYLIGHT
BEGIN:STANDARD
TZOFFSETFROM:+0200
TZOFFSETTO:+0100
TZNAME:CET
DTSTART:20261025T010000
END:STANDARD
END:VTIMEZONE
BEGIN:VEVENT
DTSTART;TZID=Europe/Budapest:20251112T140000
DTEND;TZID=Europe/Budapest:20251112T160000
DTSTAMP:20260419T213641
CREATED:20251105T190736Z
LAST-MODIFIED:20251105T190943Z
UID:39302-1762956000-1762963200@vgyke.com
SUMMARY:Novemberi klubnap – ügyintézés és vásárlás helyben
DESCRIPTION:Szeretettel hívunk soron következő klubalkalmunkra\, melyen a Láthatár Bolt és a VGYKE Ügyfélszolgálata lesz vendégünk\, akik készséggel válaszolnak a látássérülteket érintő aktuális pályázatokat illető\, illetve egyéb\, a látássérültséggel kapcsolatos ügyintézéseket érintő kérdésekre. \nAmennyiben a klubnapot megelőző nap (azaz 2025. november 11-e kedd) 12:00-ig jelzed igényed nekünk vagy a segédeszközboltnak\, átveheted tőlük előre megrendelt csomagodat\, vagy kipróbálhatod rendelés előtt a webshopban kinézett eszközt is. A helyszínen több segédeszköz megvásárlására is módod nyílik majd – azonban a fizetési módok közül csak a készpénzes lesz elérhető. \nEmellett – ahogy az elmúlt években is mindig – természetesen lehetőséget biztosítunk a 2026-os évre vonatkozó VGYKE-tagdíj helyben történő befizetésére is. (Tagdíjaink: felnőtteknek 3600 Ft\, 14 éven aluli gyerekeknek 1200 Ft. Kérjük\, pontos összeggel készülj!) Amennyiben szeretnél élni az alkalommal\, legyen nálad a tagkönyved – ha azonban betelt\, kérlek\, mindenképp jelezd nekünk vagy az Ügyfélszolgálat munkatársainak\, és hozz magaddal 1 db igazolványképet is az új okmányhoz\, mert kizárólag így tudják megoldani helyben a tagkönyvcserét! A tagkönyv ára 500 Ft. \nElőfordulhat\, hogy ezen kérdések már nem érintenek Téged\, hiszen régen elintézted őket. Sebaj: némi harapnivaló és ízletes tea mellett remek csapat és kellemes beszélgetés vár! Tarts velünk! \nA helyszín megközelíthetősége: Örs vezér tere felől 131\, 144\, 231-es buszok\, valamint 82\, 82A trolibusz „Vezér utca” megálló; Örs vezér tere felé ugyanezen járatok + 231B busz „Füredi utca” megálló \nAmennyiben segítségre volna szükséged a klubhelyszín megközelítéséhez\, keresd szervezőinket! Kísérőt biztosítani sajnos nem tudunk\, de ha időben szólsz\, a fent jelzett megállókba kimegyünk érted. \nA klubnap esetleges további részletei Facebook-eseményünkben olvashatóak\, mely Facebook-fiók megléte nélkül is megtekinthető:\nhttps://www.facebook.com/events/1751866368804662 \nVárunk szeretettel!
URL:https://vgyke.com/event/novemberi-klubnap-ugyintezes-es-vasarlas-helyben/
LOCATION:Zuglói Civil Ház (1144 Budapest\, Csertő park 12.)\, Kristály szoba
ORGANIZER;CN="Tanai Csaba":MAILTO:zuglo.szervezo@vgyke.com
END:VEVENT
END:VCALENDAR