BEGIN:VCALENDAR
VERSION:2.0
PRODID:-//Vakok és Gyengénlátók Közép-Magyarországi Regionális Egyesülete - ECPv6.15.20//NONSGML v1.0//EN
CALSCALE:GREGORIAN
METHOD:PUBLISH
X-ORIGINAL-URL:https://vgyke.com
X-WR-CALDESC:Események Vakok és Gyengénlátók Közép-Magyarországi Regionális Egyesülete
REFRESH-INTERVAL;VALUE=DURATION:PT1H
X-Robots-Tag:noindex
X-PUBLISHED-TTL:PT1H
BEGIN:VTIMEZONE
TZID:Europe/Budapest
BEGIN:DAYLIGHT
TZOFFSETFROM:+0100
TZOFFSETTO:+0200
TZNAME:CEST
DTSTART:20240331T010000
END:DAYLIGHT
BEGIN:STANDARD
TZOFFSETFROM:+0200
TZOFFSETTO:+0100
TZNAME:CET
DTSTART:20241027T010000
END:STANDARD
BEGIN:DAYLIGHT
TZOFFSETFROM:+0100
TZOFFSETTO:+0200
TZNAME:CEST
DTSTART:20250330T010000
END:DAYLIGHT
BEGIN:STANDARD
TZOFFSETFROM:+0200
TZOFFSETTO:+0100
TZNAME:CET
DTSTART:20251026T010000
END:STANDARD
BEGIN:DAYLIGHT
TZOFFSETFROM:+0100
TZOFFSETTO:+0200
TZNAME:CEST
DTSTART:20260329T010000
END:DAYLIGHT
BEGIN:STANDARD
TZOFFSETFROM:+0200
TZOFFSETTO:+0100
TZNAME:CET
DTSTART:20261025T010000
END:STANDARD
END:VTIMEZONE
BEGIN:VEVENT
DTSTART;TZID=Europe/Budapest:20251113T140000
DTEND;TZID=Europe/Budapest:20251113T160000
DTSTAMP:20260419T213641
CREATED:20251111T081413Z
LAST-MODIFIED:20251111T081413Z
UID:39333-1763042400-1763049600@vgyke.com
SUMMARY:Teázás a hangok szárnyán
DESCRIPTION:Szeretettel invitálok Mindenkit novemberi klubnapunk keretében egy bensőséges – az angol teaház hangulatát idéző délutánra\, ahol az ízek és a dallamok harmóniája találkozik.\nA klubnap különleges vendége Czagány Izabella\, aki bevezet minket az angol teázás rejtelmeibe\, valamint Helle Maximilián\, aki finom zenei pillanatokkal teszi még varázslatosabbá a teázás élményét\,\nAz ügyfélszolgálat képviseletében Németh Róbert látogat el klubunkra\, aki lehetőséget biztosít a jövő évi tagdíj készpénzzel történő befizetésére a helyszínen. Arra kérnék Mindekit\, hogy aki él ezzel a lehetőséggel\, pontos összeget hozzon magával. (A tagdíj árát 3.600 Ft.) \nA klubnap ingyenes\, de regisztrációhoz kötött\, melynek határideje 2025. november 10. 12:00. óra\nA klubhelység befogadóképessége véges\, ezért csak a jelentkezés sorrendjét tudom figyelembe venni. \nRegisztrálni az alábbi elérhetőségek egyikén lehet:\nMobil: 06704310445\n06301866328\nEmail: pesterzsebet.szervezo@vgykel.com \nA program időpontja: 2025. november 13. 14:00 óra\nHelyszíne: Csili Művelődési Központ “B” épület\n1201 Budapest Baross utca 55. \nVárunk Mindenkit szeretettel!
URL:https://vgyke.com/event/teazas-a-hangok-szarnyan/
LOCATION:Csili Művelődési Központ “B” épület (1201 Budapest Baross utca 55.)
ORGANIZER;CN="Dudikn%C3%A9 R%C3%A1cz Andrea":MAILTO:pesterzsebet.szervezo@vgyke.com
END:VEVENT
END:VCALENDAR