BEGIN:VCALENDAR
VERSION:2.0
PRODID:-//Vakok és Gyengénlátók Közép-Magyarországi Regionális Egyesülete - ECPv6.15.20//NONSGML v1.0//EN
CALSCALE:GREGORIAN
METHOD:PUBLISH
X-WR-CALNAME:Vakok és Gyengénlátók Közép-Magyarországi Regionális Egyesülete
X-ORIGINAL-URL:https://vgyke.com
X-WR-CALDESC:Események Vakok és Gyengénlátók Közép-Magyarországi Regionális Egyesülete
REFRESH-INTERVAL;VALUE=DURATION:PT1H
X-Robots-Tag:noindex
X-PUBLISHED-TTL:PT1H
BEGIN:VTIMEZONE
TZID:Europe/Budapest
BEGIN:DAYLIGHT
TZOFFSETFROM:+0100
TZOFFSETTO:+0200
TZNAME:CEST
DTSTART:20240331T010000
END:DAYLIGHT
BEGIN:STANDARD
TZOFFSETFROM:+0200
TZOFFSETTO:+0100
TZNAME:CET
DTSTART:20241027T010000
END:STANDARD
BEGIN:DAYLIGHT
TZOFFSETFROM:+0100
TZOFFSETTO:+0200
TZNAME:CEST
DTSTART:20250330T010000
END:DAYLIGHT
BEGIN:STANDARD
TZOFFSETFROM:+0200
TZOFFSETTO:+0100
TZNAME:CET
DTSTART:20251026T010000
END:STANDARD
BEGIN:DAYLIGHT
TZOFFSETFROM:+0100
TZOFFSETTO:+0200
TZNAME:CEST
DTSTART:20260329T010000
END:DAYLIGHT
BEGIN:STANDARD
TZOFFSETFROM:+0200
TZOFFSETTO:+0100
TZNAME:CET
DTSTART:20261025T010000
END:STANDARD
END:VTIMEZONE
BEGIN:VEVENT
DTSTART;TZID=Europe/Budapest:20251114T153000
DTEND;TZID=Europe/Budapest:20251114T180000
DTSTAMP:20260419T212718
CREATED:20251103T151548Z
LAST-MODIFIED:20251103T151727Z
UID:39276-1763134200-1763143200@vgyke.com
SUMMARY:Kalamdozása kávék világába
DESCRIPTION:Kedves klubtagok\, kísérők\, érdeklődők!Sok szeretettel várunk mindenkit az Erzsébetvárosi Lámpás Klub soron következő\, érdekesnek ígérkező programjára\, egy kalandozásra a kávék világába.\n„programunk során a résztvevőknek lehetőségük van felfedezni a kávé világát egyedülálló módon. Egy interaktív vetélkedő és egy vezetett kávékóstoló segít megismerni a modern kávékultúrát. A résztvevők egy rövid interaktív kérdéssor kitöltése után rengeteg információval gazdagodhatnak a kávé termesztéséről\, feldolgozásáról\, pörköléséről\, fajtáiról. Képet kaphatnak az újhullámos kávézásról\, és többek között az is kiderül mi is az a specialty kávé valójában. Számtalan kávéfajta\, termőterület\, feldolgozás és pörkölési stílus létezik.\nEzen a vezetett kávékóstolón 7-8 különböző termőterületről érkező és különböző feldolgozású kávét fogunk kóstolni\, összehasonlítani a nemzetközi protokoll szerint.”\nForrás: https://www.cecbudapest.com/barista-csapatepito-program-cegeknek\nA létszám limitált\, 12 fő\, amelyet a jelentkezések sorrendjében töltünk fel.Találkozó: A Keleti pályaudvar főbejáratánál a lépcső alján 14:20-14:30 között.\nInnen villamossal közelítjük meg a helyszínt.\nVisszajelzéseiket a részvételről és az esetleges segítség igényléséről 2025. 11. 09-én 18 óráig várjuk elérhetőségeink valamelyikén.\nFontos: A részvételi szándékot és a segítségre való igényt mindenképp szíveskedjenek jelezni a megadott időpontig\, mivel a segítségnyújtás igen korlátozott mértékben megoldható és szervezést igényel. \nJánosi Veronika Közösségi civilszervező \n 
URL:https://vgyke.com/event/kalamdozasa-kavek-vilagaba/
LOCATION:Coffee Education Center (1094 Budapest\, Márton utca 4.)
ORGANIZER;CN="J%C3%A1nosi Veronika":MAILTO:erzsebetvaros.szervezo@vgyke.com
END:VEVENT
END:VCALENDAR