BEGIN:VCALENDAR
VERSION:2.0
PRODID:-//Vakok és Gyengénlátók Közép-Magyarországi Regionális Egyesülete - ECPv6.15.20//NONSGML v1.0//EN
CALSCALE:GREGORIAN
METHOD:PUBLISH
X-ORIGINAL-URL:https://vgyke.com
X-WR-CALDESC:Események Vakok és Gyengénlátók Közép-Magyarországi Regionális Egyesülete
REFRESH-INTERVAL;VALUE=DURATION:PT1H
X-Robots-Tag:noindex
X-PUBLISHED-TTL:PT1H
BEGIN:VTIMEZONE
TZID:Europe/Budapest
BEGIN:DAYLIGHT
TZOFFSETFROM:+0100
TZOFFSETTO:+0200
TZNAME:CEST
DTSTART:20240331T010000
END:DAYLIGHT
BEGIN:STANDARD
TZOFFSETFROM:+0200
TZOFFSETTO:+0100
TZNAME:CET
DTSTART:20241027T010000
END:STANDARD
BEGIN:DAYLIGHT
TZOFFSETFROM:+0100
TZOFFSETTO:+0200
TZNAME:CEST
DTSTART:20250330T010000
END:DAYLIGHT
BEGIN:STANDARD
TZOFFSETFROM:+0200
TZOFFSETTO:+0100
TZNAME:CET
DTSTART:20251026T010000
END:STANDARD
BEGIN:DAYLIGHT
TZOFFSETFROM:+0100
TZOFFSETTO:+0200
TZNAME:CEST
DTSTART:20260329T010000
END:DAYLIGHT
BEGIN:STANDARD
TZOFFSETFROM:+0200
TZOFFSETTO:+0100
TZNAME:CET
DTSTART:20261025T010000
END:STANDARD
END:VTIMEZONE
BEGIN:VEVENT
DTSTART;TZID=Europe/Budapest:20251120T140000
DTEND;TZID=Europe/Budapest:20251120T160000
DTSTAMP:20260419T213635
CREATED:20251113T191536Z
LAST-MODIFIED:20251113T191641Z
UID:39338-1763647200-1763654400@vgyke.com
SUMMARY:A karácsonyi vásárokról Erzsébetvárosban
DESCRIPTION:Kedves Klubtagok\, Kísérők\, Érdeklődők!\nSzeretettel hívunk mindenkit az erzsébetvárosi Lámpás Klub novemberi klubnapjára\, amely már a karácsonyvárás jegyében telik\, ugyanis arra gondoltunk\, beszélgessünk kicsit a karácsonyi vásárról. Mióta is van ilyen rendezvény ország-\, világszerte? Szeretjük-e az ilyen rendezvényeket?\nAki számára érdekes a témafelvetés\, jöjjön bátran! \nKíséretet a klubnapra sajnos csak előre egyeztetve\, igen korlátozott mértékben tudunk biztosítani. Visszajelzéseiket a részvételről és az esetleges segítség igényléséről 2025. 09. 15-én 12 óráig várjuk elérhetőségeink valamelyikén.\nFontos: A részvételi szándékot és a segítségre való igényt mindenképp szíveskedjenek jelezni a megadott időpontig\, mivel a segítségnyújtás korlátozott mértékben megoldható és szervezést igényel! \nKérjük\, amennyiben ismer olyat\, aki szívesen segítené önkéntesként klubjaink és programjaink lebonyolítását (főképp kísérésben)\, ajánljon neki minket! \nJánosi Veronika Közösségi civilszervező\nElérhetőségek:\nMobil: +36 70 387 52 66
URL:https://vgyke.com/event/a-karacsonyi-vasarokrol-erzsebetvarosban/
LOCATION:1072 Budapest\, Nagydiófa utca 34. (KlauDió Civil Központ)
ORGANIZER;CN="J%C3%A1nosi Veronika":MAILTO:erzsebetvaros.szervezo@vgyke.com
END:VEVENT
BEGIN:VEVENT
DTSTART;TZID=Europe/Budapest:20251120T183000
DTEND;TZID=Europe/Budapest:20251120T203000
DTSTAMP:20260419T213635
CREATED:20251110T201857Z
LAST-MODIFIED:20251110T204312Z
UID:39320-1763663400-1763670600@vgyke.com
SUMMARY:Koncert Dely Csaba emlékére
DESCRIPTION:Ha szereted a fúvószenét\, akkor tarts velünk a Rákosmenti Zenebarátok koncertjére és emlékezzünk együtt a híres és ismert karmesterre és egyben tagtársunkra\, Dely Csabára!
URL:https://vgyke.com/event/koncert-dely-csaba-emlekere/
LOCATION:XVII. Kerületi Vigyázó Sándor Művelődési Központ (1173 Budapest\, Pesti út 113.)
ORGANIZER;CN="Krayn%C3%A9 Farag%C3%B3 Zsuzsanna":MAILTO:rakosmente.szervezo@vgyke.com
END:VEVENT
END:VCALENDAR