BEGIN:VCALENDAR
VERSION:2.0
PRODID:-//Vakok és Gyengénlátók Közép-Magyarországi Regionális Egyesülete - ECPv6.15.20//NONSGML v1.0//EN
CALSCALE:GREGORIAN
METHOD:PUBLISH
X-ORIGINAL-URL:https://vgyke.com
X-WR-CALDESC:Események Vakok és Gyengénlátók Közép-Magyarországi Regionális Egyesülete
REFRESH-INTERVAL;VALUE=DURATION:PT1H
X-Robots-Tag:noindex
X-PUBLISHED-TTL:PT1H
BEGIN:VTIMEZONE
TZID:Europe/Budapest
BEGIN:DAYLIGHT
TZOFFSETFROM:+0100
TZOFFSETTO:+0200
TZNAME:CEST
DTSTART:20240331T010000
END:DAYLIGHT
BEGIN:STANDARD
TZOFFSETFROM:+0200
TZOFFSETTO:+0100
TZNAME:CET
DTSTART:20241027T010000
END:STANDARD
BEGIN:DAYLIGHT
TZOFFSETFROM:+0100
TZOFFSETTO:+0200
TZNAME:CEST
DTSTART:20250330T010000
END:DAYLIGHT
BEGIN:STANDARD
TZOFFSETFROM:+0200
TZOFFSETTO:+0100
TZNAME:CET
DTSTART:20251026T010000
END:STANDARD
BEGIN:DAYLIGHT
TZOFFSETFROM:+0100
TZOFFSETTO:+0200
TZNAME:CEST
DTSTART:20260329T010000
END:DAYLIGHT
BEGIN:STANDARD
TZOFFSETFROM:+0200
TZOFFSETTO:+0100
TZNAME:CET
DTSTART:20261025T010000
END:STANDARD
END:VTIMEZONE
BEGIN:VEVENT
DTSTART;TZID=Europe/Budapest:20251121T100000
DTEND;TZID=Europe/Budapest:20251121T120000
DTSTAMP:20260419T212821
CREATED:20251103T150456Z
LAST-MODIFIED:20251103T150603Z
UID:39271-1763719200-1763726400@vgyke.com
SUMMARY:Szent Márton-napi Klub Békásmegyeren
DESCRIPTION:Alig\, hogy elkezdődött\, máris lassan magunk mögött hagyjuk a 2025. évet. De még Advent előtt van egy fontos időszak\, Szent András hava\, annak is 11. napja Szent Márton napja. Miről\, vagy inkább kiről szól ez a nap? Milyen népszokásokat ismerünk? – ezekről beszélgetünk soron következő klubnapunkon.
URL:https://vgyke.com/event/szent-marton-napi-klub-bekasmegyeren/
LOCATION:Békásmegyeri Közösségi Ház (1039 Budapest Csobánka tér 5.)  I. emeleti kisterem
ORGANIZER;CN="Ruzsa Viktor":MAILTO:obuda.szervezo@vgyke.com
END:VEVENT
END:VCALENDAR