BEGIN:VCALENDAR
VERSION:2.0
PRODID:-//Vakok és Gyengénlátók Közép-Magyarországi Regionális Egyesülete - ECPv6.15.20//NONSGML v1.0//EN
CALSCALE:GREGORIAN
METHOD:PUBLISH
X-ORIGINAL-URL:https://vgyke.com
X-WR-CALDESC:Események Vakok és Gyengénlátók Közép-Magyarországi Regionális Egyesülete
REFRESH-INTERVAL;VALUE=DURATION:PT1H
X-Robots-Tag:noindex
X-PUBLISHED-TTL:PT1H
BEGIN:VTIMEZONE
TZID:Europe/Budapest
BEGIN:DAYLIGHT
TZOFFSETFROM:+0100
TZOFFSETTO:+0200
TZNAME:CEST
DTSTART:20240331T010000
END:DAYLIGHT
BEGIN:STANDARD
TZOFFSETFROM:+0200
TZOFFSETTO:+0100
TZNAME:CET
DTSTART:20241027T010000
END:STANDARD
BEGIN:DAYLIGHT
TZOFFSETFROM:+0100
TZOFFSETTO:+0200
TZNAME:CEST
DTSTART:20250330T010000
END:DAYLIGHT
BEGIN:STANDARD
TZOFFSETFROM:+0200
TZOFFSETTO:+0100
TZNAME:CET
DTSTART:20251026T010000
END:STANDARD
BEGIN:DAYLIGHT
TZOFFSETFROM:+0100
TZOFFSETTO:+0200
TZNAME:CEST
DTSTART:20260329T010000
END:DAYLIGHT
BEGIN:STANDARD
TZOFFSETFROM:+0200
TZOFFSETTO:+0100
TZNAME:CET
DTSTART:20261025T010000
END:STANDARD
END:VTIMEZONE
BEGIN:VEVENT
DTSTART;TZID=Europe/Budapest:20251128T100000
DTEND;TZID=Europe/Budapest:20251128T113000
DTSTAMP:20260419T213634
CREATED:20251118T184229Z
LAST-MODIFIED:20251118T184414Z
UID:39373-1764324000-1764329400@vgyke.com
SUMMARY:Látogatás a Petőfi Irodalmi Múzeumba
DESCRIPTION:Kedves Tagtársak és Érdeklődők! \nSzeretettel hívok mindenkit a „Költő lenni vagy nem lenni” című kiállításra\, amelyet Petőfi Sándor születésének 200. évfordulója alkalmából nyitottak meg. A tárlat segítségével megismerhetjük Petőfi gazdag és sokrétű életművét\, költői és prózai munkásságát\, szerkesztői tevékenységét\, valamint a korszak irodalmi és társadalmi kontextusát. A kiállítás nem csupán a kultuszfigurát állítja középpontba\, hanem a szerzőt\, aki kortársaira és a tágabb környezetére figyelve bátran feszegette az irodalmi normák határait. \nEgyütt fedezhetjük fel a korszak izgalmas témáit: \naz emberi kapcsolatok bonyolultságát\, a halál és az élet misztériumát\, katasztrófákat és bűntényeket\, a változó természeti és civilizációs környezetet\, valamint a reformkor társadalmi és közéleti eszméit. \nA tárlat révén jól láthatjuk\, hogyan fonódnak össze a korszak eszméi\, a romantika és a biedermeier stílusjegyei\, valamint a művészetről és a szépségről alkotott hitvallások Petőfi szövegeiben és a kortárs képzőművészeti alkotásokban. \nA kiállításon eredeti\, gyakran eddig soha nem látott műtárgyak\, videók\, ötletgazdag adatvizualizációk és interaktív multimédiás eszközök várnak minket. A program különlegessége a tárlatvezetés \, amely során szakértő kalauzol minket\, és izgalmas háttérinformációkkal\, részletekkel gazdagítja a felfedezést\, így a látogatás egyszerre lesz élményszerű és ismeretterjesztő. \nHelyszín: 1053 Budapest\,  Károlyi utca 16. (Petőfi Irodalmi Múzeum) \nIdőpont: 2025. november 28. 10:00 (Találkozó délelőtt 9:45-kor a múzeum bejárata előtt!) \nA jegyek száma korlátozott\, ezért kérem\, részvételi szándékukat mielőbb jelezzék a lenti elérhetőségek egyikén! \nJelentkezés határideje: 2025 november 26. \nTartsanak velünk\, és merüljünk el együtt Petőfi sokszínű világában. \nA program a XIII. kerületi önkormányzat támogatásával valósulhat meg.
URL:https://vgyke.com/event/latogatas-a-petofi-irodalmi-muzeumba/
LOCATION:1053 Budapest\,  Károlyi utca 16. (Petőfi Irodalmi Múzeum)
ORGANIZER;CN="Kindl R%C3%A9ka":MAILTO:angyalfold.szervezo@vgyke.com
END:VEVENT
BEGIN:VEVENT
DTSTART;TZID=Europe/Budapest:20251128T160000
DTEND;TZID=Europe/Budapest:20251128T180000
DTSTAMP:20260419T213634
CREATED:20251119T105736Z
LAST-MODIFIED:20251119T105736Z
UID:39386-1764345600-1764352800@vgyke.com
SUMMARY:Novemberi klubnap Józsefvárosban
DESCRIPTION:Fókuszban a társasjátékok
URL:https://vgyke.com/event/novemberi-klubnap-jozsefvarosban/
LOCATION:Kesztyűgyár Közösségi Ház\, Mátyás tér 15\, Budapest\, 1084
ORGANIZER;CN="Nagy L%C3%A1szl%C3%B3":MAILTO:jozsefvaros.szervezo@vgyke.com
END:VEVENT
END:VCALENDAR