BEGIN:VCALENDAR
VERSION:2.0
PRODID:-//Vakok és Gyengénlátók Közép-Magyarországi Regionális Egyesülete - ECPv6.15.20//NONSGML v1.0//EN
CALSCALE:GREGORIAN
METHOD:PUBLISH
X-ORIGINAL-URL:https://vgyke.com
X-WR-CALDESC:Események Vakok és Gyengénlátók Közép-Magyarországi Regionális Egyesülete
REFRESH-INTERVAL;VALUE=DURATION:PT1H
X-Robots-Tag:noindex
X-PUBLISHED-TTL:PT1H
BEGIN:VTIMEZONE
TZID:Europe/Budapest
BEGIN:DAYLIGHT
TZOFFSETFROM:+0100
TZOFFSETTO:+0200
TZNAME:CEST
DTSTART:20220327T010000
END:DAYLIGHT
BEGIN:STANDARD
TZOFFSETFROM:+0200
TZOFFSETTO:+0100
TZNAME:CET
DTSTART:20221030T010000
END:STANDARD
BEGIN:DAYLIGHT
TZOFFSETFROM:+0100
TZOFFSETTO:+0200
TZNAME:CEST
DTSTART:20230326T010000
END:DAYLIGHT
BEGIN:STANDARD
TZOFFSETFROM:+0200
TZOFFSETTO:+0100
TZNAME:CET
DTSTART:20231029T010000
END:STANDARD
BEGIN:DAYLIGHT
TZOFFSETFROM:+0100
TZOFFSETTO:+0200
TZNAME:CEST
DTSTART:20240331T010000
END:DAYLIGHT
BEGIN:STANDARD
TZOFFSETFROM:+0200
TZOFFSETTO:+0100
TZNAME:CET
DTSTART:20241027T010000
END:STANDARD
END:VTIMEZONE
BEGIN:VEVENT
DTSTART;TZID=Europe/Budapest:20230103T140000
DTEND;TZID=Europe/Budapest:20230103T163000
DTSTAMP:20260423T212139
CREATED:20230702T084541Z
LAST-MODIFIED:20230702T084541Z
UID:33105-1672754400-1672763400@vgyke.com
SUMMARY:klubnap
DESCRIPTION:A klubtagokkal közösen megterveztük az évet
URL:https://vgyke.com/event/klubnap-4/
LOCATION:Csekovszky Művelődési Ház\, Hősök tere 9.\, 1172
END:VEVENT
BEGIN:VEVENT
DTSTART;TZID=Europe/Budapest:20230104T150000
DTEND;TZID=Europe/Budapest:20230104T170000
DTSTAMP:20260423T212139
CREATED:20230705T132442Z
LAST-MODIFIED:20230705T132442Z
UID:33205-1672844400-1672851600@vgyke.com
SUMMARY:Évnyitó Klub
DESCRIPTION:Idén is várunk titeket havi klubjainkra\, melyek – ahogyan már megszokhattátok – minden hónap első szerdáján lesznek\, a szokásos helyen és időben. Januári klubunk témája az év megtervezése: hová menjünk kirándulni\, mit szeretnétek megnézni?\nGyertek\, hozzátok az ötleteiteket\, jókedveteket!
URL:https://vgyke.com/event/evnyito-klub/
LOCATION:Újpesti Ifjúsági Ház 1042 Budapest István út 17-19
ORGANIZER;CN="Murg%C3%A1cs J%C3%A1nosn%C3%A9":MAILTO:ujpest.szervezo@vgyke.com
END:VEVENT
BEGIN:VEVENT
DTSTART;TZID=Europe/Budapest:20230108T150000
DTEND;TZID=Europe/Budapest:20230108T180000
DTSTAMP:20260423T212139
CREATED:20230628T151506Z
LAST-MODIFIED:20230628T151506Z
UID:33064-1673190000-1673200800@vgyke.com
SUMMARY:Varázslatos Kaland a Szent István parkban
DESCRIPTION:A jelenlévők részt vehettek a Speckó szabadtéri kalandjátékán a Szent István parkban\, mely során különböző feladatok nyomán megszerezhették a varázskulcsot. Az ügyes csapatokat forró tea\,forralt bor és édességek várták a célban.
URL:https://vgyke.com/event/varazslatos-kaland-a-szent-istvan-parkban/
LOCATION:Szent István park\, Budapest\, 1137
ORGANIZER;CN="Koll%C3%A1rszki Bogl%C3%A1rka":MAILTO:csepel.szervezo@vgyke.com
END:VEVENT
BEGIN:VEVENT
DTSTART;TZID=Europe/Budapest:20230109T150000
DTEND;TZID=Europe/Budapest:20230109T170000
DTSTAMP:20260423T212139
CREATED:20230627T155357Z
LAST-MODIFIED:20230627T155357Z
UID:33024-1673276400-1673283600@vgyke.com
SUMMARY:Évnyitó klubnap
DESCRIPTION:Évnyitó klubnap\, amelyen megvitatjuk az éves programokat.
URL:https://vgyke.com/event/evnyito-klubnap/
LOCATION:Kőrösi Csoma Sándor Kőbányai Kulturális Központ
ORGANIZER;CN="Duplinszki Katalin":MAILTO:kobanya.szervezo@vgyke.com
END:VEVENT
BEGIN:VEVENT
DTSTART;TZID=Europe/Budapest:20230110T190000
DTEND;TZID=Europe/Budapest:20230110T210000
DTSTAMP:20260423T212139
CREATED:20230702T085153Z
LAST-MODIFIED:20230702T085153Z
UID:33111-1673377200-1673384400@vgyke.com
SUMMARY:program
DESCRIPTION:RÁZENE újévi koncert
URL:https://vgyke.com/event/program-7/
LOCATION:Vigyázó Sándor Művelődési Ház\, Pesti út 113.\, 1173
END:VEVENT
BEGIN:VEVENT
DTSTART;TZID=Europe/Budapest:20230111T080000
DTEND;TZID=Europe/Budapest:20230111T170000
DTSTAMP:20260423T212139
CREATED:20230703T130334Z
LAST-MODIFIED:20230703T130334Z
UID:33128-1673424000-1673456400@vgyke.com
SUMMARY:Klubnap
DESCRIPTION:Ismerkedés a hangtálakkal\, vendégünk Krayné Faragó Zsuzsa
URL:https://vgyke.com/event/klubnap-7/
LOCATION:Zuglói Civil Ház\, Csertő park 12.\, Budapest\, 1144
ORGANIZER;CN="Kiss M%C3%A1rta":MAILTO:zuglo.szervezo@vgyke.com
END:VEVENT
BEGIN:VEVENT
DTSTART;TZID=Europe/Budapest:20230112T190000
DTEND;TZID=Europe/Budapest:20230112T210000
DTSTAMP:20260423T212139
CREATED:20230623T150733Z
LAST-MODIFIED:20230623T150802Z
UID:32990-1673550000-1673557200@vgyke.com
SUMMARY:Rázenével hangolódunk az új esztendőre
DESCRIPTION:A jelenlévők egy komoly zenei művekkel és musicelekkel tarkított koncertet hallgathatnak meg.
URL:https://vgyke.com/event/razenevel-hangolodunk-az-uj-esztendore/
ORGANIZER;CN="J%C3%A1nosi Veronika":MAILTO:erzsebetvaros.szervezo@vgyke.com
END:VEVENT
BEGIN:VEVENT
DTSTART;TZID=Europe/Budapest:20230114T110000
DTEND;TZID=Europe/Budapest:20230114T120000
DTSTAMP:20260423T212139
CREATED:20230616T134257Z
LAST-MODIFIED:20230616T134257Z
UID:32819-1673694000-1673697600@vgyke.com
SUMMARY:Ferencváros 2023.01.14-online klub
DESCRIPTION:Lengyel Zsófival paralimpikonnal beszélgetés
URL:https://vgyke.com/event/ferencvaros-2023-01-14-online-klub/
END:VEVENT
BEGIN:VEVENT
DTSTART;TZID=Europe/Budapest:20230116T150000
DTEND;TZID=Europe/Budapest:20230116T163000
DTSTAMP:20260423T212139
CREATED:20230628T151020Z
LAST-MODIFIED:20230628T151020Z
UID:33062-1673881200-1673886600@vgyke.com
SUMMARY:Programtervezés a XVI. Kerületben
DESCRIPTION:Tagjainkkal megterveztük a 2023-as évet\, mik a tagok igényei\, milyen programokon vegyünk részt majd\, miket szervezzünk meg.
URL:https://vgyke.com/event/programtervezes-a-xvi-keruletben/
LOCATION:Napraforgó Központ\, Cziráki utca 22. 1. emelet\, klubterem\, Budapest\, 1163
ORGANIZER;CN="Koll%C3%A1rszki Bogl%C3%A1rka":MAILTO:csepel.szervezo@vgyke.com
END:VEVENT
BEGIN:VEVENT
DTSTART;TZID=Europe/Budapest:20230120T100000
DTEND;TZID=Europe/Budapest:20230120T120000
DTSTAMP:20260423T212139
CREATED:20230703T143349Z
LAST-MODIFIED:20230703T143349Z
UID:33191-1674208800-1674216000@vgyke.com
SUMMARY:Januárban lakásklub keretében találkoztunk a látássérültekkel.
DESCRIPTION:Megterveztük az előttünk álló évben milyen előadásokat szeretnénk hallani a klubnapon\, és milyen külsős programokat szeretnénk megvalósítani.
URL:https://vgyke.com/event/januarban-lakasklub-kereteben-talalkoztunk-a-latasserultekkel/
LOCATION:1039. Budapest\, Bebó Károly u 7.
ORGANIZER;CN="Vasn%C3%A9 Pint%C3%A9r Ter%C3%A9z":MAILTO:obuda.szervezo@vgyke.com
END:VEVENT
BEGIN:VEVENT
DTSTART;VALUE=DATE:20230123
DTEND;VALUE=DATE:20230124
DTSTAMP:20260423T212139
CREATED:20230705T144556Z
LAST-MODIFIED:20230705T144556Z
UID:33254-1674432000-1674518399@vgyke.com
SUMMARY:Közlekedés látássérültként
DESCRIPTION:Beszélgetés arról\, hogyan közlekednek a látássérültek fehér bottal és vakvezető kutyával.
URL:https://vgyke.com/event/kozlekedes-latasserultkent/
ORGANIZER;CN="Majl%C3%A1th M%C3%B3nika":MAILTO:angyalfold.szervezo@vgyke.com
END:VEVENT
BEGIN:VEVENT
DTSTART;TZID=Europe/Budapest:20230125T140000
DTEND;TZID=Europe/Budapest:20230125T160000
DTSTAMP:20260423T212139
CREATED:20230703T143141Z
LAST-MODIFIED:20230703T143141Z
UID:33188-1674655200-1674662400@vgyke.com
SUMMARY:Program Óbudai Múzeumban jártunk a látássérültekkel.
DESCRIPTION:Megnéztük a Játékgyűjteményt\, és az időszaki “KI gombolta volna” Gombkiállítást.
URL:https://vgyke.com/event/program-obudai-muzeumban-jartunk-a-latasserultekkel/
LOCATION:Óbudai Múzeum 1033. Budapest\, Fő tér 1.
ORGANIZER;CN="Vasn%C3%A9 Pint%C3%A9r Ter%C3%A9z":MAILTO:obuda.szervezo@vgyke.com
END:VEVENT
BEGIN:VEVENT
DTSTART;TZID=Europe/Budapest:20230125T150000
DTEND;TZID=Europe/Budapest:20230125T170000
DTSTAMP:20260423T212139
CREATED:20230619T181238Z
LAST-MODIFIED:20230619T181238Z
UID:32928-1674658800-1674666000@vgyke.com
SUMMARY:Januári klubnap a XVIII. kerületben - Vendégünk az ALKO-SOFT Kft
DESCRIPTION:A Kft. segédeszközök honosításával\, forgalmazásával\, informatikai rendszerek kiépítésével és üzemeltetésével foglalkozik. Erre az alkalomra hoznak magukkal Braille illetve beszélő eszközöket\, nagyítókat\, valamint informatikai programokról\, kérdésekről is fognak tájékoztatást adni.
URL:https://vgyke.com/event/januari-klubnap-a-xviii-keruletben-vendegunk-az-alko-soft-kft/
LOCATION:Kondor Béla Közösségi Ház\, Kondor Béla sétány 8.\, Budapest\, 1181
ORGANIZER;CN="P%C3%A1zm%C3%A1n Krisztina":MAILTO:18.kerulet.szervezo@vgyke.com
END:VEVENT
BEGIN:VEVENT
DTSTART;TZID=Europe/Budapest:20230128T150000
DTEND;TZID=Europe/Budapest:20230128T170000
DTSTAMP:20260423T212139
CREATED:20230616T135444Z
LAST-MODIFIED:20230616T135444Z
UID:32822-1674918000-1674925200@vgyke.com
SUMMARY:Ferencváros 2023. január 28. klubprogram
DESCRIPTION:Pinceszínázban-Csehov “Szakadékban” c. előadás megtekintése
URL:https://vgyke.com/event/ferencvaros-2023-januar-28-klubprogram/
LOCATION:Pinceszínház\, Török Pál u. 3.\, Budapest\, 1093
END:VEVENT
BEGIN:VEVENT
DTSTART;TZID=Europe/Budapest:20230131T100000
DTEND;TZID=Europe/Budapest:20230131T120000
DTSTAMP:20260423T212139
CREATED:20230703T132537Z
LAST-MODIFIED:20230703T132537Z
UID:33141-1675159200-1675166400@vgyke.com
SUMMARY:Külsős klub program
DESCRIPTION:Látogatás a Holokauszt Emlékközpontba
URL:https://vgyke.com/event/kulsos-klub-program/
LOCATION:1094 Budapest Páva u.39.
ORGANIZER;CN="Kiss M%C3%A1rta":MAILTO:zuglo.szervezo@vgyke.com
END:VEVENT
BEGIN:VEVENT
DTSTART;TZID=Europe/Budapest:20230131T100000
DTEND;TZID=Europe/Budapest:20230131T140000
DTSTAMP:20260423T212139
CREATED:20230619T173950Z
LAST-MODIFIED:20230619T173950Z
UID:32910-1675159200-1675173600@vgyke.com
SUMMARY:Látogatás a Holokauszt Emlékközpontba
DESCRIPTION:A Holokauszt Emlékközpont a világ kevés\, kizárólag a holokauszttal foglalkozó\, állami alapítású intézményeinek egyike. A látogatókat különleges és egyedi építészeti környezet fogadja. Frank O. Gehry\, a világ talán leghíresebb kortárs építésze (a bilbaói Guggenheim Múzeum tervezője) magyarországi látogatásakor Budapest panorámája mellett az Emlékközpontot nevezte meg a rá leginkább mély hatást gyakorló építészeti alkotásként. A modern épületegyüttesbe szervesen kapcsolódó Páva utcai zsinagóga autentikus hely\, egykor Budapest második legnagyobb zsinagógája volt. Az intézmény tudományos\, oktatási és kulturális központ. Interaktív állandó és különleges időszaki kiállításokkal\, élményközpontú múzeumpedagógiai programokkal\, kulturális rendezvényekkel várja a látogatókat.
URL:https://vgyke.com/event/latogatas-a-holokauszt-emlekkozpontba/
LOCATION:Holokauszt Emlékközpont\, Páva u. 39.\, Budapest\, 1094
ORGANIZER;CN="P%C3%A1zm%C3%A1n Krisztina":MAILTO:18.kerulet.szervezo@vgyke.com
END:VEVENT
END:VCALENDAR