BEGIN:VCALENDAR
VERSION:2.0
PRODID:-//Vakok és Gyengénlátók Közép-Magyarországi Regionális Egyesülete - ECPv6.15.20//NONSGML v1.0//EN
CALSCALE:GREGORIAN
METHOD:PUBLISH
X-ORIGINAL-URL:https://vgyke.com
X-WR-CALDESC:Események Vakok és Gyengénlátók Közép-Magyarországi Regionális Egyesülete
REFRESH-INTERVAL;VALUE=DURATION:PT1H
X-Robots-Tag:noindex
X-PUBLISHED-TTL:PT1H
BEGIN:VTIMEZONE
TZID:Europe/Budapest
BEGIN:DAYLIGHT
TZOFFSETFROM:+0100
TZOFFSETTO:+0200
TZNAME:CEST
DTSTART:20220327T010000
END:DAYLIGHT
BEGIN:STANDARD
TZOFFSETFROM:+0200
TZOFFSETTO:+0100
TZNAME:CET
DTSTART:20221030T010000
END:STANDARD
BEGIN:DAYLIGHT
TZOFFSETFROM:+0100
TZOFFSETTO:+0200
TZNAME:CEST
DTSTART:20230326T010000
END:DAYLIGHT
BEGIN:STANDARD
TZOFFSETFROM:+0200
TZOFFSETTO:+0100
TZNAME:CET
DTSTART:20231029T010000
END:STANDARD
BEGIN:DAYLIGHT
TZOFFSETFROM:+0100
TZOFFSETTO:+0200
TZNAME:CEST
DTSTART:20240331T010000
END:DAYLIGHT
BEGIN:STANDARD
TZOFFSETFROM:+0200
TZOFFSETTO:+0100
TZNAME:CET
DTSTART:20241027T010000
END:STANDARD
END:VTIMEZONE
BEGIN:VEVENT
DTSTART;TZID=Europe/Budapest:20230704T140000
DTEND;TZID=Europe/Budapest:20230704T163000
DTSTAMP:20260423T123511
CREATED:20230627T153943Z
LAST-MODIFIED:20230627T153943Z
UID:33018-1688479200-1688488200@vgyke.com
SUMMARY:Klub
DESCRIPTION:A Láthatár bolt bemutatkozása a klubon
URL:https://vgyke.com/event/klub/
LOCATION:Rákosliget katolikus kör\, 1172  XV. U. 2.\, Rákosliget\, Budapest\, 1172
END:VEVENT
BEGIN:VEVENT
DTSTART;TZID=Europe/Budapest:20230705T090000
DTEND;TZID=Europe/Budapest:20230705T160000
DTSTAMP:20260423T123511
CREATED:20230705T150508Z
LAST-MODIFIED:20230705T150508Z
UID:33273-1688547600-1688572800@vgyke.com
SUMMARY:Látogatás a siófoki fordított házakhoz
DESCRIPTION:Tagjainkkal ellátogatunk a siófoki fordított házakhoz.
URL:https://vgyke.com/event/latogatas-a-siofoki-forditott-hazakhoz-2/
LOCATION:Siófok\, Siófok\, Magyarország
ORGANIZER;CN="Majl%C3%A1th M%C3%B3nika":MAILTO:angyalfold.szervezo@vgyke.com
END:VEVENT
BEGIN:VEVENT
DTSTART;TZID=Europe/Budapest:20230705T150000
DTEND;TZID=Europe/Budapest:20230705T170000
DTSTAMP:20260423T123511
CREATED:20230701T085224Z
LAST-MODIFIED:20230701T085224Z
UID:33080-1688569200-1688576400@vgyke.com
SUMMARY:Beszélgetés a köz- és közlekedésbiztonságról
DESCRIPTION:Szeretettel várunk júliusi klubunkra\, melynek témája a köz- és közlekedésbiztonság. Látássérültként különösen fontossá válik a mindennapok során\, hogy megfelelő elővigyázatossággal járjuk az utcákat\, intézzük ügyeinket a valós és virtuális térben egyaránt – hiszen ép emberek is gyakran esnek bűncselekmény áldozatául\, egy fogyatékkal élő pedig fokozottan veszélyeztetettnek számít.\nTermészetesen\, félni nem kell\, az csak az életminőséget rombolná – de némi extra odafigyelés\, illetve a különféle bűnözői trükkök ismerete\, mások esteiből való tanulás hasznos lehet.\nElőadónk a már sokunk által megismert és megkedvelt Varga Brigitta főhadnagy kmb.\, aki a biztonságos közlekedésről\, életvédelemről\, valamint a legújabb online bűnözési szokásokról fog nekünk mesélni. Eddigi tapasztalatain alapján igen érdekes és tartalmas alkalomnak nézünk elébe!\nCsatlakozz hozzánk\, hogy közösen vitassuk meg a hallottakat és esetleges kérdéseid némi harapnivaló és szörp mellett!\nVárjuk minden kedves tagunkat és kísérőiket!
URL:https://vgyke.com/event/beszelgetes-a-koz-es-kozlekedesbiztonsagrol/
LOCATION:Újpesti Ifjúsági Ház\, István út 17-19\, Budapest\, 1042
ORGANIZER;CN="Murg%C3%A1cs J%C3%A1nosn%C3%A9":MAILTO:ujpest.szervezo@vgyke.com
END:VEVENT
BEGIN:VEVENT
DTSTART;TZID=Europe/Budapest:20230706T103000
DTEND;TZID=Europe/Budapest:20230706T153000
DTSTAMP:20260423T123511
CREATED:20230618T151512Z
LAST-MODIFIED:20230618T151512Z
UID:32898-1688639400-1688657400@vgyke.com
SUMMARY:Filmgyártás-élménytúra a Korda Filmparkban
DESCRIPTION:Etyekre utazunk\, ahol a filmgyártás rejtelmeibe tekinthetünk be. A Korda Filmpark Látogatóközpontja bennfentes ismereteket nyújt arról\, hogyan készül el egy nemzetközi filmes szuperprodukció\, miközben játékos élményt nyújt\, hogy betekinthess a nemzetközi filmipar rejtelmeibe. A 2-2\,5 órás vezetett élménytúra során részese lehetsz a filmgyártás modern gyakorlatának\, megismerheted a filmkészítés legfontosabb állomásait. Kedvedre sétálhatsz\, fotózhatsz az életnagyságú díszletvárosban.
URL:https://vgyke.com/event/filmgyartas-elmenytura-a-korda-filmparkban/
LOCATION:Korda Filmpark\, Korda út 1572 hrsz.\, Etyek\, 2091\, Magyarország
ORGANIZER;CN="P%C3%A1zm%C3%A1n Krisztina":MAILTO:18.kerulet.szervezo@vgyke.com
END:VEVENT
BEGIN:VEVENT
DTSTART;TZID=Europe/Budapest:20230707T140000
DTEND;TZID=Europe/Budapest:20230707T160000
DTSTAMP:20260423T123511
CREATED:20230626T153131Z
LAST-MODIFIED:20230626T153131Z
UID:33002-1688738400-1688745600@vgyke.com
SUMMARY:Klubnap-2023.07.07
DESCRIPTION:Fogyatékkal élő nők a bántalmazás hálójában-előadó Lombos Petra
URL:https://vgyke.com/event/klubnap-2023-07-07/
LOCATION:Ferencvárosi Művelődési Központ FMK\, Haller u. 27.\, Budapest\, 1093
END:VEVENT
BEGIN:VEVENT
DTSTART;TZID=Europe/Budapest:20230707T170000
DTEND;TZID=Europe/Budapest:20230707T210000
DTSTAMP:20260423T123511
CREATED:20230618T152112Z
LAST-MODIFIED:20230618T152112Z
UID:32901-1688749200-1688763600@vgyke.com
SUMMARY:Séta és koncert a Városligetben
DESCRIPTION:A Városligetben tervezünk egy sétát\, este pedig részt vehetünk egy fantasztikus komolyzenei koncerten a Magyar Zene Háza Szabadtéri színpadán. A vizek zenéi – A Duna Szimfonikus Zenekar előadása.
URL:https://vgyke.com/event/seta-es-koncert-a-varosligetben/
LOCATION:Városliget\, Olof Palme sétány 3.\, Budapest\, 1146\, Magyarország
ORGANIZER;CN="P%C3%A1zm%C3%A1n Krisztina":MAILTO:18.kerulet.szervezo@vgyke.com
END:VEVENT
BEGIN:VEVENT
DTSTART;TZID=Europe/Budapest:20230710T150000
DTEND;TZID=Europe/Budapest:20230710T170000
DTSTAMP:20260423T123511
CREATED:20230704T134828Z
LAST-MODIFIED:20230704T134828Z
UID:33199-1689001200-1689008400@vgyke.com
SUMMARY:Akadálymentes nyaralás látássérültként
DESCRIPTION:A résztvevők megismerhetik egymás tapasztalatait a különféle szálláshelyek akadálymentessége tekintetében.
URL:https://vgyke.com/event/akadalymentes-nyaralas-latasserultkent/
LOCATION:Kőrösi Csoma Sándor Kőbányai Kulturális Központ
ORGANIZER;CN="Duplinszki Katalin":MAILTO:kobanya.szervezo@vgyke.com
END:VEVENT
BEGIN:VEVENT
DTSTART;TZID=Europe/Budapest:20230712T140000
DTEND;TZID=Europe/Budapest:20230712T153000
DTSTAMP:20260423T123511
CREATED:20230704T135851Z
LAST-MODIFIED:20230704T135851Z
UID:33201-1689170400-1689175800@vgyke.com
SUMMARY:Könyvbemutató
DESCRIPTION:(Okos Levente a DULÁTE elnöke könyvének bemutatója. L.Ryson Ukami- A farkas)
URL:https://vgyke.com/event/konyvbemutato/
LOCATION:Zuglói Civil Ház\, Csertő park 12.\, Budapest\, 1144
ORGANIZER;CN="Kiss M%C3%A1rta":MAILTO:zuglo.szervezo@vgyke.com
END:VEVENT
BEGIN:VEVENT
DTSTART;TZID=Europe/Budapest:20230712T140000
DTEND;TZID=Europe/Budapest:20230712T160000
DTSTAMP:20260423T123511
CREATED:20230621T134930Z
LAST-MODIFIED:20230621T134930Z
UID:32946-1689170400-1689177600@vgyke.com
SUMMARY:Kitelepülés
DESCRIPTION:Új tagok toborzása\, VGYKE szolgáltatás megismertetése tagdíjbefizetés
URL:https://vgyke.com/event/kitelepules-2/
LOCATION:Vakok Állami Intézete\, Hermina u. 21.\, Budapest\, 1146
ORGANIZER;CN="Vasas Viktor t%C3%A1rsadalmi kapcsolatok csoport":MAILTO:vasas.viktor@vakokintezete.hu
END:VEVENT
BEGIN:VEVENT
DTSTART;TZID=Europe/Budapest:20230715T103000
DTEND;TZID=Europe/Budapest:20230715T130000
DTSTAMP:20260423T123511
CREATED:20230704T073120Z
LAST-MODIFIED:20230704T073120Z
UID:33194-1689417000-1689426000@vgyke.com
SUMMARY:Zene háza
DESCRIPTION:Látogatást teszünk a Zene házában a XIII-ik kerülettel közös program
URL:https://vgyke.com/event/zene-haza/
LOCATION:Magyar Zene Háza\, Olof Palme stny. 3.\, Budapest\, 1146
END:VEVENT
BEGIN:VEVENT
DTSTART;TZID=Europe/Budapest:20230715T110000
DTEND;TZID=Europe/Budapest:20230715T130000
DTSTAMP:20260423T123511
CREATED:20230712T073145Z
LAST-MODIFIED:20230712T073145Z
UID:33306-1689418800-1689426000@vgyke.com
SUMMARY:Látogatás a Magyar Zene Házába
DESCRIPTION:A XIII. kerületi Lámpás klub tagjai ellátogatnak a Magyar Zene Házába
URL:https://vgyke.com/event/latogatas-a-magyar-zene-hazaba-2/
LOCATION:1146. Budapest\, Olof Palme sétány 3.
ORGANIZER;CN="Majl%C3%A1th M%C3%B3nika":MAILTO:angyalfold.szervezo@vgyke.com
END:VEVENT
BEGIN:VEVENT
DTSTART;TZID=Europe/Budapest:20230718T100000
DTEND;TZID=Europe/Budapest:20230718T140000
DTSTAMP:20260423T123511
CREATED:20230712T102445Z
LAST-MODIFIED:20230712T102445Z
UID:33313-1689674400-1689688800@vgyke.com
SUMMARY:Látogatás a Semmmelweis Orvostörténeti Múzeumban
DESCRIPTION:A résztvevők megismerkedhetnek az orvoslás történetével.
URL:https://vgyke.com/event/latogatas-a-semmmelweis-orvostorteneti-muzeumban/
LOCATION:1013. Budapest\, Apród utca 1-3.
ORGANIZER;CN="J%C3%A1nosi Veronika":MAILTO:erzsebetvaros.szervezo@vgyke.com
END:VEVENT
BEGIN:VEVENT
DTSTART;TZID=Europe/Budapest:20230718T140000
DTEND;TZID=Europe/Budapest:20230718T163000
DTSTAMP:20260423T123511
CREATED:20230916T075356Z
LAST-MODIFIED:20230916T075642Z
UID:33812-1689688800-1689697800@vgyke.com
SUMMARY:Külső program
DESCRIPTION:Ruhatár II. kiállítás megtekintése
URL:https://vgyke.com/event/kulso-program/
LOCATION:1174 Báthory u. 31. Erdős Renée Ház\,
END:VEVENT
BEGIN:VEVENT
DTSTART;TZID=Europe/Budapest:20230720T140000
DTEND;TZID=Europe/Budapest:20230720T160000
DTSTAMP:20260423T123511
CREATED:20230727T171821Z
LAST-MODIFIED:20230727T171821Z
UID:33402-1689861600-1689868800@vgyke.com
SUMMARY:Beszélgetés akadálymentes nyaralásról\, nyaralási élményekről
DESCRIPTION:A jelenlévők megosztják egymással hol nyaraltak már és mennyire voltak megelégedve a hellyel. Látássérült szempontból mennyire volt az akadálymentes.
URL:https://vgyke.com/event/beszelgetes-akadalymentes-nyaralasrol-nyaralasi-elmenyekrol/
LOCATION:KlauDió Civil központ (1077. Budapest\, Nagydiófa utca 34.)
ORGANIZER;CN="J%C3%A1nosi Veronika":MAILTO:erzsebetvaros.szervezo@vgyke.com
END:VEVENT
BEGIN:VEVENT
DTSTART;TZID=Europe/Budapest:20230721T160000
DTEND;TZID=Europe/Budapest:20230721T173000
DTSTAMP:20260423T123511
CREATED:20230710T073754Z
LAST-MODIFIED:20230710T073754Z
UID:33284-1689955200-1689960600@vgyke.com
SUMMARY:Fagyitörténet és kóstoló a fazekas cukrászdában
DESCRIPTION:Fazekas Ádám\, XVI. kerületi cukrászmester munkásságával találkozhatunk\, aki híres pisztáciás fagylaltjával 2019-ben a világbajnokságon első helyezést ért el. Az előadás után lehetőség nyílik a fínomság megkóstolására is.
URL:https://vgyke.com/event/fagyitortenet-es-kostolo-a-fazekas-cukraszdaban/
LOCATION:Fazekas cukrászda: 1162. Csömöri út 202.\, Csömöri út 202.\, Budapest\, 1162
ORGANIZER;CN="Koll%C3%A1rszki Bogl%C3%A1rka":MAILTO:csepel.szervezo@vgyke.com
END:VEVENT
BEGIN:VEVENT
DTSTART;TZID=Europe/Budapest:20230722T090000
DTEND;TZID=Europe/Budapest:20230722T170000
DTSTAMP:20260423T123511
CREATED:20230723T091841Z
LAST-MODIFIED:20230723T091841Z
UID:33374-1690016400-1690045200@vgyke.com
SUMMARY:"Sétahajó lágyan ring a Dunán"
DESCRIPTION:Klubprogram IX. kerület
URL:https://vgyke.com/event/setahajo-lagyan-ring-a-dunan/
END:VEVENT
BEGIN:VEVENT
DTSTART;TZID=Europe/Budapest:20230724T100000
DTEND;TZID=Europe/Budapest:20230724T120000
DTSTAMP:20260423T123511
CREATED:20230713T102137Z
LAST-MODIFIED:20230713T102137Z
UID:33331-1690192800-1690200000@vgyke.com
SUMMARY:Látogatás az újpesti rendőrkapitányságra
DESCRIPTION:Kedves klubtagunk\, tisztelt érdeklődő!\nLehetőségünk adódott a felújított kerületi rendőrkapitányságot. Varga Brigitta főhadnagy kíséretében megtekinteni.\nA kapitányság épületével való ismerkedés közben sok érdekességet tudhatunk meg a rendőrök munkájáról. Biztosak vagyunk benne\, hogy mindeközben életünkben hasznosítható életvédelmi illetve közbiztonsági tanácsokkal is gazdagabbak leszünk.\nA program időtartama előreláthatóan 2 óra\nIdőpont: 2023. július 24.\, 10:00-12:00\nTalálkozó: Újpest-központ metróállomás aluljáró\, 09:30-09:45 között\nHelyszín: IV. kerületi Rendőrkapitányság\n1042 Budapest\, Árpád út 87. \nA csoport maximális létszáma 25 fő\, melyet a jelentkezések sorrendjében fogunk feltölteni.\nA programra előzetes bejelentkezés szükséges legkésőbb 2023. július 19. 12:00-ig! Kísérőt sajnos csak igen korlátozott mértékben tudunk biztosítani\, ezirányú igényeiteket mindenképp jelezzétek\, vagy gondoskodjatok saját segítőről. Megértéseteket köszönjük!
URL:https://vgyke.com/event/latogatas-az-ujpesti-rendorkapitanysagra/
LOCATION:1042 Budapest\, Árpád út 87
ORGANIZER;CN="Murg%C3%A1cs J%C3%A1nosn%C3%A9":MAILTO:ujpest.szervezo@vgyke.com
END:VEVENT
BEGIN:VEVENT
DTSTART;TZID=Europe/Budapest:20230726T150000
DTEND;TZID=Europe/Budapest:20230726T170000
DTSTAMP:20260423T123511
CREATED:20230705T094942Z
LAST-MODIFIED:20230705T094942Z
UID:33203-1690383600-1690390800@vgyke.com
SUMMARY:Júliusi klubnap a XVIII. kerületben - Agyagból kerámia
DESCRIPTION:Vendégünk lesz Huszár Rita keramikus\, a VGYKE szervezésében létrejött\, a Pestszentimrei Közösségi Házban 2023. augusztus 31-ig megtekinthető „Tapintható képek\, kerámia lámpák” című kiállítás egyik alkotója. A klubnapon személyesen is megismerkedhetünk vele\, beszélgetünk az agyagról\, majd inspirációt nyerünk a készülő alkotásokhoz. Mindenki egy kicsit művésznek érezheti majd magát\, hiszen elkészítheti saját kis kerámiáját\, melyet aztán haza is vihet.
URL:https://vgyke.com/event/juliusi-klubnap-a-xviii-keruletben-agyagbol-keramia/
LOCATION:Kondor Béla Közösségi Ház\, Kondor Béla sétány 8.\, Budapest\, 1181
ORGANIZER;CN="P%C3%A1zm%C3%A1n Krisztina":MAILTO:18.kerulet.szervezo@vgyke.com
END:VEVENT
BEGIN:VEVENT
DTSTART;TZID=Europe/Budapest:20230728T153000
DTEND;TZID=Europe/Budapest:20230728T173000
DTSTAMP:20260423T123511
CREATED:20230804T095419Z
LAST-MODIFIED:20230804T095419Z
UID:33479-1690558200-1690565400@vgyke.com
SUMMARY:Külsős program - Hajókirándulás Óbudai klubtagokkal
DESCRIPTION:Sétahajóval közel két órás utat tettünk meg a Dunán. A vízről nézve megcsodáltuk Budapest nevezetes épületeit. Nem mindennapi\, felejthetetlen szép látványban volt részünk.
URL:https://vgyke.com/event/kulsos-program-hajokirandulas-obudai-klubtagokkal/
LOCATION:1051. Vigadó tér – Hajóállomás
ORGANIZER;CN="Vasn%C3%A9 Pint%C3%A9r Ter%C3%A9z":MAILTO:obuda.szervezo@vgyke.com
END:VEVENT
BEGIN:VEVENT
DTSTART;TZID=Europe/Budapest:20230728T153000
DTEND;TZID=Europe/Budapest:20230728T180000
DTSTAMP:20260423T123511
CREATED:20230720T144509Z
LAST-MODIFIED:20230720T144509Z
UID:33357-1690558200-1690567200@vgyke.com
SUMMARY:Külsős program: Hajókirándulásra megyünk Óbudai klubtagokkal.
DESCRIPTION:A Dunán másfél órás városnéző hajóúton megnézzük Budapest nevezetességeit. Olyan műemlékeket láthatunk mint a Budai Vár vagy a Vigadó koncertterem.
URL:https://vgyke.com/event/kulsos-program-hajokirandulasra-megyunk-obudai-klubtagokkal/
ORGANIZER;CN="Vasn%C3%A9 Pint%C3%A9r Ter%C3%A9z":MAILTO:obuda.szervezo@vgyke.com
END:VEVENT
BEGIN:VEVENT
DTSTART;TZID=Europe/Budapest:20230731T150000
DTEND;TZID=Europe/Budapest:20230731T170000
DTSTAMP:20260423T123511
CREATED:20230727T173206Z
LAST-MODIFIED:20230727T173206Z
UID:33410-1690815600-1690822800@vgyke.com
SUMMARY:Klubnapi séta a Margitszigeten
DESCRIPTION:A XIII. kerületi Lámpás klub szabadtéri klubnap a Margitszigeten
URL:https://vgyke.com/event/klubnapi-seta-a-margitszigeten/
LOCATION:1138. Budapest\, Margitsziget
ORGANIZER;CN="Majl%C3%A1th M%C3%B3nika":MAILTO:angyalfold.szervezo@vgyke.com
END:VEVENT
END:VCALENDAR