BEGIN:VCALENDAR
VERSION:2.0
PRODID:-//Vakok és Gyengénlátók Közép-Magyarországi Regionális Egyesülete - ECPv6.15.20//NONSGML v1.0//EN
CALSCALE:GREGORIAN
METHOD:PUBLISH
X-WR-CALNAME:Vakok és Gyengénlátók Közép-Magyarországi Regionális Egyesülete
X-ORIGINAL-URL:https://vgyke.com
X-WR-CALDESC:Események Vakok és Gyengénlátók Közép-Magyarországi Regionális Egyesülete
REFRESH-INTERVAL;VALUE=DURATION:PT1H
X-Robots-Tag:noindex
X-PUBLISHED-TTL:PT1H
BEGIN:VTIMEZONE
TZID:Europe/Budapest
BEGIN:DAYLIGHT
TZOFFSETFROM:+0100
TZOFFSETTO:+0200
TZNAME:CEST
DTSTART:20220327T010000
END:DAYLIGHT
BEGIN:STANDARD
TZOFFSETFROM:+0200
TZOFFSETTO:+0100
TZNAME:CET
DTSTART:20221030T010000
END:STANDARD
BEGIN:DAYLIGHT
TZOFFSETFROM:+0100
TZOFFSETTO:+0200
TZNAME:CEST
DTSTART:20230326T010000
END:DAYLIGHT
BEGIN:STANDARD
TZOFFSETFROM:+0200
TZOFFSETTO:+0100
TZNAME:CET
DTSTART:20231029T010000
END:STANDARD
BEGIN:DAYLIGHT
TZOFFSETFROM:+0100
TZOFFSETTO:+0200
TZNAME:CEST
DTSTART:20240331T010000
END:DAYLIGHT
BEGIN:STANDARD
TZOFFSETFROM:+0200
TZOFFSETTO:+0100
TZNAME:CET
DTSTART:20241027T010000
END:STANDARD
END:VTIMEZONE
BEGIN:VEVENT
DTSTART;TZID=Europe/Budapest:20230424T090000
DTEND;TZID=Europe/Budapest:20230424T160000
DTSTAMP:20260423T212309
CREATED:20230705T134848Z
LAST-MODIFIED:20230705T134848Z
UID:33222-1682326800-1682352000@vgyke.com
SUMMARY:Slambuc-főzés a Tavaszi Sportpartin
DESCRIPTION:Nagy fába vágtuk a fejszénket\, hogy főzőkanalat faragjunk belőle!\nÚjpest Önkormányzata ugyanis ezen a hétvégén\, szombaton tartja meg a kerületben már hagyományos Tavaszi Sportpartit. A programok között szerepel felnőtt férfi kispályás labdarúgó-torna\, kidobós kupa\, az Újpesti Szakorvosi Rendelőintézet Egészségfejlesztési Iroda általános állapotfelmérése\, falmászás\, gyerekeknek kézműves foglalkoztató\, rengetegféle bemutató… hogy csak néhányat említsünk; viszont a teljes programot megosztjuk eseményünkben!\nAmi azonban kis klubcsapatunkat leginkább érinti\, az a – főzőverseny! Úgy döntöttünk\, bebizonyítjuk: látás ide vagy amoda\, igenis olyan finom slambucot készítünk majd bográcsban\, amire mindenki jó szívvel emlékezhet\, aki megkóstolta! Várunk hát titeket is az eseményre – nézzetek ki hozzánk\, szurkoljatok\, beszélgessünk\, érezzük jól magunkat az eddigi előrejelzések szerint kellemes tavaszinak ígérkező napon! Keressétek a Közösség Lámpásai Újpesti klub csapatot!\nA program 9:00-kor kezdődik (mi biztosan ott leszünk\, hiszen át kell vennünk a versenyre biztosított alapanyagokat és a tűzrakóhelyet); déltől zsűrizik az elkészült ételeket\, és az eredményhirdetés várhatóan 15.00-kor lesz – természetesen ki-ki akkor és úgy csatlakozik be\, ahogy szeretne.
URL:https://vgyke.com/event/slambuc-fozes-a-tavaszi-sportpartin/
LOCATION:Újpest\, Bánka Kristóf Sportközpont (1044 Bp.\, Fiumei út 2.)
ORGANIZER;CN="Murg%C3%A1cs J%C3%A1nosn%C3%A9":MAILTO:ujpest.szervezo@vgyke.com
END:VEVENT
BEGIN:VEVENT
DTSTART;TZID=Europe/Budapest:20230424T150000
DTEND;TZID=Europe/Budapest:20230424T170000
DTSTAMP:20260423T212309
CREATED:20230702T084221Z
LAST-MODIFIED:20230702T084221Z
UID:33102-1682348400-1682355600@vgyke.com
SUMMARY:program
DESCRIPTION:A tagokkal a Pesti Magyar Színházban megnéztük a Valahol Európában cimű narrált zenés darabot
URL:https://vgyke.com/event/program-5/
LOCATION:Pesti Magyar Színház\, Hevesi Sándor tér 4.\, 1077
END:VEVENT
BEGIN:VEVENT
DTSTART;TZID=Europe/Budapest:20230424T150000
DTEND;TZID=Europe/Budapest:20230424T170000
DTSTAMP:20260423T212309
CREATED:20230705T145958Z
LAST-MODIFIED:20230705T145958Z
UID:33269-1682348400-1682355600@vgyke.com
SUMMARY:Táncra fel!
DESCRIPTION:A DameUna Salsa Tánciskola bemutatása
URL:https://vgyke.com/event/tancra-fel/
LOCATION:1134. Budapest\, Tüzér u. 56-58.
ORGANIZER;CN="Majl%C3%A1th M%C3%B3nika":MAILTO:angyalfold.szervezo@vgyke.com
END:VEVENT
BEGIN:VEVENT
DTSTART;TZID=Europe/Budapest:20230426T100000
DTEND;TZID=Europe/Budapest:20230426T120000
DTSTAMP:20260423T212309
CREATED:20230612T154312Z
LAST-MODIFIED:20230612T154538Z
UID:32768-1682503200-1682510400@vgyke.com
SUMMARY:Árubemutató
DESCRIPTION:Meghívás után a bolt készletének bemutatása árusítása.
URL:https://vgyke.com/event/arubemutato/
LOCATION:7100 Szekszárd\, Hunyadi utca 4. irodaház nagyterme.\, Hunyadi utca 4.\, Szekszárd\,\, 7100\, Magyarország
END:VEVENT
BEGIN:VEVENT
DTSTART;TZID=Europe/Budapest:20230427T150000
DTEND;TZID=Europe/Budapest:20230427T170000
DTSTAMP:20260423T212309
CREATED:20230619T181636Z
LAST-MODIFIED:20230619T181636Z
UID:32930-1682607600-1682614800@vgyke.com
SUMMARY:Áprilisi klubnap a XVIII. kerületben - Taskovics Adél novellái\, versei a Lőrinci Nagykönyvtárban
DESCRIPTION:„A kereszt nem szívsorompó” címmel Taskovics Adél mutatja be nekünk néhány novelláját és saját versét.\nAdél orvosi hibából veszítette el látását\, de ez a tény életkedvére\, sokoldalúságára nem rak bilincset. Lelkesen jelentkezik országos\, vagy nemzetközi szavalóversenyekre\, irodalmi pályázatokra. Versei megjelentek számos antológiában\, az országos KLÁRIS kulturális folyóiratban\, amelyet az írók boltja is forgalmaz. „A kereszt nem szívsorompó „- címmel kiadásra került önálló mesés-novellás-igaz történeteket tartalmazó kötete\, tervezi verseit is megjelentetni. Munkáiért\, előadásaiért a Cserhát Művészkörtől „Társadalmi NAGYDÍJ” elismerést kapott.
URL:https://vgyke.com/event/aprilisi-klubnap-a-xviii-keruletben-taskovics-adel-novellai-versei-a-lorinci-nagykonyvtarban/
LOCATION:Lőrinci Nagykönyvtár\, Thököly út 5.\, Budapest\, 1183
ORGANIZER;CN="P%C3%A1zm%C3%A1n Krisztina":MAILTO:18.kerulet.szervezo@vgyke.com
END:VEVENT
BEGIN:VEVENT
DTSTART;TZID=Europe/Budapest:20230429T100000
DTEND;TZID=Europe/Budapest:20230429T140000
DTSTAMP:20260423T212309
CREATED:20230619T175850Z
LAST-MODIFIED:20230619T175850Z
UID:32920-1682762400-1682776800@vgyke.com
SUMMARY:Látogatás a Magyar Zene Házába
DESCRIPTION:Ez alkalommal a Magyar Zene Házában egy zenepedagógiai foglalkozáson vehetünk részt\, melynek időtartama kb. 45 perc. Ezt követően az állandó kiállítás megtekintésére nyílik lehetőség\, melyhez nem látók számára erősen ajánlott a kísérő/segítő.
URL:https://vgyke.com/event/latogatas-a-magyar-zene-hazaba/
LOCATION:Magyar Zene Háza\, Olof Palme stny. 3.\, Budapest\, 1146
ORGANIZER;CN="P%C3%A1zm%C3%A1n Krisztina":MAILTO:18.kerulet.szervezo@vgyke.com
END:VEVENT
BEGIN:VEVENT
DTSTART;TZID=Europe/Budapest:20230429T120000
DTEND;TZID=Europe/Budapest:20230429T140000
DTSTAMP:20260423T212309
CREATED:20230616T161201Z
LAST-MODIFIED:20240129T141644Z
UID:32865-1682769600-1682776800@vgyke.com
SUMMARY:ferencváros 2023.04.29-Sziklakórház
DESCRIPTION:Sziklakórház meglátogatása\, időutazás a múltban.
URL:https://vgyke.com/event/ferencvaros-2023-04-29-sziklakorhaz/
LOCATION:Sziklakórház Budapest 1012 Lovas u. 4/C
END:VEVENT
BEGIN:VEVENT
DTSTART;TZID=Europe/Budapest:20230501T100000
DTEND;TZID=Europe/Budapest:20230501T140000
DTSTAMP:20260423T212309
CREATED:20230702T083122Z
LAST-MODIFIED:20230702T083122Z
UID:33094-1682935200-1682949600@vgyke.com
SUMMARY:program
DESCRIPTION:Hagyományosan részt veszünk a kerületi majálison\, ahol az érdeklődők megismerkedtek a vakos játékokkal és a Braille írással
URL:https://vgyke.com/event/program-3/
LOCATION:Rákoskeresztúr\, Népkert\, 1173
END:VEVENT
BEGIN:VEVENT
DTSTART;TZID=Europe/Budapest:20230501T100000
DTEND;TZID=Europe/Budapest:20230501T153000
DTSTAMP:20260423T212309
CREATED:20230628T142559Z
LAST-MODIFIED:20230628T142559Z
UID:33042-1682935200-1682955000@vgyke.com
SUMMARY:Szemléletformálás az Erzsébet ligetben
DESCRIPTION:A Kertvárosi Majálisra települt ki a VGYKE. Interaktív játékokkal és vakvezető kutya-simogatással készültünk erre a programra.
URL:https://vgyke.com/event/szemleletformalas-az-erzsebet-ligetben/
LOCATION:Erzsébet liget\, Budapest\, 1165
ORGANIZER;CN="Koll%C3%A1rszki Bogl%C3%A1rka":MAILTO:csepel.szervezo@vgyke.com
END:VEVENT
BEGIN:VEVENT
DTSTART;TZID=Europe/Budapest:20230503T150000
DTEND;TZID=Europe/Budapest:20230503T170000
DTSTAMP:20260423T212309
CREATED:20230705T135257Z
LAST-MODIFIED:20230705T135257Z
UID:33225-1683126000-1683133200@vgyke.com
SUMMARY:Tavaszi tere-fere
DESCRIPTION:Szeretettel hívunk májusi klubnapunkra\, melyen megbeszéljük a májusra tervezett\, klubunk 10 éves fennállását ünneplő bográcsolás részleteit. Akik nem tudtak részt venni\, azoknak elmeséljük az elmúlt hónap eseményeit\, és kíváncsiak vagyunk arra is\, kivel mi történt áprilisban\, mit tervez májusra…\nMindemellett\, nem felejtve el az ígéretet\, amelyet a legutóbbi kirándulásunk végén rögtönzött hanami (azaz cseresznyevirág-nézés) során tettünk: megismerhetitek a japán díszcseresznye virágának és levelének ízvilágát tea és szakuravirággal készült édesség formájában.\nVárjuk minden kedves tagunkat\, családtagjaikat\, barátaikat és kísérőiket!
URL:https://vgyke.com/event/tavaszi-tere-fere/
LOCATION:Újpesti Ifjúsági Ház 1042 Budapest István út 17-19
ORGANIZER;CN="Murg%C3%A1cs J%C3%A1nosn%C3%A9":MAILTO:ujpest.szervezo@vgyke.com
END:VEVENT
BEGIN:VEVENT
DTSTART;TZID=Europe/Budapest:20230505T140000
DTEND;TZID=Europe/Budapest:20230505T160000
DTSTAMP:20260423T212309
CREATED:20230616T162014Z
LAST-MODIFIED:20230616T162014Z
UID:32871-1683295200-1683302400@vgyke.com
SUMMARY:2023.05.05-Numerológia és a sorsunk
DESCRIPTION:dr. Márton Csilla előadása Önismeret a numerológia tükrében
URL:https://vgyke.com/event/2023-05-05-numerologia-es-a-sorsunk/
LOCATION:Ferencvárosi Művelődési Központ FMK Budapest Haller utca 27. 1093
END:VEVENT
BEGIN:VEVENT
DTSTART;TZID=Europe/Budapest:20230508T140000
DTEND;TZID=Europe/Budapest:20230508T160000
DTSTAMP:20260423T212309
CREATED:20230612T155112Z
LAST-MODIFIED:20230612T155112Z
UID:32774-1683554400-1683561600@vgyke.com
SUMMARY:XI. kerület lámpás klub
DESCRIPTION:Meghívás után a bolt készletének bemutatása árusítása.
URL:https://vgyke.com/event/xi-kerulet-lampas-klub/
LOCATION:Gazdagréti Közösségi Ház\, Budapest\, Magyarország
END:VEVENT
BEGIN:VEVENT
DTSTART;TZID=Europe/Budapest:20230508T150000
DTEND;TZID=Europe/Budapest:20230508T170000
DTSTAMP:20260423T212309
CREATED:20230627T073525Z
LAST-MODIFIED:20230627T073525Z
UID:33009-1683558000-1683565200@vgyke.com
SUMMARY:A braille írásról Kőbányán
DESCRIPTION:Az érdeklődők az esélyegyenlőség napja apropóján megismerkedhetnek a Braille írás történetével és metodikájával.
URL:https://vgyke.com/event/a-braille-irasrol-kobanyan/
LOCATION:Kőrösi Csoma Sándor Kőbányai Kulturális Központ
ORGANIZER;CN="Duplinszki Katalin":MAILTO:kobanya.szervezo@vgyke.com
END:VEVENT
BEGIN:VEVENT
DTSTART;TZID=Europe/Budapest:20230510T140000
DTEND;TZID=Europe/Budapest:20230510T160000
DTSTAMP:20260423T212309
CREATED:20230703T131834Z
LAST-MODIFIED:20230703T131834Z
UID:33137-1683727200-1683734400@vgyke.com
SUMMARY:Klubnap
DESCRIPTION:Beszélgetés baráti körben
URL:https://vgyke.com/event/klubnap-11/
LOCATION:Zuglói Civil Ház\, Csertő park 12.\, Budapest\, 1144
ORGANIZER;CN="Kiss M%C3%A1rta":MAILTO:zuglo.szervezo@vgyke.com
END:VEVENT
BEGIN:VEVENT
DTSTART;TZID=Europe/Budapest:20230513T090000
DTEND;TZID=Europe/Budapest:20230513T170000
DTSTAMP:20260423T212309
CREATED:20230612T152634Z
LAST-MODIFIED:20230612T152822Z
UID:32757-1683968400-1683997200@vgyke.com
SUMMARY:Pesterzsébeti Sport és Egészségnap
DESCRIPTION:Meghívás után a bolt készletének bemutatása árusítása.
URL:https://vgyke.com/event/pesterzsebeti-sport-es-egeszsegnap/
LOCATION:Budapest\, Nagy Győri István u. 4-6\, 1201\, Nagy Győri István u. 4-6\, Budapest\, 1201\, Magyarország
END:VEVENT
BEGIN:VEVENT
DTSTART;TZID=Europe/Budapest:20230513T100000
DTEND;TZID=Europe/Budapest:20230513T130000
DTSTAMP:20260423T212309
CREATED:20230703T140633Z
LAST-MODIFIED:20230703T140828Z
UID:33170-1683972000-1683982800@vgyke.com
SUMMARY:Külsős program: Óbudai Gázgyári Lakótelepen jártunk
DESCRIPTION:A lakótelepen a több mint száz éve épült házak között sétálgatva úgy éreztük magunkat mintha megállt volna az idő. Valóságos élő múzeumban jártunk. Az ott élő emberek keltik életre mindennap újra. Olyan hatást váltott ki bennünk – Budapest szívében – mintha egy régi faluban lennénk. A fák zöld lombjai között madarak énekeltek.
URL:https://vgyke.com/event/kulsos-program-obudai-gazgyari-lakotelepen-jartunk/
LOCATION:1031. Budapest\, Sujtás u
ORGANIZER;CN="Vasn%C3%A9 Pint%C3%A9r Ter%C3%A9z":MAILTO:obuda.szervezo@vgyke.com
END:VEVENT
BEGIN:VEVENT
DTSTART;TZID=Europe/Budapest:20230515T150000
DTEND;TZID=Europe/Budapest:20230515T163000
DTSTAMP:20260423T212309
CREATED:20230628T142129Z
LAST-MODIFIED:20230628T142129Z
UID:33040-1684162800-1684168200@vgyke.com
SUMMARY:Ismerkedés a Vakvezető kutyákkal
DESCRIPTION:Samu Attila mutatta be nekünk vakvezető kutyáját és hogy milyen az élet a vakvezető kutyákkal.
URL:https://vgyke.com/event/ismerkedes-a-vakvezeto-kutyakkal/
LOCATION:Napraforgó Központ\, Cziráki utca 22. 1. emelet\, klubterem\, Budapest\, 1163
ORGANIZER;CN="Koll%C3%A1rszki Bogl%C3%A1rka":MAILTO:csepel.szervezo@vgyke.com
END:VEVENT
BEGIN:VEVENT
DTSTART;TZID=Europe/Budapest:20230518T140000
DTEND;TZID=Europe/Budapest:20230518T160000
DTSTAMP:20260423T212309
CREATED:20230623T143523Z
LAST-MODIFIED:20230623T143641Z
UID:32972-1684418400-1684425600@vgyke.com
SUMMARY:Beszélgetés Karvai Sándor vak guines rekorderrel
DESCRIPTION:Beszélgetés Karvai Sándor vak guines rekorderrel.
URL:https://vgyke.com/event/beszelgetes-karvai-sandor-vak-guines-rekorderrel/
LOCATION:KlauDió Civil Központ\, Nagydiófa utca 34.\, Budapest\, 1077
ORGANIZER;CN="J%C3%A1nosi Veronika":MAILTO:erzsebetvaros.szervezo@vgyke.com
END:VEVENT
BEGIN:VEVENT
DTSTART;TZID=Europe/Budapest:20230519T100000
DTEND;TZID=Europe/Budapest:20230519T120000
DTSTAMP:20260423T212309
CREATED:20230703T140409Z
LAST-MODIFIED:20230703T140409Z
UID:33167-1684490400-1684497600@vgyke.com
SUMMARY:Klubnap vendége: Dr. Kis János endokrinológus
DESCRIPTION:Izületi és reumatológiai megbetegedések okairől\, és gyógyítási lehetőségeiről tartott előadást a szakember.
URL:https://vgyke.com/event/klubnap-vendege-dr-kis-janos-endokrinologus/
LOCATION:Békásmegyeri Közösségi Ház\, Csobánka tér 5.\, Budapest\,\, 1039
ORGANIZER;CN="Vasn%C3%A9 Pint%C3%A9r Ter%C3%A9z":MAILTO:obuda.szervezo@vgyke.com
END:VEVENT
BEGIN:VEVENT
DTSTART;TZID=Europe/Budapest:20230520T110000
DTEND;TZID=Europe/Budapest:20230520T123000
DTSTAMP:20260423T212309
CREATED:20230628T141658Z
LAST-MODIFIED:20230628T141658Z
UID:33037-1684580400-1684585800@vgyke.com
SUMMARY:A Csodák Palotájában jártunk
DESCRIPTION:A Csodák palotájába tettünk látogatást\, ahol kipróbálhattuk azt a sok különleges játékot és megcsodálhattuk a sok izgalmas jelenséget\, melyet ez a helyszín kínál.
URL:https://vgyke.com/event/a-csodak-palotajaban-jartunk/
LOCATION:Csodák palotája\, Bécsi út 38-44\, 1036
ORGANIZER;CN="Koll%C3%A1rszki Bogl%C3%A1rka":MAILTO:csepel.szervezo@vgyke.com
END:VEVENT
BEGIN:VEVENT
DTSTART;TZID=Europe/Budapest:20230522T090000
DTEND;TZID=Europe/Budapest:20230522T160000
DTSTAMP:20260423T212309
CREATED:20230619T174437Z
LAST-MODIFIED:20230619T174623Z
UID:32913-1684746000-1684771200@vgyke.com
SUMMARY:Séta és piknik a Velencei-tónál
DESCRIPTION:Indulás a KÖKI pályaudvarról a 9:27-kor Székesfehérvár felé induló G43-as vonattal. Érkezés Gárdonyba 10:24 perckor.\nInnen a tó partját követve átsétálunk a kb 4\,5 km-re lévő Velence településre. Útközben egy piknik keretében elfogyasztjuk ebédünket.
URL:https://vgyke.com/event/seta-es-piknik-a-velencei-tonal/
LOCATION:Velencei-tó\, Velencei-tó\, Gárdony\, Magyarország
ORGANIZER;CN="P%C3%A1zm%C3%A1n Krisztina":MAILTO:18.kerulet.szervezo@vgyke.com
END:VEVENT
BEGIN:VEVENT
DTSTART;TZID=Europe/Budapest:20230522T150000
DTEND;TZID=Europe/Budapest:20230522T170000
DTSTAMP:20260423T212309
CREATED:20230705T150238Z
LAST-MODIFIED:20230705T150238Z
UID:33271-1684767600-1684774800@vgyke.com
SUMMARY:Beszélgetés a siketvakságról
DESCRIPTION:Vendégünk\, Lenkainé Vajda Viktória a siketvakságról beszélt tagjainknak
URL:https://vgyke.com/event/beszelgetes-a-siketvaksagrol/
LOCATION:Prevenciós Központ 1134. Budapest\, Tüzér u. 56-58.
ORGANIZER;CN="Majl%C3%A1th M%C3%B3nika":MAILTO:angyalfold.szervezo@vgyke.com
END:VEVENT
BEGIN:VEVENT
DTSTART;TZID=Europe/Budapest:20230525T100000
DTEND;TZID=Europe/Budapest:20230525T120000
DTSTAMP:20260423T212309
CREATED:20230623T143054Z
LAST-MODIFIED:20230623T143054Z
UID:32969-1685008800-1685016000@vgyke.com
SUMMARY:Postamúzeum meglátogatása
DESCRIPTION:A résztvevők megismerkedhetnek a postázás és a telefonközpont történetével.
URL:https://vgyke.com/event/postamuzeum-meglatogatasa/
LOCATION:Postamúzeum\, Benczúr utca 27\, Budapest\, 1068
ORGANIZER;CN="J%C3%A1nosi Veronika":MAILTO:erzsebetvaros.szervezo@vgyke.com
END:VEVENT
BEGIN:VEVENT
DTSTART;TZID=Europe/Budapest:20230527T140000
DTEND;TZID=Europe/Budapest:20230527T190000
DTSTAMP:20260423T212309
CREATED:20230616T162720Z
LAST-MODIFIED:20230616T162853Z
UID:32876-1685196000-1685214000@vgyke.com
SUMMARY:2023.05.27-szemléletformálás
DESCRIPTION:A Ferencvárosi gyermeknapon szemléletformálás
URL:https://vgyke.com/event/2023-05-27-szemleletformalas/
LOCATION:Ferencvárosi Művelődési Központ FMK Budapest Haller utca 27. 1093
ORGANIZER;CN="Ferencv%C3%A1rosi %C3%96nkorm%C3%A1nyzat":MAILTO:döme.zsuzsanna@ferencvaros.hu
END:VEVENT
BEGIN:VEVENT
DTSTART;TZID=Europe/Budapest:20230527T140000
DTEND;TZID=Europe/Budapest:20230527T190000
DTSTAMP:20260423T212309
CREATED:20230616T163222Z
LAST-MODIFIED:20240129T141820Z
UID:32878-1685196000-1685214000@vgyke.com
SUMMARY:2023. május 27-online klub
DESCRIPTION:Online klubunkon a ferencvárosi gyermeknapról történik bejelentkezés\, ahol megismerhetik az érdeklődők a szemléletformálás egy kis részletét.
URL:https://vgyke.com/event/2023-majus-27-online-klub/
ORGANIZER;CN="Ferencv%C3%A1rosi %C3%96nkorm%C3%A1nyzat":MAILTO:döme.zsuzsanna@ferencvaros.hu
END:VEVENT
BEGIN:VEVENT
DTSTART;TZID=Europe/Budapest:20230530T100000
DTEND;TZID=Europe/Budapest:20230530T130000
DTSTAMP:20260423T212309
CREATED:20230705T135519Z
LAST-MODIFIED:20230705T135519Z
UID:33227-1685440800-1685451600@vgyke.com
SUMMARY:Épületséta az újpesti Városházán
DESCRIPTION:Kíváncsian figyeled a különféle városi sétaprogramokat\, de még nem találtál kedvedre valót? Esetleg jobban érdekelnek azok\, amelyek régi épületek ajtaját és titkait tárják fel előtted? Most itt az alkalom\, hogy velünk is részt vehess egyen: épületsétára hívunk az idén 123 éves újpesti Városházára!\nAz 1840-ben alakult Újpest nem volt mindig a főváros része: az eleinte községként létező település területe és lakossága azonban – köszönhetően a különféle beruházásoknak (bőrgyár\, hajóállomás\, stb.)\, illetve a gróf Károlyi Sándor által a lakosoknak biztosított\, felekezetre való tekintet nélküli teljes jogegyenlőségnek\, vallásszabadságnak és kereskedelmi státusznak – folyamatosan nőtt\, és a század végére már szükségessé vált egy olyan épület létrehozása\, amely egyrészt méltóképp reprezentálja a mind rohamosabb tempóban fejlődő települést\, másrészt megfelelő feltételeket biztosít a községvezetés és a helyi közigazgatás számára a napi feladatok elvégzéséhez.\nA Böhm Henrik és Hegedüs Ármin által tervezett épület – mely az elmúlt századforduló eklektikus szecessziós irányzatának egyik legkiemelkedőbb alkotása – az egykor önálló Újpest város önkormányzata központi hivatalául készült 1899 és 1900 között; ma is a IV. kerület adminisztratív központja. Így\, ha be is jutunk olykor kerületi ügyintézés céljából\, legfeljebb futólag vehetjük szemügyre a patinás belső teret – komolyabban szemrevételezni bármit\, vagy főleg további információkat\, történeteket hallani a figyelmünket megragadó dolgokról már se idő\, se mód a teendőkkel és határidőkkel zsúfolt\, rohanó hétköznapok közepette.\nPedig annyi kérdésünk lenne! Valóban laktak bűnözők a Városházán? Ha igen\, hogy kerültek oda? Mi köze lehet Babits Mihálynak az épülethez? No és Nagy Károly hű lovagjának? Itt tényleg fenn maradt a főváros címerén a vörös csillag? Vajon\, ha egy 1950 előtti Budapest-térképen keresnénk a IV. kerületet\, Újpestre jutnánk? Hogyhogy nem látni lila-fehér lobogót a zászlótartókon? Akár ezekre a kérdésekre is választ kaphatsz sétánkon\, ahol Szöllősy Marianne\, az Újpesti Városvédő Egyesület elnöke tart idegenvezetést; és arra bíztatunk\, bátran készülj kérdéseiddel magad is!\nMindenkit szeretettel várunk programunkra – ha újpesti vagy\, akkor azért\, mert a kerületet jól ismerők számára is tartogathat újdonságot a látogatás; ha pedig más kerületből érkeznél\, akkor kiváltképp ajánljuk ennek a gyönyörű épületnek a megismerését\, amely igazán különleges helytörténeti csemegének ígérkezik.\nProgramunk tervezett időtartama 90 perc\, a csoport létszáma legfeljebb 25 fő.\nJelentkezni a szöveg legvégén megadott elérhetőségeken\, vagy az oldalunknak küldött privát üzenetben tudsz. A jelentkezés határideje 2023. május 29.12:00.\nVárunk szeretettel!
URL:https://vgyke.com/event/epuletseta-az-ujpesti-varoshazan/
LOCATION:Budapest Főváros IV. kerület Újpest Önkormányzata – Polgármesteri Hivatal (1041 Bp.\, István út 14.)
ORGANIZER;CN="Murg%C3%A1cs J%C3%A1nosn%C3%A9":MAILTO:ujpest.szervezo@vgyke.com
END:VEVENT
BEGIN:VEVENT
DTSTART;TZID=Europe/Budapest:20230531T140000
DTEND;TZID=Europe/Budapest:20230531T160000
DTSTAMP:20260423T212309
CREATED:20230612T153707Z
LAST-MODIFIED:20230612T153707Z
UID:32762-1685541600-1685548800@vgyke.com
SUMMARY:Segédeszköz bemutató
DESCRIPTION:Meghívás után a bolt készletének bemutatása árusítása.
URL:https://vgyke.com/event/segedeszkoz-bemutato/
LOCATION:Kispesti Kaszinó\, Fő utca 42.\, Budapest\, 1195\, Magyarország
END:VEVENT
BEGIN:VEVENT
DTSTART;TZID=Europe/Budapest:20230531T150000
DTEND;TZID=Europe/Budapest:20230531T170000
DTSTAMP:20260423T212309
CREATED:20230619T182213Z
LAST-MODIFIED:20230619T182213Z
UID:32935-1685545200-1685552400@vgyke.com
SUMMARY:Májusi klubnap a XVIII. kerületben - a hallásról
DESCRIPTION:Ez alkalommal a WIDEX Hallásközpont munkatársa látogat el hozzánk. Szó lesz a központ működéséről\, munkájáról. Beszélgetünk a hallásról\, a hallást segítő eszközökről\, azok beszerzésének módjáról. Lehetőség nyílik a helyszínen hallásvizsgálat elvégzésére is igény szerint.\nKlubunk második felében májusi jeles napokról és közelgő klubprogramjainkról beszélgetünk majd.
URL:https://vgyke.com/event/majusi-klubnap-a-xviii-keruletben-a-hallasrol/
LOCATION:Kondor Béla Közösségi Ház\, Kondor Béla sétány 8.\, Budapest\, 1181
ORGANIZER;CN="P%C3%A1zm%C3%A1n Krisztina":MAILTO:18.kerulet.szervezo@vgyke.com
END:VEVENT
BEGIN:VEVENT
DTSTART;TZID=Europe/Budapest:20230602T100000
DTEND;TZID=Europe/Budapest:20230602T140000
DTSTAMP:20260423T212309
CREATED:20230702T082540Z
LAST-MODIFIED:20230702T082540Z
UID:33090-1685700000-1685714400@vgyke.com
SUMMARY:program
DESCRIPTION:Hangszavaló verseny A szabolcsi egyesület szervezésében dalszövegek szavalatként való előadását szervezett.
URL:https://vgyke.com/event/program-2/
LOCATION:Vakok Állami Intézete\, Hermina u. 21.\, Budapest\, 1146
END:VEVENT
BEGIN:VEVENT
DTSTART;TZID=Europe/Budapest:20230602T140000
DTEND;TZID=Europe/Budapest:20230602T160000
DTSTAMP:20260423T212309
CREATED:20230616T163504Z
LAST-MODIFIED:20230616T163504Z
UID:32880-1685714400-1685721600@vgyke.com
SUMMARY:2023. 06.02- klubnap  Gyöngyfűzés
DESCRIPTION:A klubnapon tagjaink a gyöngyfűzéssel ismerkedtek
URL:https://vgyke.com/event/2023-06-02-klubnap-gyongyfuzes/
LOCATION:Ferencvárosi Művelődési Központ FMK Budapest Haller u. 27. 1093
END:VEVENT
END:VCALENDAR