BEGIN:VCALENDAR
VERSION:2.0
PRODID:-//Vakok és Gyengénlátók Közép-Magyarországi Regionális Egyesülete - ECPv6.15.20//NONSGML v1.0//EN
CALSCALE:GREGORIAN
METHOD:PUBLISH
X-WR-CALNAME:Vakok és Gyengénlátók Közép-Magyarországi Regionális Egyesülete
X-ORIGINAL-URL:https://vgyke.com
X-WR-CALDESC:Események Vakok és Gyengénlátók Közép-Magyarországi Regionális Egyesülete
REFRESH-INTERVAL;VALUE=DURATION:PT1H
X-Robots-Tag:noindex
X-PUBLISHED-TTL:PT1H
BEGIN:VTIMEZONE
TZID:Europe/Budapest
BEGIN:DAYLIGHT
TZOFFSETFROM:+0100
TZOFFSETTO:+0200
TZNAME:CEST
DTSTART:20220327T010000
END:DAYLIGHT
BEGIN:STANDARD
TZOFFSETFROM:+0200
TZOFFSETTO:+0100
TZNAME:CET
DTSTART:20221030T010000
END:STANDARD
BEGIN:DAYLIGHT
TZOFFSETFROM:+0100
TZOFFSETTO:+0200
TZNAME:CEST
DTSTART:20230326T010000
END:DAYLIGHT
BEGIN:STANDARD
TZOFFSETFROM:+0200
TZOFFSETTO:+0100
TZNAME:CET
DTSTART:20231029T010000
END:STANDARD
BEGIN:DAYLIGHT
TZOFFSETFROM:+0100
TZOFFSETTO:+0200
TZNAME:CEST
DTSTART:20240331T010000
END:DAYLIGHT
BEGIN:STANDARD
TZOFFSETFROM:+0200
TZOFFSETTO:+0100
TZNAME:CET
DTSTART:20241027T010000
END:STANDARD
END:VTIMEZONE
BEGIN:VEVENT
DTSTART;TZID=Europe/Budapest:20231020T100000
DTEND;TZID=Europe/Budapest:20231020T120000
DTSTAMP:20260423T105349
CREATED:20231004T072706Z
LAST-MODIFIED:20231004T072706Z
UID:34013-1697796000-1697803200@vgyke.com
SUMMARY:Kirándulás a Feneketlen tóhoz
DESCRIPTION:Kedves Tagok\, Kísérők! \nSok szeretettel hívok mindenkit 2023.10.20-án a Narradívákkal közösen szervezett újbudai külsős programunkra\, amelyen meglátogatjuk a kerületben lévő Feneketlen tavat. A közös séta audiónarrációval valósul meg.  \nTalálkozó:  \nKosztolányi Dezső téri Újbuda-Központ felől érkező (53\, 150\, 212\, 240) buszmegállóban 10ó \nA rendezvény ingyenes\, de regisztrációhoz kötött\,  \njelentkezési határidő: október 13. (péntek) 12 ó ig.
URL:https://vgyke.com/event/kirandulas-a-feneketlen-tohoz/
ORGANIZER;CN="Lenkain%C3%A9 Vajda Vikt%C3%B3ria":MAILTO:ujbuda.szervezo@vgyke.com
END:VEVENT
BEGIN:VEVENT
DTSTART;TZID=Europe/Budapest:20231020T100000
DTEND;TZID=Europe/Budapest:20231020T120000
DTSTAMP:20260423T105349
CREATED:20231011T081425Z
LAST-MODIFIED:20231011T081425Z
UID:34091-1697796000-1697803200@vgyke.com
SUMMARY:A Fehérbot Nemzetközi Napja és október egyéb jeles napjai
DESCRIPTION:Klubunk keretében – egyebek mellett – a Fehérbot Nemzetközi napjáról\, a fehérbot történetéről és jelentőségéről hallhatnak az érdeklődők.
URL:https://vgyke.com/event/a-feherbot-nemzetkozi-napja-es-oktober-egyeb-jeles-napjai/
LOCATION:Budapest III. ker. Csobánka tér 5. Békásmegyeri Közösségi Ház
ORGANIZER;CN="Ruzsa Viktor":MAILTO:kispest.szervezo@vgyke.com
END:VEVENT
BEGIN:VEVENT
DTSTART;TZID=Europe/Budapest:20231020T110000
DTEND;TZID=Europe/Budapest:20231020T120000
DTSTAMP:20260423T105349
CREATED:20231006T133008Z
LAST-MODIFIED:20231006T133248Z
UID:33899-1697799600-1697803200@vgyke.com
SUMMARY:Táncoljunk együtt!
DESCRIPTION:Szeretnéd megtapasztalni a mozgás\, ezen belül a néptánc örömét? Jó hírünk van: a Liget Táncakadémia lehetőséget nyújt erre – részt vehetünk egy\, külön a látássérültek igényeire szabott próbaórán! Látogatásunkkor rendkívül lelkes\, elhivatott emberekkel ismerkedtünk meg tánctanáraink személyében – biztosak vagyunk benne\, hogy egy fantasztikus programnak nézünk elébe! \nA 2010-ben alapított Liget Táncakadémia jelenleg hét évfolyamon több mint 200 növendékkel büszkélkedhet. A hivatásos\, diplomás táncművész-pedagógusokból álló tantestület szakmailag hiteles\, nyitott szemléletű elméleti és gyakorlati oktatást biztosít\, nagy figyelmet fordítva a hagyományőrzésre\, közösségépítésre is. Az évadok végén tartott záróvizsga-előadások a kerület (minden évben egyre komolyabb érdeklődéssel várt) neves eseményei. A Liget Táncakadémia 2020-ban a XVI. kerületi Önkormányzat döntése alapján megkapta a Budapest Főváros XVI. Kerületéért kitüntetést.\nFoglalkozásunkat az alapító Karácsonyi Éva\, a Táncakadémia vezető táncpedagógusa tartja majd. A részvételhez hozz magaddal váltópólót\, jókedvet és egy kényelmes\, alacsony sarkú cipőt!\nA foglalkozás időtartama előreláthatólag 60 perc.\nTalálkozó: 9:30-9:45 Örs vezér tere\, kürtöskalácsos (M2 kijárat); aztán 10:15-10:25 176E\, 276E Hunyadvár utca megálló; illetve a Színház főbejáratánál 10:30-10:35. \nProgramunk regisztrációköteles. Kérünk benneteket\, hogy részvételi szándékotokat feltétlenül jelezzétek elérhetőségein-ken 2023. október 16. 12:00-ig\, mert tudnunk kell\, hogy hány főre készüljünk! Vakvezető kutya természetesen hozható. Kísérőt viszont csak igen korlátozott mértékben tudunk biztosítani\, ezirányú igényeiteket mielőbb jelezzétek! \nA VGYKE tagjai mellett természetesen nagy szeretettel várunk bárkit: látássérülteket bármely korosztályban\, más fogyatékkal élőket\, jól látó társaikat\, ismerőseiket\, lelkes önkénteseket is! \nProgramunk további részletei Facebook-eseményünkben olvashatóak (a link Facebook-profil megléte nélkül is megtekinthető):\nhttps://fb.me/e/1fhoitX4Y \nVárunk szeretettel!
URL:https://vgyke.com/event/tancoljunk-egyutt/
LOCATION:Liget Táncakadémia – Erzsébetligeti Színház (1165 Budapest\, Hunyadvár u. 43/C)
ORGANIZER;CN="Czag%C3%A1ny Izabella":MAILTO:16.kerulet.szervezo@vgyke.com
END:VEVENT
BEGIN:VEVENT
DTSTART;TZID=Europe/Budapest:20231020T190000
DTEND;TZID=Europe/Budapest:20231020T220000
DTSTAMP:20260423T105349
CREATED:20231018T093503Z
LAST-MODIFIED:20231018T093503Z
UID:34161-1697828400-1697839200@vgyke.com
SUMMARY:Audionarrált színházi előadás megtekintése
DESCRIPTION:Az előadás címe: Alul semmi\, hossza 155 perc egy szünettel. Színpadbejárás nincs. Audionarrátor: Baksa-Szerecz Zsófi. Az előnarráció a helyszínen. Jegyek korlátozott számban elérhetők\, három fő jelentkezését várjuk a programra. Jegyár: 4.250 Ft/db.
URL:https://vgyke.com/event/audionarralt-szinhazi-eloadas-megtekintese/
LOCATION:Thália Színház\, Nagymező utca 22-24.\, Budapest\, 1065
ORGANIZER;CN="P%C3%A1zm%C3%A1n Krisztina":MAILTO:18.kerulet.szervezo@vgyke.com
END:VEVENT
BEGIN:VEVENT
DTSTART;TZID=Europe/Budapest:20231021T113000
DTEND;TZID=Europe/Budapest:20231021T130000
DTSTAMP:20260423T105349
CREATED:20231003T173609Z
LAST-MODIFIED:20231003T173609Z
UID:34010-1697887800-1697893200@vgyke.com
SUMMARY:Unicum múzeum-ház meglátogatása
DESCRIPTION:2023. október 21-én meglátogatjuk az Unicum múzeumot. és a lepárlót. Online bejelentkezés is lesz.
URL:https://vgyke.com/event/unicum-muzeum-haz-meglatogatasa/
LOCATION:Budapest Dandár utca 1. 1096
END:VEVENT
BEGIN:VEVENT
DTSTART;TZID=Europe/Budapest:20231022T110000
DTEND;TZID=Europe/Budapest:20231022T140000
DTSTAMP:20260423T105349
CREATED:20231017T130138Z
LAST-MODIFIED:20231017T130138Z
UID:34151-1697972400-1697983200@vgyke.com
SUMMARY:Séta a Budai Várban
DESCRIPTION:Ha egy kis őszi sétára vágysz\, és szeretsz Budapesten barangolni\, akkor tarts velünk egy sétára egy rejtett zugos\, titkokkal\, izgalmas történetekkel és romantikus utcácskákkal övezett helyre\, ahol együtt megnézhetjük a Halászbástyát\, a Mátyás templomot\, vagy a Budai várat.
URL:https://vgyke.com/event/seta-a-budai-varban/
LOCATION:Budai Vár\, Magyarország
ORGANIZER;CN="Majl%C3%A1th M%C3%B3nika":MAILTO:angyalfold.szervezo@vgyke.com
END:VEVENT
BEGIN:VEVENT
DTSTART;TZID=Europe/Budapest:20231024T140000
DTEND;TZID=Europe/Budapest:20231024T160000
DTSTAMP:20260423T105349
CREATED:20231011T150055Z
LAST-MODIFIED:20231011T150055Z
UID:34094-1698156000-1698163200@vgyke.com
SUMMARY:Fehér Bot Napi rendezvény
DESCRIPTION:Sok szeretettel meghívjuk Önt és kísérőjét a Vakok és Gyengénlátók Közép- Magyarországi Regionális Egyesületének XVIII. kerületi Lámpás Klubja által szervezett\, a Nemzetközi Fehér Bot Napja alkalmából tartandó rendezvényére.
URL:https://vgyke.com/event/feher-bot-napi-rendezveny/
LOCATION:Kondor Béla Közösségi Ház\, Kondor Béla sétány 8.\, Budapest\, 1181\, Magyarország
ORGANIZER;CN="P%C3%A1zm%C3%A1n Krisztina":MAILTO:18.kerulet.szervezo@vgyke.com
END:VEVENT
BEGIN:VEVENT
DTSTART;TZID=Europe/Budapest:20231024T190000
DTEND;TZID=Europe/Budapest:20231024T220000
DTSTAMP:20260423T105349
CREATED:20231018T093949Z
LAST-MODIFIED:20231018T093949Z
UID:34164-1698174000-1698184800@vgyke.com
SUMMARY:Audionarrált színházi előadás megtekintése
DESCRIPTION:Az előadás címe: Oscar\, hossza 120 perc egy szünettel. Színpadbejárás egyeztetés alatt. Audionarrátor: Baksa-Szerecz Zsófi. Az előnarráció a helyszínen.\nJegyek korlátozott számban elérhetők\, három fő jelentkezését várjuk a programra. Jegyár: 4.500 Ft/db.
URL:https://vgyke.com/event/audionarralt-szinhazi-eloadas-megtekintese-2/
LOCATION:Thália Színház\, Nagymező utca 22-24.\, Budapest\, 1065
ORGANIZER;CN="P%C3%A1zm%C3%A1n Krisztina":MAILTO:18.kerulet.szervezo@vgyke.com
END:VEVENT
BEGIN:VEVENT
DTSTART;TZID=Europe/Budapest:20231025T104500
DTEND;TZID=Europe/Budapest:20231025T114500
DTSTAMP:20260423T105349
CREATED:20231018T094328Z
LAST-MODIFIED:20231018T094328Z
UID:34166-1698230700-1698234300@vgyke.com
SUMMARY:Tárlatvezetés a Sziklakórházban
DESCRIPTION:Októberi pesterzsébeti klubprogramunk keretében ellátogatunk a budai Vár alatt található Sziklakórház Atombunker Múzeumba.
URL:https://vgyke.com/event/tarlatvezetes-a-sziklakorhazban/
LOCATION:Sziklakórház Atombunker Múzeum (1012 Budapest Lovas út 4/c.)
ORGANIZER;CN="Dudikn%C3%A9 R%C3%A1cz Andrea":MAILTO:pesterzsebet.szervezo@vgyke.com
END:VEVENT
BEGIN:VEVENT
DTSTART;TZID=Europe/Budapest:20231026T160000
DTEND;TZID=Europe/Budapest:20231026T163000
DTSTAMP:20260423T105349
CREATED:20231018T072822Z
LAST-MODIFIED:20231018T074505Z
UID:34154-1698336000-1698337800@vgyke.com
SUMMARY:2. kerület októberi online lámpás klub
DESCRIPTION:Az őszi szürke lélek megszínesítése.
URL:https://vgyke.com/event/2-kerulet-oktoberi-online-lampas-klub/
LOCATION:https://www.facebook.com/KozossegLampasaiMasodikKerulet
ORGANIZER;CN="T%C3%B6r%C3%B6k-Zselensky Eszter":MAILTO:2.kerulet.szervezo@vgyke.com
END:VEVENT
BEGIN:VEVENT
DTSTART;TZID=Europe/Budapest:20231026T160000
DTEND;TZID=Europe/Budapest:20231026T163000
DTSTAMP:20260423T105349
CREATED:20231018T074217Z
LAST-MODIFIED:20231018T074217Z
UID:34157-1698336000-1698337800@vgyke.com
SUMMARY:Hegyvidék októberi online lámpás klub
DESCRIPTION:Az őszi szürke lélek megszínesítése.
URL:https://vgyke.com/event/hegyvidek-oktoberi-online-lampas-klub/
LOCATION:https://www.facebook.com/KozossegLampasaiHegyvidek
ORGANIZER;CN="T%C3%B6r%C3%B6k-Zselensky Eszter":MAILTO:2.kerulet.szervezo@vgyke.com
END:VEVENT
BEGIN:VEVENT
DTSTART;TZID=Europe/Budapest:20231030T150000
DTEND;TZID=Europe/Budapest:20231030T170000
DTSTAMP:20260423T105349
CREATED:20231003T172604Z
LAST-MODIFIED:20231004T093705Z
UID:34008-1698678000-1698685200@vgyke.com
SUMMARY:Fehérbot napi rendezvény
DESCRIPTION:Sok szeretettel hívok minden kedves érdeklődőt a XIII. kerületi Lámpás klub fehérbot napi ünnepségére. Program: Köszöntőt mondanak:\nCsiga Gergely alpolgármester\nSzalkay Lajos kulturális projektvezető\, civil és nemzetközi referens\nFodor Ágnes elnök VGYKE \nFellépőnk:\nKéttamás együttes \nA program után a jelenlévőket látjuk vendégül. \nA program a XIII. kerületi Önkormányzat támogatásával valósul meg. \nMindenkit nagyon sok szeretettel várok!
URL:https://vgyke.com/event/feherbot-napi-rendezveny/
LOCATION:Prevenciós Központ 1134. Budapest\, Tüzér u. 56-58.
ORGANIZER;CN="Majl%C3%A1th M%C3%B3nika":MAILTO:angyalfold.szervezo@vgyke.com
END:VEVENT
BEGIN:VEVENT
DTSTART;TZID=Europe/Budapest:20231103T140000
DTEND;TZID=Europe/Budapest:20231103T160000
DTSTAMP:20260423T105349
CREATED:20231018T105246Z
LAST-MODIFIED:20231018T105246Z
UID:34169-1699020000-1699027200@vgyke.com
SUMMARY:Klubnap 2023. november 3
DESCRIPTION:Láthatár segédeszköz bemuatótja. A soft laser a mindennapokban
URL:https://vgyke.com/event/klubnap-2023-november-3/
LOCATION:Ferencvárosi Művelődési Központ FMK Budapest Haller u. 27. 1093
END:VEVENT
BEGIN:VEVENT
DTSTART;TZID=Europe/Budapest:20231106T140000
DTEND;TZID=Europe/Budapest:20231106T163000
DTSTAMP:20260423T105349
CREATED:20231107T172906Z
LAST-MODIFIED:20231107T172906Z
UID:34267-1699279200-1699288200@vgyke.com
SUMMARY:Rákosmente novemberi klubeseménye
DESCRIPTION:Ismerkedés az angol tea kultúrával.
URL:https://vgyke.com/event/rakosmente-novemberi-klubesemenye/
LOCATION:Rákoshegyi Közösségi Ház\, Kép u. 7-9
END:VEVENT
BEGIN:VEVENT
DTSTART;TZID=Europe/Budapest:20231108T130000
DTEND;TZID=Europe/Budapest:20231108T150000
DTSTAMP:20260423T105349
CREATED:20231028T073819Z
LAST-MODIFIED:20231028T075209Z
UID:34221-1699448400-1699455600@vgyke.com
SUMMARY:Látogatás a Budapest Retro Élményközpontba tárlatvezetéssel
DESCRIPTION:A jelenlévők visszautazhatnak az időben a tárgyak és a tárlatvezető segítségével.
URL:https://vgyke.com/event/latogatas-a-budapest-retro-elmenykozpontba-tarlatvezetessel/
LOCATION:1051. Budapest\, Október 6. u. 4. (Budapest Retro Élményközpont)
ORGANIZER;CN="J%C3%A1nosi Veronika":MAILTO:erzsebetvaros.szervezo@vgyke.com
END:VEVENT
BEGIN:VEVENT
DTSTART;TZID=Europe/Budapest:20231108T140000
DTEND;TZID=Europe/Budapest:20231108T160000
DTSTAMP:20260423T105349
CREATED:20231019T150143Z
LAST-MODIFIED:20231019T150143Z
UID:34183-1699452000-1699459200@vgyke.com
SUMMARY:Klubnapunkon a Láthatár Segédeszköz Bolt és az Ügyfélszolgálat munkatársa
DESCRIPTION:Lehetséget adunk\, hogy helyben megvásárolja a kiszemelt terméket\, akár karácsonyi ajándéknak is. Klubnapunkon lehetőség van befizetni a jövő évi tagdíjat is\, így megspóroljuk az időpont egyeztetést\, telefonálgatást és esetleges várakozást.
URL:https://vgyke.com/event/klubnapunkon-a-lathatar-segedeszkoz-bolt-es-az-ugyfelszolgalat-munkatarsa/
LOCATION:Zuglói Civil Ház\, Csertő park 12.\, Budapest\, 1144
ORGANIZER;CN="Kiss M%C3%A1rta":MAILTO:zuglo.szervezo@vgyke.com
END:VEVENT
BEGIN:VEVENT
DTSTART;TZID=Europe/Budapest:20231108T150000
DTEND;TZID=Europe/Budapest:20231108T170000
DTSTAMP:20260423T105349
CREATED:20231026T130039Z
LAST-MODIFIED:20231026T130039Z
UID:34203-1699455600-1699462800@vgyke.com
SUMMARY:Tagdíjbefizetési lehetőség az újpesti klubon
DESCRIPTION:Szeretettel hívunk novemberi klubnapunkra\, melynek vendége a VGYKE Ügyfélszolgálata\, illetve Varga Brigitta főhadnagy kmb.. Brigi ezúttal is a tőle megszokott élvezetes és informatív előadásmóddal mesél a különféle\, ám számunkra mindig tanulságos bűnesetekről\, azok megoldásáról – megelőzendő\, hogy magunk is áldozattá váljunk. Az Ügyfélszolgálat munkatársai pedig készséggel válaszolnak a VGYKE aktuális pályázatait illető\, illetve egyéb\, a látássérültséggel kapcsolatos ügyintézéseket érintő kérdésekre.\nFelhívjuk tagjaink figyelmét\, hogy aki szeretné befizetni a VGYKE 2024-es évi tagdíját\, megteheti klubunkon\, és nem kell beutaznia ezért a Szugló utcára!\nA 2024-es évi tagdíj összege felnőtteknek 3000 Ft\, 14 éves kor alatt 600 Ft. Akinek betelik a tagkönyve\, mindenképpen jelezze\, és hozzon magával igazolványképet is\, mert csak így tudjuk megoldani neki a tagkönyvcserét! A tagkönyv ára 500 Ft.\nVárjuk minden kedves tagunkat és kísérőiket!
URL:https://vgyke.com/event/tagdijbefizetesi-lehetoseg-az-ujpesti-klubon/
LOCATION:Újpesti Kulturális Központ: Ifjúsági Ház (1042 Budapest\, István út 17-19.) I. emelet 117. terem (a terem változhat)
ORGANIZER;CN="Murg%C3%A1cs J%C3%A1nosn%C3%A9":MAILTO:ujpest.szervezo@vgyke.com
END:VEVENT
BEGIN:VEVENT
DTSTART;TZID=Europe/Budapest:20231112T150000
DTEND;TZID=Europe/Budapest:20231112T170000
DTSTAMP:20260423T105349
CREATED:20231018T105642Z
LAST-MODIFIED:20231018T105642Z
UID:34171-1699801200-1699808400@vgyke.com
SUMMARY:Musicalmesék
DESCRIPTION:2023. november 12-én az operettszínházba megyünk előadásra.Óz\, a nagy varázsló\, az Oroszlánkirály\, A muzsika hangja\, a Mary Poppins\, A kis hableány\, a Herkules\, a Madagaszkár\, a Vuk és a Hugó\, a víziló c. musicalekből hallgathatunk részleteket.
URL:https://vgyke.com/event/musicalmesek/
LOCATION:Operettszínház
END:VEVENT
BEGIN:VEVENT
DTSTART;TZID=Europe/Budapest:20231113T150000
DTEND;TZID=Europe/Budapest:20231113T170000
DTSTAMP:20260423T105349
CREATED:20231028T080122Z
LAST-MODIFIED:20231028T080258Z
UID:34240-1699887600-1699894800@vgyke.com
SUMMARY:Az ügyfélszolgálat és a Láthatár Segédeszközbolt munkatársa Kőbányán
DESCRIPTION:A résztvevők feltehetik kérdéseiket az ügyfélszolgálat munkatársának\, rendezhetik 2024. évi tagdíjukat\, valamint vásárolhatnak a Láthatár Segédeszközbolt munkatársától.
URL:https://vgyke.com/event/az-ugyfelszolgalat-es-a-lathatar-segedeszkozbolt-munkatarsa-kobanyan/
LOCATION:Kőrösi Csoma Sándor Kőbányai Kulturális Központ (1105. Budapest\, Szent László tér 7-14)
ORGANIZER;CN="Duplinszki Katalin":MAILTO:kobanya.szervezo@vgyke.com
END:VEVENT
BEGIN:VEVENT
DTSTART;TZID=Europe/Budapest:20231115T133000
DTEND;TZID=Europe/Budapest:20231115T160000
DTSTAMP:20260423T105349
CREATED:20231110T082112Z
LAST-MODIFIED:20231110T082112Z
UID:34298-1700055000-1700064000@vgyke.com
SUMMARY:Ünnepekre hangolódva a Karácsonyházban
DESCRIPTION:Novemberi pesterzsébeti külsős klubprogramunk keretében ellátogatunk Gödöllőre a Karácsonyházba. \n„A Karácsonyház Magyarországon egyedülálló\, különleges karácsonyi mesevilágot megidéző üzlet. Egy népszerű karácsonyi vásár és trendbemutató Gödöllő szívében\, amely mini karácsonyi kültéri forgatagával kellemes lehetőséget nyújt az ünnepekre való hangolódásra. A Karácsonyház idén ünnepli fennállásának 24 éves évfordulóját
URL:https://vgyke.com/event/unnepekre-hangolodva-a-karacsonyhazban/
LOCATION:Karácsonyház (2100 Gödöllő Szabadság út 2.)
ORGANIZER;CN="Dudikn%C3%A9 R%C3%A1cz Andrea":MAILTO:pesterzsebet.szervezo@vgyke.com
END:VEVENT
BEGIN:VEVENT
DTSTART;TZID=Europe/Budapest:20231115T140000
DTEND;TZID=Europe/Budapest:20231115T143000
DTSTAMP:20260423T105349
CREATED:20231106T142957Z
LAST-MODIFIED:20231106T142957Z
UID:34257-1700056800-1700058600@vgyke.com
SUMMARY:Mindenszentek és halottak napja\, Márton-nap\, Szent András hava és más jeles napok novemberben
DESCRIPTION:Online klub\, melynek keretében a Mindenszentekről és november egyéb jeles napjairól beszélek.
URL:https://vgyke.com/event/mindenszentek-es-halottak-napja-marton-nap-szent-andras-hava-es-mas-jeles-napok-novemberben/
LOCATION:A Kispesti Lámpás Klub Facebook-oldalán
ORGANIZER;CN="Ruzsa Viktor":MAILTO:kispest.szervezo@vgyke.com
END:VEVENT
BEGIN:VEVENT
DTSTART;TZID=Europe/Budapest:20231115T190000
DTEND;TZID=Europe/Budapest:20231115T210000
DTSTAMP:20260423T105349
CREATED:20231106T142642Z
LAST-MODIFIED:20231106T142642Z
UID:34254-1700074800-1700082000@vgyke.com
SUMMARY:Karácsonyi musical-Christmal Miracle Musical
DESCRIPTION:Az IYF nemzetközi ifjúsági szervezet 2016 óta ismétlődő európai karácsonyi musical turnéja idén Budapesten három helyszínen is megtartásra kerül.
URL:https://vgyke.com/event/karacsonyi-musical-christmal-miracle-musical/
LOCATION:Ferencvárosi Művelődési Központ Budapest Haller utca 27. 1093
END:VEVENT
BEGIN:VEVENT
DTSTART;TZID=Europe/Budapest:20231116T140000
DTEND;TZID=Europe/Budapest:20231116T160000
DTSTAMP:20260423T105349
CREATED:20231028T075443Z
LAST-MODIFIED:20231028T075522Z
UID:34238-1700143200-1700150400@vgyke.com
SUMMARY:A Láthatár Segédeszközbolt és az ügyfélszolgálat munkatársa Erzsébetvárosban
DESCRIPTION:A résztvevőkaz ügyfélszolgálat munkatársánál rendezhetik 2024. évi tagdíjukat\, valamint vásárolhatnak a Segédeszköz Boltból.
URL:https://vgyke.com/event/a-lathatar-segedeszkozbolt-es-az-ugyfelszolgalat-munkatarsa-erzsebetvarosban/
LOCATION:1077. Budapest\, Nagydiófa utca 34. (KlauDió Civil Központ)
ORGANIZER;CN="J%C3%A1nosi Veronika":MAILTO:erzsebetvaros.szervezo@vgyke.com
END:VEVENT
BEGIN:VEVENT
DTSTART;TZID=Europe/Budapest:20231117T100000
DTEND;TZID=Europe/Budapest:20231117T120000
DTSTAMP:20260423T105349
CREATED:20231106T143231Z
LAST-MODIFIED:20231106T143231Z
UID:34259-1700215200-1700222400@vgyke.com
SUMMARY:2024-es tervek és a 2024-es tagdíjak befizetési lehetősége a Klubtagok részére.
DESCRIPTION:Klubunk keretében igyekszem felmérni a Klubtagok igényét\, hogy kiket látnának szívesen 2024-ben\, illetve milyen programokon vegyünk részt közösen.
URL:https://vgyke.com/event/2024-es-tervek-es-a-2024-es-tagdijak-befizetesi-lehetosege-a-klubtagok-reszere/
LOCATION:Budapest III. ker. Csobánka tér 5. Békásmegyeri Közösségi Ház
ORGANIZER;CN="Ruzsa Viktor":MAILTO:kispest.szervezo@vgyke.com
END:VEVENT
BEGIN:VEVENT
DTSTART;TZID=Europe/Budapest:20231119T143000
DTEND;TZID=Europe/Budapest:20231119T170000
DTSTAMP:20260423T105349
CREATED:20231110T083719Z
LAST-MODIFIED:20231110T083719Z
UID:34301-1700404200-1700413200@vgyke.com
SUMMARY:Vasárnapi színház
DESCRIPTION:A történet úgy kezdődött\, hogy egy tudományos küldetés résztvevője rábukkant a boldogság bolygójára… na de mi történt ezután? Ha kíváncsi vagy a folytatásra\, tarts velünk egy integrált\, zenés színházi előadásra\, amely a Mozdulj! Közhasznú Egyesület és Dóka Attila együttműködésével valósul meg – klubunk biztosan ott lesz! A színdarab után sor kerül a Hétköznapok Hőse 2022 díjátadójára is. \nSzereplők: Rák Kati\, Harza Márk\nKözreműködnek: Dóka Attila\, Erdei Melinda\, Ézsiás László\, Feil Dóra\, Feil Gábor\, Helyes Zoltán\, Kelemen László\, Klajkó Szandra\, Kovács Sára Dizna\, Madár Veronika\, Magyar Csaba\, Napsugár Anna\, Nagy Krisztina\, Pazzagli Ágnes\, Roll Dance Budapest Kerekesszékes Kombi Táncegyüttes\, Dr. Tálos Marianna\, Thalia Arabella\, Vaskó Makka \nA részvétel ingyenes\, de regisztrációköteles. Jelentkezéseiteket – amennyiben velünk szeretnétek jönni – 2023. november 16. 12:00-ig várjuk elérhetőségeinken! Vakvezető kutya természetesen hozható. Kísérőt viszont csak igen korlátozott mértékben tudunk biztosítani\, ezirányú igényeiteket mielőbb jelezzétek!\nNagy szeretettel várunk bárkit: látássérülteket bármely korosztályban\, más fogyatékkal élőket\, jól látó társaikat\, ismerőseiket\, lelkes önkénteseket is! \nTalálkozó: Örs vezér tere M2 végállomásnál\, a kürtöskalácsos előtt 13:30-13:40 között; majd Deák Ferenc tér metró\, Princess pékség 14:00-14:05. (Onnan kedv és időjárás függvényében sétálunk vagy metrózunk egy megállót.) \nProgramunk további részletei Facebook-eseményünkben olvashatóak (a link Facebook-profil megléte nélkül is megtekinthető):\nhttps://fb.me/e/479NwMz9y \nVárunk szeretettel!
URL:https://vgyke.com/event/vasarnapi-szinhaz/
LOCATION:Aranytíz Kultúrház (1051 Budapest\, Arany János u. 10.)
ORGANIZER;CN="Czag%C3%A1ny Izabella":MAILTO:16.kerulet.szervezo@vgyke.com
END:VEVENT
BEGIN:VEVENT
DTSTART;TZID=Europe/Budapest:20231124T163000
DTEND;TZID=Europe/Budapest:20231124T183000
DTSTAMP:20260423T105349
CREATED:20231116T085827Z
LAST-MODIFIED:20231116T085827Z
UID:34314-1700843400-1700850600@vgyke.com
SUMMARY:Városok fénye korok dicsősége – időutazás a Lumina Parkban
DESCRIPTION:Talán emlékszel februári margitszigeti kirándulásunkra\, amikor a Lumina Parkba látogattunk el! Különleges világkörüli utazásnak lehettünk akkor részesei\, ami minden résztvevőnek felejthetetlen élményt nyújtott. \nA fénypark sikerét mutatja\, hogy több mint kétszázezren voltak kíváncsiak rá – nem meglepő hát\, hogy újabb installációnak adott helyet a Budapest Gyógyfürdői és Hévízei Zrt.\, melynek témája az idén 150. születésnapját ünneplő Budapest. Minden állomás a város történetének egy-egy kiemelkedő időszakát meséli el – Aquincumtól a reformkoron és a múlt század huszas évein át napjainkig. Utunk végén még a jövőbe is kitekinthetünk egy vízió erejéig – múlt\, jelen és jövő így alkot kerek egészet. \nTarts velünk erre a különleges esti sétára! A belépés MÁK-kártya vagy kiskönyv felmutatása mellett látássérült + 1 fő kísérő számára csoportunkkal ezúttal ingyenes. Vakvezető kutya hozható. Eddigi tapasztalataink alapján érdemes igen melegen öltözni. 😉 \nA séta tervezett időtartama 120 perc\, a csoport létszáma legfeljebb 30 fő. \nTalálkozó: Újpest-Központ metróállomás aluljáró\, 15:30-15:40 \nA programra előzetes bejelentkezés szükséges legkésőbb 2023. november 20. 12:00-ig! A korlátozott létszám miatt a jelentkezési sorrendet fogjuk figyelembe venni. \nA program további részletei – esetleges változások\, felszabaduló helyek\, stb. – Facebook-eseményünkben olvashatóak\, mely Facebook-fiók megléte nélkül is megtekinthető:\nhttps://fb.me/e/QiARVjZh \nVárunk szeretettel!
URL:https://vgyke.com/event/varosok-fenye-korok-dicsosege-idoutazas-a-lumina-parkban/
LOCATION:Lumina Park Budapest (1003 Budapest\, Soós Rezső stny. 1. \, Palatinus fürdő)
ORGANIZER;CN="Murg%C3%A1cs J%C3%A1nosn%C3%A9":MAILTO:ujpest.szervezo@vgyke.com
END:VEVENT
BEGIN:VEVENT
DTSTART;TZID=Europe/Budapest:20231125T130000
DTEND;TZID=Europe/Budapest:20231125T150000
DTSTAMP:20260423T105349
CREATED:20231120T155510Z
LAST-MODIFIED:20231120T155510Z
UID:34339-1700917200-1700924400@vgyke.com
SUMMARY:Látogatás a Holokauszt Emlékközpontba
DESCRIPTION:2024. november 25-én ellátogatunk a Holokauszt Emlékmúzeumba.\, ahol az állandó kiállítást tekintjük meg tárlatvezetéssel egybekötve. Az állandó kiállítás témája a magyar holokauszt. Célja\, hogy a faji ideológia által fizikai megsemmisítésre ítélt magyar állampolgárok\, azaz a zsidók és a romák szenvedéseit\, üldöztetését\, legyilkolását elbeszélje és bemutassa.
URL:https://vgyke.com/event/latogatas-a-holokauszt-emlekkozpontba-2/
LOCATION:Holokauszt Emlékmúzeum
ORGANIZER;CN="Majl%C3%A1th M%C3%B3nika":MAILTO:angyalfold.szervezo@vgyke.com
END:VEVENT
BEGIN:VEVENT
DTSTART;TZID=Europe/Budapest:20231127T130000
DTEND;TZID=Europe/Budapest:20231127T150000
DTSTAMP:20260423T105349
CREATED:20231120T155730Z
LAST-MODIFIED:20231120T155730Z
UID:34342-1701090000-1701097200@vgyke.com
SUMMARY:Klubnap
DESCRIPTION:Klubnap az ügyfélszolgálattal és a Láthatárbolttal\, valamint utó Halloweeni jelmezes party
URL:https://vgyke.com/event/klubnap-15/
LOCATION:Napraforgó Családi és Gyermekjóléti Központ 1163. Budapest\, Cziráki u. 22.
ORGANIZER;CN="Majl%C3%A1th M%C3%B3nika":MAILTO:angyalfold.szervezo@vgyke.com
END:VEVENT
BEGIN:VEVENT
DTSTART;TZID=Europe/Budapest:20231127T150000
DTEND;TZID=Europe/Budapest:20231127T163000
DTSTAMP:20260423T105349
CREATED:20231121T172736Z
LAST-MODIFIED:20231121T172736Z
UID:34376-1701097200-1701102600@vgyke.com
SUMMARY:Őszbúcsúztató utó-utó-Halloween-buli jelmezversennyel
DESCRIPTION:Szürke égbolt\, eső kopogása\, kéményfüst szállingózik\, szélhordta avar csörög a járdán… az állatok elbújnak\, a fák lassan elalszanak. Minden készül a télre\, az elcsendesedésre – kivéve persze az embert\, aki továbbra is úgy lót-fut és tevékenykedik\, mintha már a tavaszi madárcsicsergés ébresztené reggel! Nem csoda\, hogy szükség van az energiára – a közösség melegére\, jó beszélgetésekre\, falatnyi finomságra némi forró kortyolnivaló mellé. \nTalálkozzunk hát mi is egy délután erejéig\, fűszerezzük meg egy kicsit az őszt! Ittál már Pumpkin Spice Lattét? Netán azt is tudod\, mi az a London Fog? Ha a válaszod nem\, de érdekelne\, vagy csak jól esne egy forró ital a koratéli zegernyében\, csatlakozz hozzánk november végén\, hogy testet-lelket melengető fűszerek illatától övezve\, egy utó-Halloween-buli keretében együtt búcsúzzunk el az ősztől! \nSzó esik majd az őszi ünnepekről\, eseményekről is – és más programmal is készülünk: vállalkozó szelleműek jelmezt is ölthetnek\, melyek fotóját feltöltjük Facebook-oldalunkra! A legötletesebb\, legtöbb szavazatot kapó apró jutalomban részesül decemberi karácsonyi klubunkon. \nVárunk szeretettel! \nAz esemény Facebook-linkje:\nhttps://fb.me/e/6gUAjld0n \n 
URL:https://vgyke.com/event/oszbucsuztato-uto-uto-halloween-buli-jelmezversennyel/
LOCATION:Napraforgó Család- és Gyermekjóléti Központ 1163 Budapest\, Cziráki utca 22.  I. emelet klubterem
ORGANIZER;CN="Czag%C3%A1ny Izabella":MAILTO:16.kerulet.szervezo@vgyke.com
END:VEVENT
BEGIN:VEVENT
DTSTART;TZID=Europe/Budapest:20231129T150000
DTEND;TZID=Europe/Budapest:20231129T170000
DTSTAMP:20260423T105349
CREATED:20231120T154713Z
LAST-MODIFIED:20231120T154933Z
UID:34334-1701270000-1701277200@vgyke.com
SUMMARY:Novemberi klubnap a VGYKE ügyfélszolgálatával és a LifeMax Egyesülettel
DESCRIPTION:Vendégünk lesz a VGYKE ügyfélszolgálatának munkatársa. Lehetőség lesz a 2024. évi tagdíjak befizetésére\, kérések\, kérdések megválaszolására. Másik vendégünk a LifeMax Egyesület munkatársa lesz\, aki egy segélyhívó szolgáltatást mutat be nekünk.
URL:https://vgyke.com/event/novemberi-klubnap-a-vgyke-ugyfelszolgalataval-es-a-lifemax-egyesulettel/
LOCATION:Kondor Béla Közösségi Ház\, Kondor Béla sétány. 8.\, Budapest\, 1181
ORGANIZER;CN="P%C3%A1zm%C3%A1n Krisztina":MAILTO:18.kerulet.szervezo@vgyke.com
END:VEVENT
END:VCALENDAR