BEGIN:VCALENDAR
VERSION:2.0
PRODID:-//Vakok és Gyengénlátók Közép-Magyarországi Regionális Egyesülete - ECPv6.15.20//NONSGML v1.0//EN
CALSCALE:GREGORIAN
METHOD:PUBLISH
X-WR-CALNAME:Vakok és Gyengénlátók Közép-Magyarországi Regionális Egyesülete
X-ORIGINAL-URL:https://vgyke.com
X-WR-CALDESC:Események Vakok és Gyengénlátók Közép-Magyarországi Regionális Egyesülete
REFRESH-INTERVAL;VALUE=DURATION:PT1H
X-Robots-Tag:noindex
X-PUBLISHED-TTL:PT1H
BEGIN:VTIMEZONE
TZID:Europe/Budapest
BEGIN:DAYLIGHT
TZOFFSETFROM:+0100
TZOFFSETTO:+0200
TZNAME:CEST
DTSTART:20230326T010000
END:DAYLIGHT
BEGIN:STANDARD
TZOFFSETFROM:+0200
TZOFFSETTO:+0100
TZNAME:CET
DTSTART:20231029T010000
END:STANDARD
BEGIN:DAYLIGHT
TZOFFSETFROM:+0100
TZOFFSETTO:+0200
TZNAME:CEST
DTSTART:20240331T010000
END:DAYLIGHT
BEGIN:STANDARD
TZOFFSETFROM:+0200
TZOFFSETTO:+0100
TZNAME:CET
DTSTART:20241027T010000
END:STANDARD
BEGIN:DAYLIGHT
TZOFFSETFROM:+0100
TZOFFSETTO:+0200
TZNAME:CEST
DTSTART:20250330T010000
END:DAYLIGHT
BEGIN:STANDARD
TZOFFSETFROM:+0200
TZOFFSETTO:+0100
TZNAME:CET
DTSTART:20251026T010000
END:STANDARD
END:VTIMEZONE
BEGIN:VEVENT
DTSTART;TZID=Europe/Budapest:20240221T140000
DTEND;TZID=Europe/Budapest:20240221T143000
DTSTAMP:20260423T065258
CREATED:20240203T103102Z
LAST-MODIFIED:20240203T103102Z
UID:34812-1708524000-1708525800@vgyke.com
SUMMARY:Februári jeles napok és a Húsvét előtti nagyböjt
DESCRIPTION:2024-ben a Húsvét a lehető legkorábban\, március utolsó hétvégéjén lesz. Így február végi online klubunk alkalmával érdemes lesz beszélni a Húsvétot megelőző nagyböjti időszakról\, a februári jeles napokról.
URL:https://vgyke.com/event/februari-jeles-napok-es-a-husvet-elotti-nagybojt/
LOCATION:A Kispesti Lámpás Klub Facebook-oldalán: http://www.facebook.com/KozossegLampasaiKispest
ORGANIZER;CN="Ruzsa Viktor":MAILTO:kispest.szervezo@vgyke.com
END:VEVENT
BEGIN:VEVENT
DTSTART;TZID=Europe/Budapest:20240222T110000
DTEND;TZID=Europe/Budapest:20240222T123000
DTSTAMP:20260423T065258
CREATED:20240213T153902Z
LAST-MODIFIED:20240213T153914Z
UID:34890-1708599600-1708605000@vgyke.com
SUMMARY:Látogatás a Magyar Nemzeti Levéltárba
DESCRIPTION:A résztvevők megismerkednek a levéltár rejtett kincseivel tárlatvezető segítségével.
URL:https://vgyke.com/event/latogatas-a-magyar-nemzeti-leveltarba/
LOCATION:1014. Budapest\, Bécsikapu tér 2-4.
ORGANIZER;CN="J%C3%A1nosi Veronika":MAILTO:erzsebetvaros.szervezo@vgyke.com
END:VEVENT
BEGIN:VEVENT
DTSTART;TZID=Europe/Budapest:20240222T160000
DTEND;TZID=Europe/Budapest:20240222T163000
DTSTAMP:20260423T065258
CREATED:20240209T162411Z
LAST-MODIFIED:20240209T162411Z
UID:34860-1708617600-1708619400@vgyke.com
SUMMARY:Hegyvidék februári online lámpás klub
DESCRIPTION:Közeleg a tavasz\, irány a természet! Februári online klub alkalmunkon Papp Csabával a Baranya Megyei Szabadidősport Szövetség elnökével beszélgetek a természetjárás\, a túrázás gyakorlati tanácsairól\, a természetjárás szépségeiről.
URL:https://vgyke.com/event/hegyvidek-februari-online-lampas-klub/
LOCATION:https://www.facebook.com/KozossegLampasaiHegyvidek
ORGANIZER;CN="T%C3%B6r%C3%B6k-Zselensky Eszter":MAILTO:2.kerulet.szervezo@vgyke.com
END:VEVENT
BEGIN:VEVENT
DTSTART;TZID=Europe/Budapest:20240222T160000
DTEND;TZID=Europe/Budapest:20240222T163000
DTSTAMP:20260423T065258
CREATED:20240209T162729Z
LAST-MODIFIED:20240209T162729Z
UID:34862-1708617600-1708619400@vgyke.com
SUMMARY:2. kerület februári online lámpás klub
DESCRIPTION:Közeleg a tavasz\, irány a természet! Februári klub alkalmunkon Papp Csabával a Baranya Megyei Szabadidősport Szövetség elnökével beszélgetek a természetjárás\, és a túrázás gyakorlati tanácsairól\, a természetjárás szépségeiről.online
URL:https://vgyke.com/event/2-kerulet-februari-online-lampas-klub/
LOCATION:https://www.facebook.com/KozossegLampasaiMasodikKerulet
ORGANIZER;CN="T%C3%B6r%C3%B6k-Zselensky Eszter":MAILTO:2.kerulet.szervezo@vgyke.com
END:VEVENT
BEGIN:VEVENT
DTSTART;TZID=Europe/Budapest:20240222T190000
DTEND;TZID=Europe/Budapest:20240222T223000
DTSTAMP:20260423T065258
CREATED:20240208T164416Z
LAST-MODIFIED:20240208T164433Z
UID:34832-1708628400-1708641000@vgyke.com
SUMMARY:Audionarrált színházi előadás megtekintése
DESCRIPTION:Az előadás címe: Anton Csehov: Ványabá\, hossza 160 perc egy szünettel. Audionarrátor: Seres Edit Lili. Előnarráció a helyszínen.\nA programon való részvétel önköltséges\, jegyek korlátozott számban kaphatók a jelentkezés sorrendjében\, ára: 4800 Ft/db.
URL:https://vgyke.com/event/audionarralt-szinhazi-eloadas-megtekintese-6/
LOCATION:Thália Színház Télikert\, Nagymező utca 22-24.\, Budapest\, 1065
ORGANIZER;CN="P%C3%A1zm%C3%A1n Krisztina":MAILTO:18.kerulet.szervezo@vgyke.com
END:VEVENT
BEGIN:VEVENT
DTSTART;TZID=Europe/Budapest:20240223T103000
DTEND;TZID=Europe/Budapest:20240223T120000
DTSTAMP:20260423T065258
CREATED:20240208T164739Z
LAST-MODIFIED:20240208T164739Z
UID:34835-1708684200-1708689600@vgyke.com
SUMMARY:Múzeumlátogatás
DESCRIPTION:A Kodály Zoltán Emlékmúzeum megtekintése tárlatvezetéssel.\nA programon való részvétel önköltséges\, ára: 1500 Ft/db. A csoport maximális létszáma 20 fő lehet.\nA múzeumba vakvezető kutya nem vihető be\, valamint a belső terekben fényképezni nem lehet.
URL:https://vgyke.com/event/muzeumlatogatas/
LOCATION:Kodály Zoltán Emlékmúzeum\, Andrássy út 87-89.\, Budapest\, 1062
ORGANIZER;CN="P%C3%A1zm%C3%A1n Krisztina":MAILTO:18.kerulet.szervezo@vgyke.com
END:VEVENT
BEGIN:VEVENT
DTSTART;TZID=Europe/Budapest:20240224T123000
DTEND;TZID=Europe/Budapest:20240224T153000
DTSTAMP:20260423T065258
CREATED:20240115T104627Z
LAST-MODIFIED:20240116T145609Z
UID:34676-1708777800-1708788600@vgyke.com
SUMMARY:Magyar menyasszony kiállítás
DESCRIPTION:A világ változik\, de menyasszonyok voltak 500 éve is\, és napjainkban is. Hogy változott a női szerep az évek folyamán? Voltak-e régen szerelmi házasságok? Hogy változtak a viseletek\, tradíciók?
URL:https://vgyke.com/event/magyar-menyasszony-kiallitas/
LOCATION:Magyar Nemzeti Múzeum Budapest Budapest Múzeum krt. 14-16 1088
END:VEVENT
BEGIN:VEVENT
DTSTART;TZID=Europe/Budapest:20240225T190000
DTEND;TZID=Europe/Budapest:20240225T213000
DTSTAMP:20260423T065258
CREATED:20240208T164052Z
LAST-MODIFIED:20240208T164052Z
UID:34830-1708887600-1708896600@vgyke.com
SUMMARY:Audionarrált színházi előadás megtekintése
DESCRIPTION:Az előadás címe: April De Angelis: Színésznők\, hossza 2 óra egy szünettel. Audionarrátor: Seres Edit Lili. Előnarráció a helyszínen.\nA programon való részvétel önköltséges\, jegyek korlátozott számban kaphatók a jelentkezés sorrendjében\, ára: 2000 Ft/db.
URL:https://vgyke.com/event/audionarralt-szinhazi-eloadas-megtekintese-5/
LOCATION:Pinceszínház\, Török Pál u. 3.\, Budapest\, 1093
ORGANIZER;CN="P%C3%A1zm%C3%A1n Krisztina":MAILTO:18.kerulet.szervezo@vgyke.com
END:VEVENT
BEGIN:VEVENT
DTSTART;TZID=Europe/Budapest:20240226T150000
DTEND;TZID=Europe/Budapest:20240226T170000
DTSTAMP:20260423T065258
CREATED:20240209T163746Z
LAST-MODIFIED:20240209T164034Z
UID:34866-1708959600-1708966800@vgyke.com
SUMMARY:Februári klubnap Angyalföldön
DESCRIPTION:Bizsók László Virgil rajzművész munkáinak bemutatása
URL:https://vgyke.com/event/februari-klubnap-angyalfoldon/
LOCATION:1134. Budapest\, Tüzér u. 56-58.
END:VEVENT
BEGIN:VEVENT
DTSTART;TZID=Europe/Budapest:20240227T160000
DTEND;TZID=Europe/Budapest:20240227T170000
DTSTAMP:20260423T065258
CREATED:20240226T112147Z
LAST-MODIFIED:20240226T112147Z
UID:35031-1709049600-1709053200@vgyke.com
SUMMARY:Lélekmozgató a Csiliben
DESCRIPTION:Szeretettel hívok Mindenkit februári soroksári online klubnapunkra\, melyen a Csili Művelődési Központban a Parasport Napja alkalmából megtartott Rendezvényen veszünk részt\, ahol többek között Mészáros Ágnes\, Egyesületünk alelnökasszonya tart szemléletformáló előadást a vakvezető kutyákról\, és válaszol minden – a témával kapcsolatban felmerülő kérdésre. \nA Rendezvényen felvétel készült\, mely megtekinthető lesz 2024. február 27.-én 16:00-tól a Közösség Lámpásai – soroksári látássérültek Klubja Facebook oldalunkon\, melynek linkje:\nhttps://www.facebook.com/profile.php?id=100086490647357 \nVárok Mindenkit szeretettel!
URL:https://vgyke.com/event/lelekmozgato-a-csiliben/
LOCATION:online
ORGANIZER;CN="Dudikn%C3%A9 R%C3%A1cz Andrea":MAILTO:pesterzsebet.szervezo@vgyke.com
END:VEVENT
BEGIN:VEVENT
DTSTART;TZID=Europe/Budapest:20240228T110000
DTEND;TZID=Europe/Budapest:20240228T130000
DTSTAMP:20260423T065258
CREATED:20240226T111703Z
LAST-MODIFIED:20240226T111703Z
UID:35028-1709118000-1709125200@vgyke.com
SUMMARY:Tárlatvezetés a Pesterzsébeti Múzeumban
DESCRIPTION:Szeretettel hívok Mindenkit februári klubprogramunkra\, melynek keretében ellátogatunk a Pesterzsébeti Múzeumba\, ahol tárlatvezetéssel lehetőségünk nyílik megtekinteni az „Üdvözlet Erzsébetfalváról” című állandó helytörténeti kiállítást\, ezt követően a Kossuth Lajos utcán keresztül átsétálunk a Gaál Imre Galériába\, ahol a Művészettörténelem című állandó kiállítást láthatjuk szintén tárlatvezetéssel
URL:https://vgyke.com/event/tarlatvezetes-a-pesterzsebeti-muzeumban/
LOCATION:Pesterzsébeti Múzeum (1201 Budapest Baross utca 53.)
ORGANIZER;CN="Dudikn%C3%A9 R%C3%A1cz Andrea":MAILTO:pesterzsebet.szervezo@vgyke.com
END:VEVENT
BEGIN:VEVENT
DTSTART;TZID=Europe/Budapest:20240228T150000
DTEND;TZID=Europe/Budapest:20240228T170000
DTSTAMP:20260423T065258
CREATED:20240221T142717Z
LAST-MODIFIED:20240221T142717Z
UID:35000-1709132400-1709139600@vgyke.com
SUMMARY:Februári klubnap
DESCRIPTION:A farsangi időszaknak ugyan már vége\, de nálunk sem maradhat el a télbúcsúztató\, vidám mulatság. Játékkal\, fánkkal és tánccal köszönünk el a téltől és fogadjuk a tavasz közeledtét. Ha van kedved érkezz jelmezben\, mely nem marad jutalom nélkül.\nMindenkit sok szeretettel várunk.
URL:https://vgyke.com/event/februari-klubnap/
LOCATION:Kondor Béla Közösségi Ház\, Kondor Béla sétány 8.\, Budapest\, 1181\, Magyarország
ORGANIZER;CN="P%C3%A1zm%C3%A1n Krisztina":MAILTO:18.kerulet.szervezo@vgyke.com
END:VEVENT
BEGIN:VEVENT
DTSTART;TZID=Europe/Budapest:20240301T140000
DTEND;TZID=Europe/Budapest:20240301T160000
DTSTAMP:20260423T065258
CREATED:20240304T083733Z
LAST-MODIFIED:20240304T083812Z
UID:35102-1709301600-1709308800@vgyke.com
SUMMARY:Klubnap
DESCRIPTION:Klubnap a L’amouse cukrászdában
URL:https://vgyke.com/event/klubnap-18/
LOCATION:Budapest Tűzoltó u. 82.
END:VEVENT
BEGIN:VEVENT
DTSTART;TZID=Europe/Budapest:20240301T190000
DTEND;TZID=Europe/Budapest:20240301T220000
DTSTAMP:20260423T065258
CREATED:20240304T084130Z
LAST-MODIFIED:20240304T084130Z
UID:35105-1709319600-1709330400@vgyke.com
SUMMARY:Nemzeti Színáz előadás
DESCRIPTION:A Győri Kisfaludy Károly színház vendégjátéka-Buborékok
URL:https://vgyke.com/event/nemzeti-szinaz-eloadas/
LOCATION:A Győri Kisfaludy Károly színház vendégjátéka-Buborékok
END:VEVENT
BEGIN:VEVENT
DTSTART;TZID=Europe/Budapest:20240304T140000
DTEND;TZID=Europe/Budapest:20240304T163000
DTSTAMP:20260423T065258
CREATED:20240229T091306Z
LAST-MODIFIED:20240229T091306Z
UID:35066-1709560800-1709569800@vgyke.com
SUMMARY:A legújabb internetes és unokázós csalásokról tart előadást Farkas Brigitta Rákosmentén
DESCRIPTION:Meghívtuk Farkas Brigitta 17-ik kerületi rendőrszázadost\, hogy tartson előadást tagjainknak a legújabb internetes és unokázós csalásokról és adjon hasznos tanácsokat\, hogy milyen módon előzhetjük meg a bűncselekményeket.
URL:https://vgyke.com/event/a-legujabb-internetes-es-unokazos-csalasokrol-tart-eloadast-farkas-brigitta-rakosmenten/
LOCATION:Rákoshegyi Közösségi Ház Kép U 7-9
END:VEVENT
BEGIN:VEVENT
DTSTART;TZID=Europe/Budapest:20240306T150000
DTEND;TZID=Europe/Budapest:20240306T170000
DTSTAMP:20260423T065258
CREATED:20240229T093227Z
LAST-MODIFIED:20240229T093227Z
UID:35073-1709737200-1709744400@vgyke.com
SUMMARY:Márciusi Klubnap- Itt a tavasz
DESCRIPTION:Kedves Tagjaink\, Kísérők\, Érdeklődők! A márciusi klubon a kerület körzeti megbízottja\, Varga Brigitta százados látogat el hozzánk.\nBizonyára ismételten sok hasznos tájékoztatással leszünk gazdagabbak.\nA délután keretében beszélgetünk a Nőnapról\, és a közeledő Húsvétról is .
URL:https://vgyke.com/event/marciusi-klubnap-itt-a-tavasz/
LOCATION:Újpesti Kulturális Központ: Ifjúsági Ház Budapest\, 1042. István út 17-19. I. emelet 117. terem (a terem változhat)
ORGANIZER;CN="Murg%C3%A1cs J%C3%A1nosn%C3%A9":MAILTO:ujpest.szervezo@vgyke.com
END:VEVENT
BEGIN:VEVENT
DTSTART;TZID=Europe/Budapest:20240306T190000
DTEND;TZID=Europe/Budapest:20240306T213000
DTSTAMP:20260423T065258
CREATED:20240227T115153Z
LAST-MODIFIED:20240227T115153Z
UID:35050-1709751600-1709760600@vgyke.com
SUMMARY:„Utánképzés ittas vezetőknek” – audionarrált színházi előadás
DESCRIPTION:Tarts velünk a Pesti Magyar Színházba\, ahol Háy János „Utánképzés ittas vezetőknek” című szatíráját nézzük meg audionarrációval! \n„Keserű komédia ez – a szó szoros értelmében! A darab szereplői ugyanis lehajtottak egy pár “keserű”-t. Ez még hagyján; az igazi baj abból lett\, hogy ittasan autóba ültek. És ha már autóba ültek\, balesetet okoztak. “Hőseinknek” most részt kell venniük egy háromnapos csoportterápián\, hogy visszakaphassák a jogosítványukat. Kik is ezek a “hősök”? A mai magyar társadalom legkülönbözőbb figurái: műkörmöstől a píárosig\, házmestertől a kisstílű maffiózóig\, vendéglátóstól a projektmenedzserig és így tovább. Ám ez a csoportterápia nem szimplán a beszélgetésről szól: “hőseinknek” fel kell idézniük\, sőt\, el kell játszaniuk az ominózus ittas vezetést\, ami ide juttatta őket. És ekkor kezdődik csak az igazi keserű komédia! Mindenki próbálja úgy elmesélni ittas vezetésének több mint ciki történetét\, hogy a lehető legjobb színben és a lehető legártatlanabbnak tüntesse fel magát.”\n(forrás: https://pestimagyarszinhaz.hu/utankepzes-ittas-vezetoknek/) \nSzereposztás\nCsilla\, pszichológus: Bede-Fazekas Annamária\nTünde\, pszichológus: Vlahovics Edit\nRéka\, marketinges: Horváth Sisa Anna\nBogi\, műkörmös: Hábermann Lívia\nMárió\, volt húskereskedő: Pavletits Béla\nAnna\, újságírónő: Péteri Lilla\nTibor\, egy éjjel nappali ABC tulajdonosa: Fellinger Domonkos\nLaci\, társasházi közös képviselő: Szűcs Sándor\nSándor\, építőmérnök\, projektvezető egy építőipari cégnél: Rancsó Dezső\nSanyi\, vendéglős\, talán szakács: Szatmári Attila\nEmil\, feltehetően belügyes: Barsi Márton \nElőadás hossza: 140 perc\, egy szünettel\nAudionarrátor: Oláh Klaudia \nAz előadásra regisztráció kötelező! Ha szeretnél csatlakozni hozzánk\, 2024.03.04. 12:00-ig jelentkezz lenti elérhetőségeink valamelyikén! („Ott leszek” jelölése a Facebook-eseménynél önmagában nem minősül jelentkezésnek; ha számodra az a platform lenne a legkényelmesebb\, pár szót írj mellé nekünk privát üzenetben!)\nA kedvezményes jegy ára látássérülteknek 2000\, kísérőknek 3000 Ft. Kísérőt sajnos nem tudunk biztosítani; kérünk\, gondoskodjatok saját segítőről. A rendelkezésre álló jegyek száma korlátozott\, ezért a jelentkezési sorrendet vesszük figyelembe. Megértéseteket köszönjük! \nA program esetleges további részletei Facebook-eseményünkben olvashatóak\, mely Facebook-fiók megléte nélkül is megtekinthető:\nhttps://fb.me/e/1tNTaiCMR \nÉrkezés a színházba: 18:30\, a készülékek átvétele és kipróbálása miatt\nMegközelíthetőség: 73-as\, 76-os trolibuszok (Wesselényi utca/Izabella utca\, illetve Dob utca megállók); 74-es trolibusz (Rózsa utca); illetve sétával a 70-es és 78-as trolibuszok (Izabella utca/Király utca megálló).\nTalálkozó: 1. Puskás Ferenc stadion 75-ös troli megállója 17:55-18:05 Bogival; 2. Keleti pályaudvar M2 kijárat 18:00 18:10 között Izával \nVárunk szeretettel!
URL:https://vgyke.com/event/utankepzes-ittas-vezetoknek-audionarralt-szinhazi-eloadas/
LOCATION:Pesti Magyar Színház (1077 Budapest\, Hevesi Sándor tér 4.)
ORGANIZER;CN="Czag%C3%A1ny Izabella":MAILTO:16.kerulet.szervezo@vgyke.com
END:VEVENT
BEGIN:VEVENT
DTSTART;TZID=Europe/Budapest:20240308T100000
DTEND;TZID=Europe/Budapest:20240308T120000
DTSTAMP:20260423T065258
CREATED:20240304T082712Z
LAST-MODIFIED:20240304T082848Z
UID:35096-1709892000-1709899200@vgyke.com
SUMMARY:Nőnapi Klub és a kerámiakészítés alapjai Békásmegyeren
DESCRIPTION:Vendégünk\, Huszár Rita segítségével megtapasztalhatunk egy kézzel fogható művészeti forma\, az agyagozás\, a kerámiakészítés alapjait.
URL:https://vgyke.com/event/nonapi-klub-es-a-keramiakeszites-alapjai-bekasmegyeren/
LOCATION:Békásmegyeri Közösségi Ház (1039 Budapest Csobánka tér 5.) I. emeleti kisterem
ORGANIZER;CN="Ruzsa Viktor":MAILTO:kispest.szervezo@vgyke.com
END:VEVENT
BEGIN:VEVENT
DTSTART;TZID=Europe/Budapest:20240308T170000
DTEND;TZID=Europe/Budapest:20240308T190000
DTSTAMP:20260423T065258
CREATED:20240304T083213Z
LAST-MODIFIED:20240304T083213Z
UID:35098-1709917200-1709924400@vgyke.com
SUMMARY:Színházi kulisszák - a Nemzet Színésze Psota Irén
DESCRIPTION:Szebényi Ágnes színháztörténész muzeológus tart előadást a Békásmegyeri Közösségi Házban. Színházi kulisszák – a Nemzet Színésze sorozatában ezúttal Psota Irént ismerhetjük meg közelebbről.
URL:https://vgyke.com/event/szinhazi-kulisszak-a-nemzet-szinesze-psota-iren/
LOCATION:Békásmegyeri Közösségi Ház (1039 Budapest Csobánka tér 5.) I. emeleti kisterem
ORGANIZER;CN="Ruzsa Viktor":MAILTO:kispest.szervezo@vgyke.com
END:VEVENT
BEGIN:VEVENT
DTSTART;TZID=Europe/Budapest:20240311T150000
DTEND;TZID=Europe/Budapest:20240311T170000
DTSTAMP:20260423T065258
CREATED:20240306T182623Z
LAST-MODIFIED:20240306T182623Z
UID:35116-1710169200-1710176400@vgyke.com
SUMMARY:Húsvét játékos formában
DESCRIPTION:A résztvevők egy kvízjátéék formájában elevenítik fel a húsvéttal kapcsolatos ismereteiket.
URL:https://vgyke.com/event/husvet-jatekos-formaban/
LOCATION:Kőrösi Csoma Sándor Kőbányai Kulturális Központ (1105. Budapest\, Szent László tér 7-14)
ORGANIZER;CN="J%C3%A1nosi Veronika":MAILTO:erzsebetvaros.szervezo@vgyke.com
END:VEVENT
BEGIN:VEVENT
DTSTART;TZID=Europe/Budapest:20240313T140000
DTEND;TZID=Europe/Budapest:20240313T160000
DTSTAMP:20260423T065258
CREATED:20240229T092157Z
LAST-MODIFIED:20240229T103521Z
UID:35069-1710338400-1710345600@vgyke.com
SUMMARY:Klubnap
DESCRIPTION:Az audionarrációról a klubnapon Vendég: Gazdik Kati
URL:https://vgyke.com/event/klubnap-3/
LOCATION:1144 Budapest\, Csertő park 12.
ORGANIZER;CN="Kiss M%C3%A1rta":MAILTO:zuglo.szervezo@vgyke.com
END:VEVENT
BEGIN:VEVENT
DTSTART;TZID=Europe/Budapest:20240314T140000
DTEND;TZID=Europe/Budapest:20240314T160000
DTSTAMP:20260423T065258
CREATED:20240313T090526Z
LAST-MODIFIED:20240313T090526Z
UID:35158-1710424800-1710432000@vgyke.com
SUMMARY:Angol teadélután a pesterzsébeti Lámpás Klubon
DESCRIPTION:Kedves Tagok\, Kísérők és Érdeklődők! \nMárciusi Klubnapunkon egy kis „utazásra” hívlak Benneteket\, ahol Czagány Izabella vezet be minket az angol teakultúra hagyományainak rejtelmeibe\, illetve lehetőségünk nyílik megtapasztalni az angol teázás élményét. \nA Klubnap időpontja: 2024. március 14. 14:00 \nAz esemény ingyenes\, de regisztrációhoz kötött\, melynek határideje 2024. március 13. 12:00
URL:https://vgyke.com/event/angol-teadelutan-a-pesterzsebeti-lampas-klubon/
LOCATION:Csili Művelődési Központ (1201 Budapest Baross utca 55.)
ORGANIZER;CN="Dudikn%C3%A9 R%C3%A1cz Andrea":MAILTO:pesterzsebet.szervezo@vgyke.com
END:VEVENT
BEGIN:VEVENT
DTSTART;TZID=Europe/Budapest:20240318T150000
DTEND;TZID=Europe/Budapest:20240318T163000
DTSTAMP:20260423T065258
CREATED:20240313T162100Z
LAST-MODIFIED:20240313T162100Z
UID:35174-1710774000-1710779400@vgyke.com
SUMMARY:Bűvös aromák\, illó mágia
DESCRIPTION:Nehéz az érzékeket rangsorolni. A látás\, mondanák sokan a sorstársak közül\, az mindennél fontosabb – talán így is van. Sokan szavaznának a tapintásra is – hiszen annyi mindent tud jelenteni egy ölelés; ahogy egy kölyökkutya plüssös bundáján\, brokátselyem gazdag anyagán\, hűvös mohán futtatjuk ujjainkat\, vagy arccal fordulunk a friss tavaszi szél és a márciusi Nap felé… végtelenségig sorolhatnánk! No és a hallás – kedvenc dallamaink\, szeretteink nevetése\, nyári vihar morajlása a tücsökciripelés mögött\, a sosem alvó Budapest utcáinak kora reggeli majdnem-csöndje…\nTalán senki sem helyezné első helyre a szaglást\, pedig – ha nem is mindig tudatosan – egész közérzetünket meghatározza. Gyermekkorunk elfeledettnek hitt emlékei\, életünk eseményei\, helyek\, nyarak\, régi karácsonyok – pillanatok alatt hívja elő őket egy-egy ismerős aroma: a jókat is\, a rosszakat is. Még az ízlelésünk sem az igazi nélküle: hiába párállik a bögrénkből a legfinomabb bergamottos-citromos teagőz\, a náthától eldugult orral aligha érezzük az ital ízét. \nAz emberiség már az ókorban is illatokkal tette otthonosabbá környezetét: lakótereiket füstölőkkel és aromás virágokkal illatosították\, szertartásaikon tömjént\, szantált égettek; testüket\, hajukat balzsamos olajokkal kenték. Legsokoldalúbban az illóolajokat használták – és használjuk azóta is.\nAz illatok erőteljes fiziológiai és érzelmi reakciókat válthatnak ki: egyesek energetizálnak\, új erővel töltenek fel; míg mások megnyugtatnak és kiegyensúlyoznak. Az esszenciális olajok segítik a szervezetet a barátságtalan mikroorganizmusok elleni küzdelemben\, megtisztítják a szerveket\, mirigyeket és kiegyensúlyozzák a test funkcióit\, emelik energetikai rezgését. Használatuk évezredei alatt jelentős tudás gyűlt össze az egyes illóolajok tulajdonságait\, alkalmazását\, hatásait illetően. Saját „aroma-patikánk” kialakításához már az alapismeretek is elegendőek – ezek birtokában magunk is élvezhetjük az olajok kínálta sok-sok előnyt!\nKlubunkon ezúttal ebben a varázslatos világban kalandozunk majd: illatokat próbálgatunk\, hatásaikkal\, alkalmazásuk módjaival és a hozzájuk kapcsolódó izgalmas történetekkel ismerkedünk. Ha felkeltettük érdeklődésed\, csatlakozz hozzánk a szokott helyen és időben! \nAz esemény Facebook-linkje:\nhttps://fb.me/e/3XDUcf0QZ
URL:https://vgyke.com/event/buvos-aromak-illo-magia/
LOCATION:Napraforgó Család- és Gyermekjóléti Központ (1163 Budapest\, Cziráki utca 22.) I. emelet klubterem
ORGANIZER;CN="Czag%C3%A1ny Izabella":MAILTO:16.kerulet.szervezo@vgyke.com
END:VEVENT
BEGIN:VEVENT
DTSTART;TZID=Europe/Budapest:20240319T100000
DTEND;TZID=Europe/Budapest:20240319T120000
DTSTAMP:20260423T065258
CREATED:20240229T092840Z
LAST-MODIFIED:20240229T104024Z
UID:35071-1710842400-1710849600@vgyke.com
SUMMARY:Múzeum látogatás
DESCRIPTION:Az orvoslás történetének megismerése az Orvostörténeti Múzeumban
URL:https://vgyke.com/event/muzeum-latogatas-2/
LOCATION:Orvostörténeti Múzeum\, Apród u. 1-3.\, Budapest\, 1013
ORGANIZER;CN="Kiss M%C3%A1rta":MAILTO:zuglo.szervezo@vgyke.com
END:VEVENT
BEGIN:VEVENT
DTSTART;TZID=Europe/Budapest:20240320T140000
DTEND;TZID=Europe/Budapest:20240320T143000
DTSTAMP:20260423T065258
CREATED:20240304T083434Z
LAST-MODIFIED:20240304T083434Z
UID:35100-1710943200-1710945000@vgyke.com
SUMMARY:Itt a tavasz!
DESCRIPTION:Márciusi jeles napokról és a nagyböjti-\, húsvéti népszokásokról a Kispesti Lámpás Klub 2024. márciusi online alkalmán.
URL:https://vgyke.com/event/itt-a-tavasz/
LOCATION:Online: http://www.facebook.com/KozossegLampasaiKispest
ORGANIZER;CN="Ruzsa Viktor":MAILTO:kispest.szervezo@vgyke.com
END:VEVENT
BEGIN:VEVENT
DTSTART;TZID=Europe/Budapest:20240321T100000
DTEND;TZID=Europe/Budapest:20240321T103000
DTSTAMP:20260423T065258
CREATED:20240311T161758Z
LAST-MODIFIED:20240311T161758Z
UID:35149-1711015200-1711017000@vgyke.com
SUMMARY:2. kerület márciusi online lámpás klub
DESCRIPTION:Miért ne ajándékozzunk élő állatot? Hamarosan itt a húsvét\, és sokunknak eszébe juthat\, hogy milyen remek ajándék lehet egy puha\, szőrös kis állat. De aztán elmúlik az ünnep\, jönnek a hétköznapok\, és azok a problémák\, melyeket nem gondoltunk végig\, az élő állat ajándékozása előtt. Ennek megelőzéséhez nyújthat segítséget márciusi online klub alkalmunk témája.
URL:https://vgyke.com/event/2-kerulet-marciusi-online-lampas-klub/
LOCATION:https://www.facebook.com/KozossegLampasaiMasodikKerulet
ORGANIZER;CN="T%C3%B6r%C3%B6k-Zselensky Eszter":MAILTO:2.kerulet.szervezo@vgyke.com
END:VEVENT
BEGIN:VEVENT
DTSTART;TZID=Europe/Budapest:20240321T160000
DTEND;TZID=Europe/Budapest:20240321T163000
DTSTAMP:20260423T065258
CREATED:20240311T161212Z
LAST-MODIFIED:20240311T161212Z
UID:35147-1711036800-1711038600@vgyke.com
SUMMARY:Hegyvidék márciusi online lámpás klub
DESCRIPTION:Miért ne ajándékozzunk éő állatot? Hamarosan itt a húsvét\, és sokunknak eszébe juthat\, hogy milyen remek ajándék lehet egy puha\, szőrös kis állat! De aztán elmúlik az ünnep\, jönnek a hétköznapok\, és azok a problémák\, melyeket nem gondoltunk végig\, az élő állat ajándékozása előtt. Ennek megelőzéséhez nyújthat segítséget márciusi online klub alkalmunk témája.
URL:https://vgyke.com/event/hegyvidek-marciusi-online-lampas-klub/
LOCATION:https://www.facebook.com/KozossegLampasaiHegyvidek
ORGANIZER;CN="T%C3%B6r%C3%B6k-Zselensky Eszter":MAILTO:2.kerulet.szervezo@vgyke.com
END:VEVENT
BEGIN:VEVENT
DTSTART;TZID=Europe/Budapest:20240323T134500
DTEND;TZID=Europe/Budapest:20240323T160000
DTSTAMP:20260423T065258
CREATED:20240313T161417Z
LAST-MODIFIED:20240313T161417Z
UID:35172-1711201500-1711209600@vgyke.com
SUMMARY:Látogatás a Szépművészeti Múzeumba
DESCRIPTION:A Ókori Egyiptom című kiállítás megtekintése és részvétel egy ehhez kötődő múzeumpedagógiai foglalkozáson.
URL:https://vgyke.com/event/latogatas-a-szepmuveszeti-muzeumba/
LOCATION:Szépművészeti Múzeum\, Dózsa György út 41.\, Budapest\, 1146
END:VEVENT
BEGIN:VEVENT
DTSTART;TZID=Europe/Budapest:20240325T150000
DTEND;TZID=Europe/Budapest:20240325T170000
DTSTAMP:20260423T065258
CREATED:20240320T093024Z
LAST-MODIFIED:20240320T093024Z
UID:35215-1711378800-1711386000@vgyke.com
SUMMARY:Tavaszköszöntő a klubnapon
DESCRIPTION:A XIII. kerületi Lámpás klub tagjai a tavaszi ünnepekről beszélgetnek
URL:https://vgyke.com/event/tavaszkoszonto-a-klubnapon/
LOCATION:1134. Budapest\, Tüzér u. 56-58.
ORGANIZER;CN="Majl%C3%A1th M%C3%B3nika":MAILTO:angyalfold.szervezo@vgyke.com
END:VEVENT
BEGIN:VEVENT
DTSTART;TZID=Europe/Budapest:20240328T100000
DTEND;TZID=Europe/Budapest:20240328T110000
DTSTAMP:20260423T065258
CREATED:20240321T153537Z
LAST-MODIFIED:20240321T153537Z
UID:35246-1711620000-1711623600@vgyke.com
SUMMARY:Látogatás a Magyar Természettudományi Múzeumba
DESCRIPTION:Sok szeretettel invitálok Mindenkit márciusi klubprogramunk keretében\, hogy látogasson el velünk a Magyar Természettudományi Múzeumba\, ahol tárlatvezetéssel megtekinthetjük a múzeum állandó kiállítását.A program időpontja: 2024. március 28. 10:00\nHelyszíne: Magyar Természettudományi Múzeum (1083 Budapest Ludovika tér 2-6.) \nA program ingyenes\, de regisztrációhoz kötött\, melynek határideje: 2024. március 26. 12:00 \nJelentkezni az alábbi elérhetőségeken keresztül lehet:\nE-mail: pesterzsebet.szervezo@vgyke.com\nMobil: 06301866328\n06704310445 \nTalálkozás: 2024. március 28.-án 09:15-kor a 3-as metró Nagyvárad tér megállójában a lépcső tetején\, onnan megyünk együtt gyalog a Múzeumig. \nA helyszínen a programot követően felvétel készül\, mely megtekinthető lesz a Közösség Lámpásai – soroksári Látássérültek Klubja Facebook oldalon\, melynek linkje:\nhttps://www.facebook.com/profile.php?id=100086490647357 \n 
URL:https://vgyke.com/event/latogatas-a-magyar-termeszettudomanyi-muzeumba/
LOCATION:Magyar Természettudományi Múzeum (1083 Budapest Ludovika tér 2-6.)
ORGANIZER;CN="Dudikn%C3%A9 R%C3%A1cz Andrea":MAILTO:pesterzsebet.szervezo@vgyke.com
END:VEVENT
END:VCALENDAR