BEGIN:VCALENDAR
VERSION:2.0
PRODID:-//Vakok és Gyengénlátók Közép-Magyarországi Regionális Egyesülete - ECPv6.15.20//NONSGML v1.0//EN
CALSCALE:GREGORIAN
METHOD:PUBLISH
X-WR-CALNAME:Vakok és Gyengénlátók Közép-Magyarországi Regionális Egyesülete
X-ORIGINAL-URL:https://vgyke.com
X-WR-CALDESC:Események Vakok és Gyengénlátók Közép-Magyarországi Regionális Egyesülete
REFRESH-INTERVAL;VALUE=DURATION:PT1H
X-Robots-Tag:noindex
X-PUBLISHED-TTL:PT1H
BEGIN:VTIMEZONE
TZID:Europe/Budapest
BEGIN:DAYLIGHT
TZOFFSETFROM:+0100
TZOFFSETTO:+0200
TZNAME:CEST
DTSTART:20230326T010000
END:DAYLIGHT
BEGIN:STANDARD
TZOFFSETFROM:+0200
TZOFFSETTO:+0100
TZNAME:CET
DTSTART:20231029T010000
END:STANDARD
BEGIN:DAYLIGHT
TZOFFSETFROM:+0100
TZOFFSETTO:+0200
TZNAME:CEST
DTSTART:20240331T010000
END:DAYLIGHT
BEGIN:STANDARD
TZOFFSETFROM:+0200
TZOFFSETTO:+0100
TZNAME:CET
DTSTART:20241027T010000
END:STANDARD
BEGIN:DAYLIGHT
TZOFFSETFROM:+0100
TZOFFSETTO:+0200
TZNAME:CEST
DTSTART:20250330T010000
END:DAYLIGHT
BEGIN:STANDARD
TZOFFSETFROM:+0200
TZOFFSETTO:+0100
TZNAME:CET
DTSTART:20251026T010000
END:STANDARD
END:VTIMEZONE
BEGIN:VEVENT
DTSTART;TZID=Europe/Budapest:20240308T100000
DTEND;TZID=Europe/Budapest:20240308T120000
DTSTAMP:20260423T053329
CREATED:20240304T082712Z
LAST-MODIFIED:20240304T082848Z
UID:35096-1709892000-1709899200@vgyke.com
SUMMARY:Nőnapi Klub és a kerámiakészítés alapjai Békásmegyeren
DESCRIPTION:Vendégünk\, Huszár Rita segítségével megtapasztalhatunk egy kézzel fogható művészeti forma\, az agyagozás\, a kerámiakészítés alapjait.
URL:https://vgyke.com/event/nonapi-klub-es-a-keramiakeszites-alapjai-bekasmegyeren/
LOCATION:Békásmegyeri Közösségi Ház (1039 Budapest Csobánka tér 5.) I. emeleti kisterem
ORGANIZER;CN="Ruzsa Viktor":MAILTO:kispest.szervezo@vgyke.com
END:VEVENT
BEGIN:VEVENT
DTSTART;TZID=Europe/Budapest:20240308T170000
DTEND;TZID=Europe/Budapest:20240308T190000
DTSTAMP:20260423T053329
CREATED:20240304T083213Z
LAST-MODIFIED:20240304T083213Z
UID:35098-1709917200-1709924400@vgyke.com
SUMMARY:Színházi kulisszák - a Nemzet Színésze Psota Irén
DESCRIPTION:Szebényi Ágnes színháztörténész muzeológus tart előadást a Békásmegyeri Közösségi Házban. Színházi kulisszák – a Nemzet Színésze sorozatában ezúttal Psota Irént ismerhetjük meg közelebbről.
URL:https://vgyke.com/event/szinhazi-kulisszak-a-nemzet-szinesze-psota-iren/
LOCATION:Békásmegyeri Közösségi Ház (1039 Budapest Csobánka tér 5.) I. emeleti kisterem
ORGANIZER;CN="Ruzsa Viktor":MAILTO:kispest.szervezo@vgyke.com
END:VEVENT
BEGIN:VEVENT
DTSTART;TZID=Europe/Budapest:20240311T150000
DTEND;TZID=Europe/Budapest:20240311T170000
DTSTAMP:20260423T053329
CREATED:20240306T182623Z
LAST-MODIFIED:20240306T182623Z
UID:35116-1710169200-1710176400@vgyke.com
SUMMARY:Húsvét játékos formában
DESCRIPTION:A résztvevők egy kvízjátéék formájában elevenítik fel a húsvéttal kapcsolatos ismereteiket.
URL:https://vgyke.com/event/husvet-jatekos-formaban/
LOCATION:Kőrösi Csoma Sándor Kőbányai Kulturális Központ (1105. Budapest\, Szent László tér 7-14)
ORGANIZER;CN="J%C3%A1nosi Veronika":MAILTO:erzsebetvaros.szervezo@vgyke.com
END:VEVENT
BEGIN:VEVENT
DTSTART;TZID=Europe/Budapest:20240313T140000
DTEND;TZID=Europe/Budapest:20240313T160000
DTSTAMP:20260423T053329
CREATED:20240229T092157Z
LAST-MODIFIED:20240229T103521Z
UID:35069-1710338400-1710345600@vgyke.com
SUMMARY:Klubnap
DESCRIPTION:Az audionarrációról a klubnapon Vendég: Gazdik Kati
URL:https://vgyke.com/event/klubnap-3/
LOCATION:1144 Budapest\, Csertő park 12.
ORGANIZER;CN="Kiss M%C3%A1rta":MAILTO:zuglo.szervezo@vgyke.com
END:VEVENT
BEGIN:VEVENT
DTSTART;TZID=Europe/Budapest:20240314T140000
DTEND;TZID=Europe/Budapest:20240314T160000
DTSTAMP:20260423T053329
CREATED:20240313T090526Z
LAST-MODIFIED:20240313T090526Z
UID:35158-1710424800-1710432000@vgyke.com
SUMMARY:Angol teadélután a pesterzsébeti Lámpás Klubon
DESCRIPTION:Kedves Tagok\, Kísérők és Érdeklődők! \nMárciusi Klubnapunkon egy kis „utazásra” hívlak Benneteket\, ahol Czagány Izabella vezet be minket az angol teakultúra hagyományainak rejtelmeibe\, illetve lehetőségünk nyílik megtapasztalni az angol teázás élményét. \nA Klubnap időpontja: 2024. március 14. 14:00 \nAz esemény ingyenes\, de regisztrációhoz kötött\, melynek határideje 2024. március 13. 12:00
URL:https://vgyke.com/event/angol-teadelutan-a-pesterzsebeti-lampas-klubon/
LOCATION:Csili Művelődési Központ (1201 Budapest Baross utca 55.)
ORGANIZER;CN="Dudikn%C3%A9 R%C3%A1cz Andrea":MAILTO:pesterzsebet.szervezo@vgyke.com
END:VEVENT
BEGIN:VEVENT
DTSTART;TZID=Europe/Budapest:20240318T150000
DTEND;TZID=Europe/Budapest:20240318T163000
DTSTAMP:20260423T053329
CREATED:20240313T162100Z
LAST-MODIFIED:20240313T162100Z
UID:35174-1710774000-1710779400@vgyke.com
SUMMARY:Bűvös aromák\, illó mágia
DESCRIPTION:Nehéz az érzékeket rangsorolni. A látás\, mondanák sokan a sorstársak közül\, az mindennél fontosabb – talán így is van. Sokan szavaznának a tapintásra is – hiszen annyi mindent tud jelenteni egy ölelés; ahogy egy kölyökkutya plüssös bundáján\, brokátselyem gazdag anyagán\, hűvös mohán futtatjuk ujjainkat\, vagy arccal fordulunk a friss tavaszi szél és a márciusi Nap felé… végtelenségig sorolhatnánk! No és a hallás – kedvenc dallamaink\, szeretteink nevetése\, nyári vihar morajlása a tücsökciripelés mögött\, a sosem alvó Budapest utcáinak kora reggeli majdnem-csöndje…\nTalán senki sem helyezné első helyre a szaglást\, pedig – ha nem is mindig tudatosan – egész közérzetünket meghatározza. Gyermekkorunk elfeledettnek hitt emlékei\, életünk eseményei\, helyek\, nyarak\, régi karácsonyok – pillanatok alatt hívja elő őket egy-egy ismerős aroma: a jókat is\, a rosszakat is. Még az ízlelésünk sem az igazi nélküle: hiába párállik a bögrénkből a legfinomabb bergamottos-citromos teagőz\, a náthától eldugult orral aligha érezzük az ital ízét. \nAz emberiség már az ókorban is illatokkal tette otthonosabbá környezetét: lakótereiket füstölőkkel és aromás virágokkal illatosították\, szertartásaikon tömjént\, szantált égettek; testüket\, hajukat balzsamos olajokkal kenték. Legsokoldalúbban az illóolajokat használták – és használjuk azóta is.\nAz illatok erőteljes fiziológiai és érzelmi reakciókat válthatnak ki: egyesek energetizálnak\, új erővel töltenek fel; míg mások megnyugtatnak és kiegyensúlyoznak. Az esszenciális olajok segítik a szervezetet a barátságtalan mikroorganizmusok elleni küzdelemben\, megtisztítják a szerveket\, mirigyeket és kiegyensúlyozzák a test funkcióit\, emelik energetikai rezgését. Használatuk évezredei alatt jelentős tudás gyűlt össze az egyes illóolajok tulajdonságait\, alkalmazását\, hatásait illetően. Saját „aroma-patikánk” kialakításához már az alapismeretek is elegendőek – ezek birtokában magunk is élvezhetjük az olajok kínálta sok-sok előnyt!\nKlubunkon ezúttal ebben a varázslatos világban kalandozunk majd: illatokat próbálgatunk\, hatásaikkal\, alkalmazásuk módjaival és a hozzájuk kapcsolódó izgalmas történetekkel ismerkedünk. Ha felkeltettük érdeklődésed\, csatlakozz hozzánk a szokott helyen és időben! \nAz esemény Facebook-linkje:\nhttps://fb.me/e/3XDUcf0QZ
URL:https://vgyke.com/event/buvos-aromak-illo-magia/
LOCATION:Napraforgó Család- és Gyermekjóléti Központ (1163 Budapest\, Cziráki utca 22.) I. emelet klubterem
ORGANIZER;CN="Czag%C3%A1ny Izabella":MAILTO:16.kerulet.szervezo@vgyke.com
END:VEVENT
BEGIN:VEVENT
DTSTART;TZID=Europe/Budapest:20240319T100000
DTEND;TZID=Europe/Budapest:20240319T120000
DTSTAMP:20260423T053329
CREATED:20240229T092840Z
LAST-MODIFIED:20240229T104024Z
UID:35071-1710842400-1710849600@vgyke.com
SUMMARY:Múzeum látogatás
DESCRIPTION:Az orvoslás történetének megismerése az Orvostörténeti Múzeumban
URL:https://vgyke.com/event/muzeum-latogatas-2/
LOCATION:Orvostörténeti Múzeum\, Apród u. 1-3.\, Budapest\, 1013
ORGANIZER;CN="Kiss M%C3%A1rta":MAILTO:zuglo.szervezo@vgyke.com
END:VEVENT
BEGIN:VEVENT
DTSTART;TZID=Europe/Budapest:20240320T140000
DTEND;TZID=Europe/Budapest:20240320T143000
DTSTAMP:20260423T053329
CREATED:20240304T083434Z
LAST-MODIFIED:20240304T083434Z
UID:35100-1710943200-1710945000@vgyke.com
SUMMARY:Itt a tavasz!
DESCRIPTION:Márciusi jeles napokról és a nagyböjti-\, húsvéti népszokásokról a Kispesti Lámpás Klub 2024. márciusi online alkalmán.
URL:https://vgyke.com/event/itt-a-tavasz/
LOCATION:Online: http://www.facebook.com/KozossegLampasaiKispest
ORGANIZER;CN="Ruzsa Viktor":MAILTO:kispest.szervezo@vgyke.com
END:VEVENT
BEGIN:VEVENT
DTSTART;TZID=Europe/Budapest:20240321T100000
DTEND;TZID=Europe/Budapest:20240321T103000
DTSTAMP:20260423T053329
CREATED:20240311T161758Z
LAST-MODIFIED:20240311T161758Z
UID:35149-1711015200-1711017000@vgyke.com
SUMMARY:2. kerület márciusi online lámpás klub
DESCRIPTION:Miért ne ajándékozzunk élő állatot? Hamarosan itt a húsvét\, és sokunknak eszébe juthat\, hogy milyen remek ajándék lehet egy puha\, szőrös kis állat. De aztán elmúlik az ünnep\, jönnek a hétköznapok\, és azok a problémák\, melyeket nem gondoltunk végig\, az élő állat ajándékozása előtt. Ennek megelőzéséhez nyújthat segítséget márciusi online klub alkalmunk témája.
URL:https://vgyke.com/event/2-kerulet-marciusi-online-lampas-klub/
LOCATION:https://www.facebook.com/KozossegLampasaiMasodikKerulet
ORGANIZER;CN="T%C3%B6r%C3%B6k-Zselensky Eszter":MAILTO:2.kerulet.szervezo@vgyke.com
END:VEVENT
BEGIN:VEVENT
DTSTART;TZID=Europe/Budapest:20240321T160000
DTEND;TZID=Europe/Budapest:20240321T163000
DTSTAMP:20260423T053329
CREATED:20240311T161212Z
LAST-MODIFIED:20240311T161212Z
UID:35147-1711036800-1711038600@vgyke.com
SUMMARY:Hegyvidék márciusi online lámpás klub
DESCRIPTION:Miért ne ajándékozzunk éő állatot? Hamarosan itt a húsvét\, és sokunknak eszébe juthat\, hogy milyen remek ajándék lehet egy puha\, szőrös kis állat! De aztán elmúlik az ünnep\, jönnek a hétköznapok\, és azok a problémák\, melyeket nem gondoltunk végig\, az élő állat ajándékozása előtt. Ennek megelőzéséhez nyújthat segítséget márciusi online klub alkalmunk témája.
URL:https://vgyke.com/event/hegyvidek-marciusi-online-lampas-klub/
LOCATION:https://www.facebook.com/KozossegLampasaiHegyvidek
ORGANIZER;CN="T%C3%B6r%C3%B6k-Zselensky Eszter":MAILTO:2.kerulet.szervezo@vgyke.com
END:VEVENT
BEGIN:VEVENT
DTSTART;TZID=Europe/Budapest:20240323T134500
DTEND;TZID=Europe/Budapest:20240323T160000
DTSTAMP:20260423T053329
CREATED:20240313T161417Z
LAST-MODIFIED:20240313T161417Z
UID:35172-1711201500-1711209600@vgyke.com
SUMMARY:Látogatás a Szépművészeti Múzeumba
DESCRIPTION:A Ókori Egyiptom című kiállítás megtekintése és részvétel egy ehhez kötődő múzeumpedagógiai foglalkozáson.
URL:https://vgyke.com/event/latogatas-a-szepmuveszeti-muzeumba/
LOCATION:Szépművészeti Múzeum\, Dózsa György út 41.\, Budapest\, 1146
END:VEVENT
BEGIN:VEVENT
DTSTART;TZID=Europe/Budapest:20240325T150000
DTEND;TZID=Europe/Budapest:20240325T170000
DTSTAMP:20260423T053329
CREATED:20240320T093024Z
LAST-MODIFIED:20240320T093024Z
UID:35215-1711378800-1711386000@vgyke.com
SUMMARY:Tavaszköszöntő a klubnapon
DESCRIPTION:A XIII. kerületi Lámpás klub tagjai a tavaszi ünnepekről beszélgetnek
URL:https://vgyke.com/event/tavaszkoszonto-a-klubnapon/
LOCATION:1134. Budapest\, Tüzér u. 56-58.
ORGANIZER;CN="Majl%C3%A1th M%C3%B3nika":MAILTO:angyalfold.szervezo@vgyke.com
END:VEVENT
BEGIN:VEVENT
DTSTART;TZID=Europe/Budapest:20240328T100000
DTEND;TZID=Europe/Budapest:20240328T110000
DTSTAMP:20260423T053329
CREATED:20240321T153537Z
LAST-MODIFIED:20240321T153537Z
UID:35246-1711620000-1711623600@vgyke.com
SUMMARY:Látogatás a Magyar Természettudományi Múzeumba
DESCRIPTION:Sok szeretettel invitálok Mindenkit márciusi klubprogramunk keretében\, hogy látogasson el velünk a Magyar Természettudományi Múzeumba\, ahol tárlatvezetéssel megtekinthetjük a múzeum állandó kiállítását.A program időpontja: 2024. március 28. 10:00\nHelyszíne: Magyar Természettudományi Múzeum (1083 Budapest Ludovika tér 2-6.) \nA program ingyenes\, de regisztrációhoz kötött\, melynek határideje: 2024. március 26. 12:00 \nJelentkezni az alábbi elérhetőségeken keresztül lehet:\nE-mail: pesterzsebet.szervezo@vgyke.com\nMobil: 06301866328\n06704310445 \nTalálkozás: 2024. március 28.-án 09:15-kor a 3-as metró Nagyvárad tér megállójában a lépcső tetején\, onnan megyünk együtt gyalog a Múzeumig. \nA helyszínen a programot követően felvétel készül\, mely megtekinthető lesz a Közösség Lámpásai – soroksári Látássérültek Klubja Facebook oldalon\, melynek linkje:\nhttps://www.facebook.com/profile.php?id=100086490647357 \n 
URL:https://vgyke.com/event/latogatas-a-magyar-termeszettudomanyi-muzeumba/
LOCATION:Magyar Természettudományi Múzeum (1083 Budapest Ludovika tér 2-6.)
ORGANIZER;CN="Dudikn%C3%A9 R%C3%A1cz Andrea":MAILTO:pesterzsebet.szervezo@vgyke.com
END:VEVENT
BEGIN:VEVENT
DTSTART;TZID=Europe/Budapest:20240328T140000
DTEND;TZID=Europe/Budapest:20240328T160000
DTSTAMP:20260423T053329
CREATED:20240321T153033Z
LAST-MODIFIED:20240321T153033Z
UID:35243-1711634400-1711641600@vgyke.com
SUMMARY:Interaktív tárlatvezetés a Pénzmúzeumban
DESCRIPTION:Ha szeretnél részt venni egy speciális látássérültekek szóló tárlatvezetésen\, akkor tarts velünk a Pénzmúzeumba!
URL:https://vgyke.com/event/interaktiv-tarlatvezetes-a-penzmuzeumban/
LOCATION:Krisztina KRT 6
END:VEVENT
BEGIN:VEVENT
DTSTART;TZID=Europe/Budapest:20240328T170000
DTEND;TZID=Europe/Budapest:20240328T173000
DTSTAMP:20260423T053329
CREATED:20240319T185800Z
LAST-MODIFIED:20240320T091834Z
UID:35206-1711645200-1711647000@vgyke.com
SUMMARY:Az 1. online klub Józsefvárosban
DESCRIPTION:Kerületi és egyesületi aktualitások\, érdekességek\, hasznos gyakorlati tippek tagjainknak\, érdeklődőinknek.
URL:https://vgyke.com/event/az-1-online-klub-jozsefvarosban/
LOCATION:https://www.facebook.com/kozosseglampasaijozsefvaros
ORGANIZER;CN="Horv%C3%A1thn%C3%A9 Dunaveczki Leona":MAILTO:jozsefvaros.szervezo@vgyke.com
END:VEVENT
BEGIN:VEVENT
DTSTART;TZID=Europe/Budapest:20240329T140000
DTEND;TZID=Europe/Budapest:20240329T160000
DTSTAMP:20260423T053329
CREATED:20240320T092616Z
LAST-MODIFIED:20240320T092616Z
UID:35212-1711720800-1711728000@vgyke.com
SUMMARY:Időutazás Mátyásföldön
DESCRIPTION:Sétáltál már Mátyásföldön? És vettél már részt időutazáson? Még ha az első kérdésre igennel is felelsz\, a másodikra már aligha. Azonban – ha velünk tartasz – ezen a nagypénteken mindkettőt megteheted! De miről is van pontosan szó?\nA 90-es években a XVI. kerületben még alig volt kulturális élet\, ezért kezdett Benedek Ágnes – a Kertvárosi Időutazók vezetője – kávéházi estéket szervezni a sashalmi könyvtárban. 2001. május 9-én volt az első fiataloknak szóló városnézés\, amit Benedek Ágnes szervezett\, azóta pedig töretlen a Kertvárosi Idő-utazó népszerűsége.\nDe mégis hogyan lesz időutazás egy városnéző séta?\n“Aki velem sétál\, időutazik maga is” – mondja Ágnes. A séták során a résztvevők mintegy átszelik az időt izgalmas\, régi történetei által; olyan tárgyakat láthatnak\, amelyek visszarepítenek a múltba.\nAz utóbbi években számos Mátyásföldet bemutató cikk jelent meg. Miért is olyan érdekes a Mátyásföldi villanegyed?\nA Mátyásföldi villanegyed méltán különleges gyöngyszeme az országnak\, mert az épületeknek több\, mint a fele eredeti. Bár az ingatlanok gazdát cserélnek\, az új tulajdonosok pedig alakítanak rajtuk\, a Településképi Arculati Kézikönyv nagyban meghatározza a javasolt beépítési módokat – így ma is a régi\, szinte eredeti pompájukban csodálhatjuk meg ezeket a gyönyörű villákat. \n2024. március 29-én\, Nagypénteken mi is felkerekedünk a Kertvárosi Időutazóval és átsétálunk ezen a különleges városrészen. Lesz részünk magnóliavirágzásban\, megtekintjük Russell Crowe luxusvilláját és az Erzsébet-ligetet is. \nA részvétel kedvezményesen 1900 Ft/fő számunkra. Ha szeretnél csatlakozni hozzánk\, 2024. 03. 27. 16:00-ig jelentkezz a lenti elérhetőségek valamelyikén! („Ott leszek” jelölése a Facebook-eseménynél önmagában nem minősül jelentkezésnek; ha számodra az a platform lenne a legkényelmesebb\, jelöld bátran – ám néhány szót írj mellé nekünk privát üzenetben is!) Kísérőt sajnos csak igen korlátozott mértékben tudunk biztosítani\, ezirányú igényeid mindenképp jelezd\, vagy gondoskodj saját segítőről. Megértésedet köszönjük! \nMegközelíthetőség: H8-H9-es HÉV Imre utca megálló\nTalálkozó: 1. Örs vezér tere M2 kijárat (kürtöskalácsosnál) 13:30 (ahonnan közösen sétálunk át a HÉV-állomáshoz\, a 13:48-ast tervezzük elérni); 2. Gödöllői HÉV Imre utca megálló 14:00 (Örs vezér tere felől érkező oldal) \nA program esetleges további részletei Facebook-eseményünkben olvashatóak\, mely Facebook-fiók megléte nélkül is megtekinthető:\nhttps://fb.me/e/4f7ByfHme \nVárunk szeretettel!
URL:https://vgyke.com/event/idoutazas-matyasfoldon/
LOCATION:Mátyásföld – Imre utca 1.
ORGANIZER;CN="Czag%C3%A1ny Izabella":MAILTO:16.kerulet.szervezo@vgyke.com
END:VEVENT
BEGIN:VEVENT
DTSTART;TZID=Europe/Budapest:20240405T140000
DTEND;TZID=Europe/Budapest:20240405T160000
DTSTAMP:20260423T053329
CREATED:20240323T093839Z
LAST-MODIFIED:20240323T093839Z
UID:35252-1712325600-1712332800@vgyke.com
SUMMARY:Klubnap
DESCRIPTION:Az internetes csalások megelőzése-Váradi József rendőr őrnagy előadása
URL:https://vgyke.com/event/klubnap-19/
LOCATION:Budapest Haller u. 27   1093
END:VEVENT
BEGIN:VEVENT
DTSTART;TZID=Europe/Budapest:20240408T140000
DTEND;TZID=Europe/Budapest:20240408T160000
DTSTAMP:20260423T053329
CREATED:20240404T072249Z
LAST-MODIFIED:20240404T072326Z
UID:35314-1712584800-1712592000@vgyke.com
SUMMARY:Varázslatos illatok a rákosmenti klubon
DESCRIPTION:Ha szeretnél megismerkedni az illatok varázslatos világával\, akkor tarts velünk és vendégeinkkel klubnapunkon.
URL:https://vgyke.com/event/varazslatos-illatok-a-rakosmenti-klubon/
LOCATION:Rákoshegyi Közösségi Ház Kép U. 7-11
END:VEVENT
BEGIN:VEVENT
DTSTART;TZID=Europe/Budapest:20240408T150000
DTEND;TZID=Europe/Budapest:20240408T170000
DTSTAMP:20260423T053329
CREATED:20240404T161733Z
LAST-MODIFIED:20240404T161733Z
UID:35337-1712588400-1712595600@vgyke.com
SUMMARY:Az audionarrációról és a szinkronizálásról Kőbányán
DESCRIPTION:A jelenlévők megismerkednek az audionarrátor munkájával és a szinkronizálás elméletével.
URL:https://vgyke.com/event/az-audionarraciorol-es-a-szinkronizalasrol-kobanyan/
LOCATION:Kőrösi Csoma Sándor Kőbányai Kulturális Központ (1105. Budapest\, Szent László tér 7-14)
ORGANIZER;CN="J%C3%A1nosi Veronika":MAILTO:erzsebetvaros.szervezo@vgyke.com
END:VEVENT
BEGIN:VEVENT
DTSTART;TZID=Europe/Budapest:20240410T100000
DTEND;TZID=Europe/Budapest:20240410T120000
DTSTAMP:20260423T053329
CREATED:20240404T072852Z
LAST-MODIFIED:20240404T072852Z
UID:35317-1712743200-1712750400@vgyke.com
SUMMARY:A Gózon villa titkai
DESCRIPTION:Ha szeretnél közelebbről megismerkedni az XX. század egyik legendás színészével\, akkor látogass el velünk a rákosligeti Gózon villába!
URL:https://vgyke.com/event/a-gozon-villa-titkai/
LOCATION:Rákosliget Gózon Gyula utca
END:VEVENT
BEGIN:VEVENT
DTSTART;TZID=Europe/Budapest:20240411T130000
DTEND;TZID=Europe/Budapest:20240411T143000
DTSTAMP:20260423T053329
CREATED:20240326T082242Z
LAST-MODIFIED:20240326T082242Z
UID:35274-1712840400-1712845800@vgyke.com
SUMMARY:Látogatás a Karinthy Szalonba
DESCRIPTION:Sok szeretettel hívok mindenkit 2024.04.11-én az újbudai külsős programunkra\, mely a Karinthy Szalon meglátogatása lesz. Közösen megtekintjük a Titkos világom – Kiállítást Szikszay Béla rajzaiból. A tárlatvezetést a művész úr fogja tartani. \nTalálkozó:\nMóricz Zsigmond körtéri 6-os villamos végállomásában.\n12ó 30 és 12ó 45 között innen közösen megyünk a Karinthy Szalonba \nA rendezvény ingyenes\, de regisztrációhoz kötött\,\nA létszám limithez kötött (10 fő) ezért a jelentkezéseket érkezési sorrendben fogadjuk el.\njelentkezési határidő: április 9. (kedd) 12 ó ig. \nJelentkezni az alábbi elérhetőségeken lehet:\nemail: ujbuda.szervezo@vgyke.com\ntelefon: 0630 792 0909
URL:https://vgyke.com/event/latogatas-a-karinthy-szalonba/
LOCATION:Karinthy Szalon 1111 Budapest\, Karinthy Frigyes út 22.
ORGANIZER;CN="Lenkain%C3%A9 Vajda Vikt%C3%B3ria":MAILTO:ujbuda.szervezo@vgyke.com
END:VEVENT
BEGIN:VEVENT
DTSTART;TZID=Europe/Budapest:20240411T140000
DTEND;TZID=Europe/Budapest:20240411T160000
DTSTAMP:20260423T053329
CREATED:20240404T071854Z
LAST-MODIFIED:20240404T071854Z
UID:35312-1712844000-1712851200@vgyke.com
SUMMARY:"Utazás" az amazóniai őserdő mélyén
DESCRIPTION:Áprilisi pesterzsébeti lámpás klubnapunkon vendégünk lesz Finta Lajos római katolikus pap\, aki missziót teljesített közel 20 éven keresztül dél-Amerikában az amazóniai őserdő indián közösségeiben.\nFinta atya kivetítő segítségével\, fotókkal illusztrálva számol be nekünk élményeiről\, az ottani zord életkörülményekről\, melyeket a turisták sem láthatnak. \nA Klubnap időpontja: 2024. április 11. 14:00 \nAz esemény ingyenes\, de regisztrációhoz kötött\, melynek határideje 2024. április 10. 12:00 \nJelentkezni az alábbi elérhetőségeken keresztül lehet:\nE-mail: pesterzsebet.szervezo@vgyke.com\nMobil: 06301866328\n06704310445 \nVárok Mindenkit szeretettel!
URL:https://vgyke.com/event/utazas-az-amazoniai-oserdo-melyen/
LOCATION:Csili Művelődési Központ (1201 Budapest Baross utca 55.)
ORGANIZER;CN="Dudikn%C3%A9 R%C3%A1cz Andrea":MAILTO:pesterzsebet.szervezo@vgyke.com
END:VEVENT
BEGIN:VEVENT
DTSTART;TZID=Europe/Budapest:20240412T090000
DTEND;TZID=Europe/Budapest:20240412T110000
DTSTAMP:20260423T053329
CREATED:20240411T100055Z
LAST-MODIFIED:20240411T112632Z
UID:35431-1712912400-1712919600@vgyke.com
SUMMARY:Budapest Állásbörze
DESCRIPTION:Találd meg a helyed a Budapest-családban a második Budapest Állásbörzén!\nA Fővárosi Önkormányzat másodjára szervezi meg a Budapest Állásbörzét\, ahol az érdeklődők megismerhetik a fővárosi cégek és intézmények tevékenységét\, és találkozhatnak is a személyzeti feladatokat\, toborzást ellátó kollégákkal. Az eseményen több száz álláslehetőséget kínáló céges és intézményi standot lehet felkeresni\, illetve más programok mellett (szakmai- és önéletrajz) tanácsadás\, előadások várják a látogatókat.\nA civil standnál többek között hallás-\, látás- és mozgássérült emberekkel foglalkozó civil szervezetekhez lehet fordulni álláskereséssel kapcsolatos kérdésekkel.\nEgyesületünk munkatársait is megtalálhatják a helyszínen\, április 12-én 9:00 és 11:00 óra között\, a 29-es standon várjuk a látássérült érdeklődőket\, és kísérőjüket!\nAjánljuk figyelmükbe a weboldalunkon található “hangostérképet”\, amely segít az eligazodásban. \nAz állásbörze időpontja: 2024. április 12-13.\, helyszíne: Biodóm\, aula. A belépés ingyenes\, de helyszíni regisztrációhoz kötött. További részletek az állásbörze Facebook eseményében. \nVGYKE
URL:https://vgyke.com/event/budapest-allasborze/
LOCATION:Biodóm – Budapest\, Állatkerti körút 16\,\, Budapest\, 1146\, Magyarország
END:VEVENT
BEGIN:VEVENT
DTSTART;TZID=Europe/Budapest:20240412T100000
DTEND;TZID=Europe/Budapest:20240412T120000
DTSTAMP:20260423T053329
CREATED:20240411T101821Z
LAST-MODIFIED:20240411T103926Z
UID:35435-1712916000-1712923200@vgyke.com
SUMMARY:Esemény-kitelepülés
DESCRIPTION:Láthatár Segédeszköz Bolt \n\nWebáruház:  https://lathatarbolt.hu/\n\nTelefon: +36 1 384 55 41\, 4-es menüpont \nMobil: +36  70 383 3611\n+36 30 513 1830
URL:https://vgyke.com/event/esemeny-kitelepules/
LOCATION:7100 Szekszárd\, Hunyadi utca 4. irodaház nagyterme.\, Hunyadi utca 4.\, Szekszárd\,\, 7100\, Magyarország
END:VEVENT
BEGIN:VEVENT
DTSTART;TZID=Europe/Budapest:20240417T100000
DTEND;TZID=Europe/Budapest:20240417T130000
DTSTAMP:20260423T053329
CREATED:20240415T062223Z
LAST-MODIFIED:20240415T062223Z
UID:35457-1713348000-1713358800@vgyke.com
SUMMARY:Látogatás a Kőbányai Helytörténeti Gyűjtenybe.
DESCRIPTION:A jelenlévők tárlatvezetéssel egybekötött tárlatvezetésen vesznek részt a Kőbányai Helytörténeti Tárban.
URL:https://vgyke.com/event/latogatas-a-kobanyai-helytorteneti-gyujtenybe/
LOCATION:1102 Budapest\, Füzér utca 32.
ORGANIZER;CN="J%C3%A1nosi Veronika":MAILTO:erzsebetvaros.szervezo@vgyke.com
END:VEVENT
BEGIN:VEVENT
DTSTART;TZID=Europe/Budapest:20240417T140000
DTEND;TZID=Europe/Budapest:20240417T143000
DTSTAMP:20260423T053329
CREATED:20240403T072554Z
LAST-MODIFIED:20240403T073438Z
UID:35301-1713362400-1713364200@vgyke.com
SUMMARY:Áprilisi (nem tréfa) meglepetés - áprilisi online klub a Kispesti Lámpások Facebook-oldalán
DESCRIPTION:Meglepetés vendégünkkel beszélgetünk A Költészet napja kapcsán versekről\, zenéről\, megzenésített versekről\, és arról\, hogy ő hogyan került kapcsolatba a zenével és a költészettel. Online klubunk végén ezúttal sem marad el a hangoskönyv-ajánló.
URL:https://vgyke.com/event/aprilisi-nem-trefa-meglepetes-aprilisi-online-klub-a-kispesti-lampasok-facebook-oldalan/
LOCATION:Online: http://www.facebook.com/KozossegLampasaiKispest
ORGANIZER;CN="Ruzsa Viktor":MAILTO:kispest.szervezo@vgyke.com
END:VEVENT
BEGIN:VEVENT
DTSTART;TZID=Europe/Budapest:20240418T140000
DTEND;TZID=Europe/Budapest:20240418T160000
DTSTAMP:20260423T053329
CREATED:20240415T062854Z
LAST-MODIFIED:20240415T063018Z
UID:35460-1713448800-1713456000@vgyke.com
SUMMARY:Az aromák bűvöletében
DESCRIPTION:A résztvevők előadást hallanak a különféle illóolajok jótékony hatásairól.
URL:https://vgyke.com/event/az-aromak-buvoleteben/
LOCATION:1077. Budapest\, Nagydiófa utca 34. (KlauDió Civil Központ)
ORGANIZER;CN="J%C3%A1nosi Veronika":MAILTO:erzsebetvaros.szervezo@vgyke.com
END:VEVENT
BEGIN:VEVENT
DTSTART;TZID=Europe/Budapest:20240419T100000
DTEND;TZID=Europe/Budapest:20240419T120000
DTSTAMP:20260423T053329
CREATED:20240403T073151Z
LAST-MODIFIED:20240403T073243Z
UID:35303-1713520800-1713528000@vgyke.com
SUMMARY:A Költészet napja - verses\, zenés irodalmi műsor Békásmegyeren
DESCRIPTION:Vendégeink Bartolf Zsuzsanna népdalénekesnő és Horváth Attila harmonikaművész\, akik az immár hagyományos Költészet-napi klubon verses\, zenés műsorral várják tagjainkat\, vendégeinket.
URL:https://vgyke.com/event/a-kolteszet-napja-verses-zenes-irodalmi-musor-bekasmegyeren/
LOCATION:Békásmegyeri Közösségi Ház (1039 Budapest Csobánka tér 5.) I. emeleti kisterem
ORGANIZER;CN="Ruzsa Viktor":MAILTO:kispest.szervezo@vgyke.com
END:VEVENT
BEGIN:VEVENT
DTSTART;TZID=Europe/Budapest:20240420T134500
DTEND;TZID=Europe/Budapest:20240420T160000
DTSTAMP:20260423T053329
CREATED:20240404T071358Z
LAST-MODIFIED:20240404T071358Z
UID:35310-1713620700-1713628800@vgyke.com
SUMMARY:Illatok az ókori Egyiptomből - látogatás a Szépművészeti Múzeumba
DESCRIPTION:A Ókori Egyiptom című kiállítás megtekintése és részvétel egy ehhez kötődő múzeumpedagógiai foglalkozáson.\nA programon való részvétel ingyenes\, azonban a férőhelyek száma korlátozott\, ezért előzetes jelentkezés szükséges legkésőbb április 15. hétfő 12:00 óráig. Jelentkezéskor kérlek add meg telefonszámodat és kísérőd nevét is.
URL:https://vgyke.com/event/illatok-az-okori-egyiptombol-latogatas-a-szepmuveszeti-muzeumba/
LOCATION:Szépművészeti Múzeum\, Dózsa György út 41.\, Budapest\, 1146
ORGANIZER;CN="P%C3%A1zm%C3%A1n Krisztina":MAILTO:18.kerulet.szervezo@vgyke.com
END:VEVENT
BEGIN:VEVENT
DTSTART;TZID=Europe/Budapest:20240421T160000
DTEND;TZID=Europe/Budapest:20240421T190000
DTSTAMP:20260423T053329
CREATED:20240415T181655Z
LAST-MODIFIED:20240415T182138Z
UID:35462-1713715200-1713726000@vgyke.com
SUMMARY:Hangszínház-Marmostein Berta különleges élete
DESCRIPTION:Egy XX-ik századi nő élete a viharos évszázadban\, nevetéssel\, drámával fűszerezve.
URL:https://vgyke.com/event/hangszinhaz-marmostein-berta-kulonleges-elete/
LOCATION:1011  Budapest Iskola u. 28. szám alatt  Jókai Anna Szalon
END:VEVENT
END:VCALENDAR