BEGIN:VCALENDAR
VERSION:2.0
PRODID:-//Vakok és Gyengénlátók Közép-Magyarországi Regionális Egyesülete - ECPv6.15.20//NONSGML v1.0//EN
CALSCALE:GREGORIAN
METHOD:PUBLISH
X-WR-CALNAME:Vakok és Gyengénlátók Közép-Magyarországi Regionális Egyesülete
X-ORIGINAL-URL:https://vgyke.com
X-WR-CALDESC:Események Vakok és Gyengénlátók Közép-Magyarországi Regionális Egyesülete
REFRESH-INTERVAL;VALUE=DURATION:PT1H
X-Robots-Tag:noindex
X-PUBLISHED-TTL:PT1H
BEGIN:VTIMEZONE
TZID:Europe/Budapest
BEGIN:DAYLIGHT
TZOFFSETFROM:+0100
TZOFFSETTO:+0200
TZNAME:CEST
DTSTART:20230326T010000
END:DAYLIGHT
BEGIN:STANDARD
TZOFFSETFROM:+0200
TZOFFSETTO:+0100
TZNAME:CET
DTSTART:20231029T010000
END:STANDARD
BEGIN:DAYLIGHT
TZOFFSETFROM:+0100
TZOFFSETTO:+0200
TZNAME:CEST
DTSTART:20240331T010000
END:DAYLIGHT
BEGIN:STANDARD
TZOFFSETFROM:+0200
TZOFFSETTO:+0100
TZNAME:CET
DTSTART:20241027T010000
END:STANDARD
BEGIN:DAYLIGHT
TZOFFSETFROM:+0100
TZOFFSETTO:+0200
TZNAME:CEST
DTSTART:20250330T010000
END:DAYLIGHT
BEGIN:STANDARD
TZOFFSETFROM:+0200
TZOFFSETTO:+0100
TZNAME:CET
DTSTART:20251026T010000
END:STANDARD
END:VTIMEZONE
BEGIN:VEVENT
DTSTART;TZID=Europe/Budapest:20241009T140000
DTEND;TZID=Europe/Budapest:20241009T160000
DTSTAMP:20260422T030303
CREATED:20240923T073632Z
LAST-MODIFIED:20240923T074414Z
UID:36632-1728482400-1728489600@vgyke.com
SUMMARY:Fehér bot napi ünnepség
DESCRIPTION:A „Közösség Lámpásai” Zuglói Látássérültek Klubja meghívja Önt a 2024. október 9-én megrendezésre kerülő Fehér bot napi ünnepségére. A világon mindenhol október 15-e a látássérültek napja\, melyet egyesületünk is minden évben hagyományosan megünnepel. \nMegnyitó: Fodor Ágnes a VGYKE elnöke\nKöszöntő: Rózsa András Zugló Polgármestere \nFellépő vendégeink: \n• A Zuglói Arany János Általános Iskola és Alapfokú Művészeti Iskola Néptánc csoportja\,\n• A Vakok Iskolájának tanulói vers és ének\, kísérő tanár: Balázs Levente\,\n• Berta Edina a Tollforgató fuvolista
URL:https://vgyke.com/event/feher-bot-napi-unnepseg-3/
LOCATION:Zuglói Civil Ház\, Csertő Park 12.\, Budapest\, 1142
ORGANIZER;CN="Kiss M%C3%A1rta":MAILTO:zuglo.szervezo@vgyke.com
END:VEVENT
BEGIN:VEVENT
DTSTART;TZID=Europe/Budapest:20241010T140000
DTEND;TZID=Europe/Budapest:20241010T160000
DTSTAMP:20260422T030303
CREATED:20241002T113932Z
LAST-MODIFIED:20241002T113932Z
UID:36823-1728568800-1728576000@vgyke.com
SUMMARY:Fehérbot napi Ünnepség Pesterzsébeten
DESCRIPTION:Immár második alkalommal kerül megrendezésre a pesterzsébeti Lámpás Klub által szervezett Fehérbot napi Ünnepség Pesterzsébeten.\nEbben az évben is rendkívüli kis fellépők emelik az ünnepség fényét\, akik a Vakok Iskolájából látogatnak el hozzánk és adják elő produkciójukat.\nA program zárásaként egy kis megvendégeléssel készülünk a jelenlévőknek. \nA Rendezvény időpontja: 2024. október 10. 14:00\nHelyszíne: Csili Művelődési Központ “B” épület Vízvári terem\n1201 Budapest Baross utca 55. \nA programon való részvétel ingyenes\, de regisztráció köteles.\nRegisztrálni az alábbi elérhetőségek egyikén lehet:\nMobil: 06704310445\nE-mail: pesterzsebet.szervezo@vgyke.com \nVárunk Mindenkit szeretettel! \n 
URL:https://vgyke.com/event/feherbot-napi-unnepseg-pesterzsebeten/
LOCATION:Csili Művelődési Központ (1201 Budapest Baross utca 55.) Vízvári terem
ORGANIZER;CN="Dudikn%C3%A9 R%C3%A1cz Andrea":MAILTO:pesterzsebet.szervezo@vgyke.com
END:VEVENT
BEGIN:VEVENT
DTSTART;TZID=Europe/Budapest:20241014T140000
DTEND;TZID=Europe/Budapest:20241014T160000
DTSTAMP:20260422T030303
CREATED:20240912T141005Z
LAST-MODIFIED:20240912T152942Z
UID:36619-1728914400-1728921600@vgyke.com
SUMMARY:X. kerület (születésnapi klubnap)
DESCRIPTION:X. kerület (születésnapi klubnap)
URL:https://vgyke.com/event/x-kerulet-szuletesnapi-klubnap/
LOCATION:X. kerület Kőrösi Csoma Sándor Kőbányai Kulturális Központ (1105 Budapest\, Szent  László Tér 7-14.)
ORGANIZER;CN="J%C3%A1nosi Veronika":MAILTO:erzsebetvaros.szervezo@vgyke.com
END:VEVENT
BEGIN:VEVENT
DTSTART;TZID=Europe/Budapest:20241014T150000
DTEND;TZID=Europe/Budapest:20241014T170000
DTSTAMP:20260422T030303
CREATED:20240926T074832Z
LAST-MODIFIED:20240926T074832Z
UID:36793-1728918000-1728925200@vgyke.com
SUMMARY:Születésnapi klubnap Kőbányán
DESCRIPTION:A jelenlévők meglepetésekkel fűszerezve emlékeznek a klub elmúlt 7 évére.
URL:https://vgyke.com/event/szuletesnapi-klubnap-kobanyan/
LOCATION:Kőrösi Csoma Sándor Kőbányai Kulturális Központ (1105. Budapest\, Szent László tér 7-14)
ORGANIZER;CN="J%C3%A1nosi Veronika":MAILTO:erzsebetvaros.szervezo@vgyke.com
END:VEVENT
BEGIN:VEVENT
DTSTART;TZID=Europe/Budapest:20241015T100000
DTEND;TZID=Europe/Budapest:20241015T110000
DTSTAMP:20260422T030303
CREATED:20241013T090604Z
LAST-MODIFIED:20241013T090604Z
UID:36931-1728986400-1728990000@vgyke.com
SUMMARY:Budavár Lámpás Klub – október Beszélgetés Lenkainé Vajda Viktóriával a Nemzetközi Fehér bot napról
DESCRIPTION:Kedves klubtagok\, Tisztelt Érdeklődők!\nAz októberi online klubon Lenkainé Vajda Viktóriával beszélgetünk a Fehér Bot\nünnepéről. Viki látássérültként maga is szervezett ünnepséget\, nagyon jelentős\nünnepnek tartja e napot. Mesél a fehér bot eredetéről\, bevezetéséről és az ünnepnap\njelentőségéről napjainkban.\nFogadjátok szeretettel !\nA klub 2024. 10.15. 10 órától lesz megtekinthető a:\nhttps://www.facebook.com/61556165250075/videos/860518786139947\nfacebook oldalon.\nVárom észrevételeket és kéréseket a kerületi programokkal kapcsolatban.\nPataky Andrea\nKözösségi civilszervező\nElérhetőségek:\nMobil: +36 304989094\nE-mail:budavar.szervezo@vgyke.com
URL:https://vgyke.com/event/budavar-lampas-klub-oktober-beszelgetes-lenkaine-vajda-viktoriaval-a-nemzetkozi-feher-bot-naprol/
LOCATION:https://www.facebook.com/61556165250075/videos/860518786139947
ORGANIZER;CN="Pataky Andrea":MAILTO:ujbuda.szervezo@vgyke.com
END:VEVENT
BEGIN:VEVENT
DTSTART;TZID=Europe/Budapest:20241015T130000
DTEND;TZID=Europe/Budapest:20241015T150000
DTSTAMP:20260422T030303
CREATED:20241010T103346Z
LAST-MODIFIED:20241010T103346Z
UID:36920-1728997200-1729004400@vgyke.com
SUMMARY:Bronzkori emlékek a Kárpát-Medencében
DESCRIPTION:Straub Péter látássérült muzeológus előadássorozata folytatódik\, melynek címe: Egy vészterhes korszak a Kárpát-medence korai időszakából: a bronzkor.
URL:https://vgyke.com/event/bronzkori-emlekek-a-karpat-medenceben/
LOCATION:MVGYOSZ székház Budapest XIV. kerület Hermina út 47.
ORGANIZER;CN="Szalai Mikl%C3%B3sn%C3%A9":MAILTO:ferencvaros.szervezo@vgyke.com
END:VEVENT
BEGIN:VEVENT
DTSTART;TZID=Europe/Budapest:20241015T140000
DTEND;TZID=Europe/Budapest:20241015T160000
DTSTAMP:20260422T030303
CREATED:20240912T140049Z
LAST-MODIFIED:20240914T102858Z
UID:36613-1729000800-1729008000@vgyke.com
SUMMARY:Fehér bot nap VIII. kerület
DESCRIPTION:Fehér bot nap VIII. kerület
URL:https://vgyke.com/event/feher-bot-nap-viii-kerulet/
LOCATION:VIII. Kerület\, Kesztyűgyár Közösségi Ház\, Mátyás Tér 15.\, Budapest\,\, 1086
ORGANIZER;CN="Horv%C3%A1thn%C3%A9 Dunaveczki Leona":MAILTO:jozsefvaros.szervezo@vgyke.com
END:VEVENT
BEGIN:VEVENT
DTSTART;TZID=Europe/Budapest:20241017T140000
DTEND;TZID=Europe/Budapest:20241017T160000
DTSTAMP:20260422T030303
CREATED:20240912T135551Z
LAST-MODIFIED:20240914T103118Z
UID:36608-1729173600-1729180800@vgyke.com
SUMMARY:Fehér bot nap VII. kerület
DESCRIPTION:Fehér bot nap VII. kerület
URL:https://vgyke.com/event/feher-bot-nap-vii-kerulet/
LOCATION:VII. kerület\, KlauDió Civil Központ (1072 Budapest\, Nagydiófa utca 34.)
ORGANIZER;CN="J%C3%A1nosi Veronika":MAILTO:erzsebetvaros.szervezo@vgyke.com
END:VEVENT
BEGIN:VEVENT
DTSTART;TZID=Europe/Budapest:20241018T100000
DTEND;TZID=Europe/Budapest:20241018T120000
DTSTAMP:20260422T030303
CREATED:20240912T133527Z
LAST-MODIFIED:20240914T103244Z
UID:36602-1729245600-1729252800@vgyke.com
SUMMARY:Fehér bot nap III. kerület
DESCRIPTION:Fehér bot nap III. kerület
URL:https://vgyke.com/event/feher-bot-nap-iii-kerulet/
LOCATION:Békásmegyeri Közösségi Ház (1039 Budapest\, Csobánka Tér 5.)
ORGANIZER;CN="R%C3%A1t%C3%B3ti Krisztina":MAILTO:kispest.szervezo@vgyke.com
END:VEVENT
BEGIN:VEVENT
DTSTART;TZID=Europe/Budapest:20241018T140000
DTEND;TZID=Europe/Budapest:20241018T160000
DTSTAMP:20260422T030303
CREATED:20240912T144215Z
LAST-MODIFIED:20240914T103436Z
UID:36638-1729260000-1729267200@vgyke.com
SUMMARY:Fehér bot nap XVII. Kerület
DESCRIPTION:Fehér bot nap XVII. Kerület
URL:https://vgyke.com/event/feher-bot-nap-xvii-kerulet/
LOCATION:XVII. Kerületi Vigyázó Sándor Művelődési Központ (1173 Budapest\, Pesti út 113.)
END:VEVENT
BEGIN:VEVENT
DTSTART;TZID=Europe/Budapest:20241018T140000
DTEND;TZID=Europe/Budapest:20241018T160000
DTSTAMP:20260422T030303
CREATED:20240912T144553Z
LAST-MODIFIED:20240926T113647Z
UID:36641-1729260000-1729267200@vgyke.com
SUMMARY:Fehér bot nap XVIII. Kerület
DESCRIPTION:Fehér bot nap XVIII. Kerület
URL:https://vgyke.com/event/feher-bot-nap-xviii-kerulet/
LOCATION:XVIII. Kerületi Kondor Béla Közösségi Ház (1181 Budapest\, Kondor Béla Sétány 8.)
ORGANIZER;CN="P%C3%A1zm%C3%A1n Krisztina":MAILTO:18.kerulet.szervezo@vgyke.com
END:VEVENT
BEGIN:VEVENT
DTSTART;TZID=Europe/Budapest:20241021T150000
DTEND;TZID=Europe/Budapest:20241021T170000
DTSTAMP:20260422T030303
CREATED:20241010T073552Z
LAST-MODIFIED:20241010T073628Z
UID:36907-1729522800-1729530000@vgyke.com
SUMMARY:A Fehér Bot Napja
DESCRIPTION:Ismét elérkezett október\, a látás hónapja; vele pedig október 15-e\, a Fehér Bot Napja\, melynek célja a vakok és gyengénlátók speciális élethelyzetére való figyelemfelhívás\, segítve a párbeszédet a társadalom ép tagjaival. E napot világszerte megünneplik a látássérültek közösségei: számunkra a kitartás\, az életigenlés és a helytállás ünnepe – hiszen pusztán annak ténye\, hogy környezetünk a vizualitásra épül\, nem kevés kihívást támaszt mindennapi életvezetésünk során. Ahogy megalakulásunk óta minden évben\, ezúttal is kis ünnepséggel készültünk\, melyre szeretettel várunk klubjaink megszokott helyszínén\, a megszokott időben! \nFellépőink a „Rekvizites bohócok”: Radnóti Klára és Südi Péter – akik reneszánsz táncokat és szonátákat adnak elő furulyán\, görbekürtön\, szintetizátoron; Pesa Anna Mária verseit pedig Pintér Teréz olvassa fel. Műsorunkat követően szerény harapnivalóval\, kötetlen beszélgetéssel várunk!
URL:https://vgyke.com/event/a-feher-bot-napja/
LOCATION:Napraforgó Család- és Gyermekjóléti Központ (1163 Budapest\, Cziráki utca 22.) I. emelet klubterem
ORGANIZER;CN="Czag%C3%A1ny Izabella":MAILTO:16.kerulet.szervezo@vgyke.com
END:VEVENT
BEGIN:VEVENT
DTSTART;TZID=Europe/Budapest:20241022T100000
DTEND;TZID=Europe/Budapest:20241022T110000
DTSTAMP:20260422T030303
CREATED:20241016T142608Z
LAST-MODIFIED:20241016T143657Z
UID:36935-1729591200-1729594800@vgyke.com
SUMMARY:II. kerületi Lámpás Klub Fehér Bot Napi rendezvény
DESCRIPTION:Meghívó\nKedves Tagtársak\, Kedves Érdeklődők!\nSok szeretettel hívunk benneteket a II. kerületi Lámpás Klub\nFEHÉR BOT NAPI RENDEZVÉNYére\n2024.október 22-én 10 órakor a Pasaréti Közösségi Házba\,\nBudapest\, 1026 Pasaréti út 102.\nTervezett programok :\n– Megnyitó üdvözlés\n– Fodor Ágnes VGYKE elnökasszony köszöntője\n– Pesa Anna Mária műveiből felolvasás\n– Malomsoky Ildikó zenei műsora\n– Dr.Tábor István motivációs előadása\n– Kemecsy Ferenc Áron zenei műsora\n– Pál Bendegúz interaktív előadása\nVárunk mindenkit sok szeretettel !\nPataky Andrea\nII. kerület és Hegyvidék közösségi civil szervező\n2.kerulet.szervezo@vgyke.com
URL:https://vgyke.com/event/ii-keruleti-lampas-klub-feher-bot-napi-rendezveny/
LOCATION:Pasaréti Közösségi Ház\, Pasaréti út 102.\, Budapest\, 1026
ORGANIZER;CN="Pataky Andrea":MAILTO:ujbuda.szervezo@vgyke.com
END:VEVENT
BEGIN:VEVENT
DTSTART;TZID=Europe/Budapest:20241025T100000
DTEND;TZID=Europe/Budapest:20241025T120000
DTSTAMP:20260422T030303
CREATED:20241018T103917Z
LAST-MODIFIED:20241024T113737Z
UID:36957-1729850400-1729857600@vgyke.com
SUMMARY:Láthatár Bolt kitelepülés Gödöllőre
DESCRIPTION:A Láthatár Bolt kitelepül Gödöllőre
URL:https://vgyke.com/event/lathatar-bolt-kitelepules-godollore/
LOCATION:2100 Gödöllő Szabadság út 23
END:VEVENT
BEGIN:VEVENT
DTSTART;TZID=Europe/Budapest:20241025T150000
DTEND;TZID=Europe/Budapest:20241025T160000
DTSTAMP:20260422T030303
CREATED:20241011T075836Z
LAST-MODIFIED:20241011T080635Z
UID:36927-1729868400-1729872000@vgyke.com
SUMMARY:Csepeli online fehér bot nap
DESCRIPTION:Egyesületünk októberi rendezvénysorozatához csatlakozva egy Radnóti Miklós verssel a fehér bot napjára emlékezünk mi is online.
URL:https://vgyke.com/event/csepeli-online-feher-bot-nap/
LOCATION:online
ORGANIZER;CN="Koll%C3%A1rszki Bogl%C3%A1rka":MAILTO:csepel.szervezo@vgyke.com
END:VEVENT
BEGIN:VEVENT
DTSTART;TZID=Europe/Budapest:20241026T093000
DTEND;TZID=Europe/Budapest:20241026T110000
DTSTAMP:20260422T030303
CREATED:20240919T145807Z
LAST-MODIFIED:20240919T145807Z
UID:36718-1729935000-1729940400@vgyke.com
SUMMARY:Meghívó Tisztújító Közgyűlésre
DESCRIPTION:A Vakok és Gyengénlátók Közép-Magyarországi Regionális Egyesülete (VGYKE) 2024. október 26-án 9:30-tól tartja tisztújító közgyűlését\, melyre szeretettel várjuk minden kedves tagtársunkat! \nHelyszín:\nMVGYOSZ rendezvény terem (1146 Budapest\, Hermina u. 47.) \nNapirend:\n1. Elnöki köszöntő (Fodor Ágnes elnök)\n2. Levezető elnök megválasztása\n3. A VGYKE leköszönő vezetőségének beszámolója\n4. Az egyesület új tisztségviselőinek megválasztása\n5. Egyéb információk\, hozzászólások\, javaslatok \nAmennyiben a taggyűlés 9:30-kor nem határozatképes\, úgy azt a közgyűlés az egyesületi alapszabály IV. fejezet 1/8. pontjában leírtak szerint 30 perccel később a jelenlévő tagság létszámától függetlenül megtartja.\nTájékoztatjuk\, hogy a VGYKE választási szabályzata értelmében a helyszínen további jelöltek állítására is van lehetőség.\nA közgyűlésen való részvételt regisztráció előzi meg\, ahol ellenőrzésre kerül a tagsági jogviszony és a 2024 évi tagdíj befizetése\, ezért valamennyi tagtársunkat kérjük\, hogy feltétlenül hozza magával tagsági könyvét! Felhívjuk figyelmüket\, hogy a közgyűlésen megtartandó nyílt szavazáson kizárólag a regisztrációnál átvett szavazó cédulával vehetnek részt! A helyszínen az egyesület 2024. évi tagdíja nem befizethető\, és új tag felvételére sincs lehetőség. \nA VGYKE tisztújító közgyűlése számára a jelölő bizottság által ajánlott jelöltek listája:\nElnök:\nFodor Ágnes\nElnökségi tagok:\nBalázs Gábor\nKiss János Ferenc\nLoboda Márk\nMészáros Ágnes\nNyikes Fatime\nParóczai Gergely\nVass Ádám Patrik \nFelügyelőbizottság:\nAlmádi Krisztina Éva\nBodáné Ágoston Mária Emőke\nGyarmati Enikő \nA VGYKE minden tagtársat és résztvevő személyt a közgyűlés után sok szeretettel vár egy szendvicsebédre! \nBudapest\, 2024. szeptember 13. \nFodor Ágnes\nelnök
URL:https://vgyke.com/event/meghivo-tisztujito-kozgyulesre/
LOCATION:MVGYOSZ rendezvény terem (1146 Budapest\, Hermina u. 47.)
END:VEVENT
BEGIN:VEVENT
DTSTART;TZID=Europe/Budapest:20241028T100000
DTEND;TZID=Europe/Budapest:20241028T110000
DTSTAMP:20260422T030303
CREATED:20241025T132851Z
LAST-MODIFIED:20241025T132851Z
UID:36974-1730109600-1730113200@vgyke.com
SUMMARY:Meghívó Online Klubnapra
DESCRIPTION:Kedves Tagtársak\, kedves érdeklődők! \nSok szeretettel hívunk benneteket a II. kerületi Lámpás Klub október havi online klubjára \nIdőpont: 2024.10.28 10 óra \nhttps://www.facebook.com/KozossegLampasaiMasodikKerulet/ \nOktóberben a Fehér Bot nap alkalmából szervezett rendezvényünk egyik vendége\, Dr. Tábor István volt\, vele készült e havi onlie-klubunk. István értékes gondolatait érdemes meghallgatni látóknak és nem látóknak egyaránt\, ő 17 éve vesztette el látását és azóta is aktív életet él\, ahogy azt megelőzően is. Napjainkban mondhatni szószólója lett az akadálymentesítésnek és szívén viseli az emberek sorsát\, bátorítva mindenkit az aktív életre. Fontosnak tartja\, hogy mindenki megtalálja a számára következő kihívást és lépjen azirányba. Hallgassátok szeretettel! \nPataky Andrea \n\nkerület és Hegyvidék közösségi civil szervező
URL:https://vgyke.com/event/meghivo-online-klubnapra/
LOCATION:https://www.facebook.com/KozossegLampasaiMasodikKerulet/
ORGANIZER;CN="Pataky Andrea":MAILTO:ujbuda.szervezo@vgyke.com
END:VEVENT
BEGIN:VEVENT
DTSTART;TZID=Europe/Budapest:20241028T150000
DTEND;TZID=Europe/Budapest:20241028T170000
DTSTAMP:20260422T030303
CREATED:20240912T143300Z
LAST-MODIFIED:20240914T104113Z
UID:36627-1730127600-1730134800@vgyke.com
SUMMARY:Fehér bot nap XIII. kerület
DESCRIPTION:Fehér bot nap XIII. kerület
URL:https://vgyke.com/event/feher-bot-nap-xiii-kerulet/
LOCATION:XIII. kerületi Prevenciós Központ (1134 Budapest\, Tüzér utca 56-58.)
ORGANIZER;CN="Majl%C3%A1th M%C3%B3nika":MAILTO:angyalfold.szervezo@vgyke.com
END:VEVENT
BEGIN:VEVENT
DTSTART;TZID=Europe/Budapest:20241028T150000
DTEND;TZID=Europe/Budapest:20241028T170000
DTSTAMP:20260422T030303
CREATED:20241021T151513Z
LAST-MODIFIED:20241021T173122Z
UID:36962-1730127600-1730134800@vgyke.com
SUMMARY:Angyalföldi Lámpás Klub Fehér Bot napi rendezvénye
DESCRIPTION:Angyalföldi Lámpás Klub Fehér Bot napi rendezvénye
URL:https://vgyke.com/event/angyalfoldi-lampas-klub-feher-bot-napi-rendezvenye/
LOCATION:Prevenciós Központ Budapest\, 1134. Tüzér u. 56-58.
ORGANIZER;CN="Majl%C3%A1th M%C3%B3nika":MAILTO:angyalfold.szervezo@vgyke.com
END:VEVENT
BEGIN:VEVENT
DTSTART;TZID=Europe/Budapest:20241102T150000
DTEND;TZID=Europe/Budapest:20241102T180000
DTSTAMP:20260422T030303
CREATED:20241024T112055Z
LAST-MODIFIED:20241024T112055Z
UID:36968-1730559600-1730570400@vgyke.com
SUMMARY:Valahol Európában
DESCRIPTION:A (Pesti) Magyar Színház előadásában színházi program
URL:https://vgyke.com/event/valahol-europaban/
LOCATION:(Pesti)  Magyar Színház Budapest  Hevesi Sándor tér 4. 1077
ORGANIZER;CN="Szalai Mikl%C3%B3sn%C3%A9":MAILTO:ferencvaros.szervezo@vgyke.com
END:VEVENT
BEGIN:VEVENT
DTSTART;TZID=Europe/Budapest:20241104T080000
DTEND;TZID=Europe/Budapest:20241104T150000
DTSTAMP:20260422T030303
CREATED:20241007T140919Z
LAST-MODIFIED:20241007T141403Z
UID:36869-1730707200-1730732400@vgyke.com
SUMMARY:Gyógy- és talpmasszázs VII. kerületi 65 év feletti lakosoknak
DESCRIPTION:Egyesületünk gyógymasszőrei várják a frissülni\, gyógyulni vágyó\n65 év feletti VII. kerületben élőket térítésmentes\nhát- vagy talpmasszázsra.\nBejelentkezés és időpontfoglalás: +36 70 7733-988
URL:https://vgyke.com/event/gyogy-es-talpmasszazs-vii-keruleti-65-ev-feletti-lakosoknak/
LOCATION:1071 Budapest\, Peterdy utca 16. VI. emelet
ORGANIZER;CN="VGYKE massz%C3%A1zs koordin%C3%A1ci%C3%B3":MAILTO:masszazs@vgyke.com
END:VEVENT
BEGIN:VEVENT
DTSTART;TZID=Europe/Budapest:20241104T140000
DTEND;TZID=Europe/Budapest:20241104T163000
DTSTAMP:20260422T030303
CREATED:20241029T082836Z
LAST-MODIFIED:20241029T082836Z
UID:36982-1730728800-1730737800@vgyke.com
SUMMARY:Ismerkedés a Louis Braille Támogató Szolgálattal a rákosmenti klubon
DESCRIPTION:Szeretnél többet megtudni a Támogató Szolgálat működéséről? Ha igen\, akkor látogass el klubunkra\, ahol a szolgálat új vezetője Czégény Tünde lesz a vendég!
URL:https://vgyke.com/event/ismerkedes-a-louis-braille-tamogato-szolgalattal-a-rakosmenti-klubon/
LOCATION:Rákoshegyi Közösségi Ház Kép U 7-9
END:VEVENT
BEGIN:VEVENT
DTSTART;TZID=Europe/Budapest:20241105T080000
DTEND;TZID=Europe/Budapest:20241105T150000
DTSTAMP:20260422T030303
CREATED:20241007T141249Z
LAST-MODIFIED:20241007T141249Z
UID:36873-1730793600-1730818800@vgyke.com
SUMMARY:Gyógy- és talpmasszázs VII. kerületi 65 év feletti lakosoknak
DESCRIPTION:Egyesületünk gyógymasszőrei várják a frissülni\, gyógyulni vágyó\n65 év feletti VII. kerületben élőket térítésmentes\nhát- vagy talpmasszázsra.\nBejelentkezés és időpontfoglalás: +36 70 7733-988
URL:https://vgyke.com/event/gyogy-es-talpmasszazs-vii-keruleti-65-ev-feletti-lakosoknak-2/
LOCATION:1071 Budapest\, Peterdy utca 16. VI. emelet
ORGANIZER;CN="VGYKE massz%C3%A1zs koordin%C3%A1ci%C3%B3":MAILTO:masszazs@vgyke.com
END:VEVENT
BEGIN:VEVENT
DTSTART;TZID=Europe/Budapest:20241107T150000
DTEND;TZID=Europe/Budapest:20241107T170000
DTSTAMP:20260422T030303
CREATED:20241030T083951Z
LAST-MODIFIED:20241030T083951Z
UID:36987-1730991600-1730998800@vgyke.com
SUMMARY:Újra nyit a Kispesti Klub!
DESCRIPTION:Ismerkedés Kispesten – a nagy sikerű megnyitó után novemberben is Lámpás Klub Kispesten!
URL:https://vgyke.com/event/ujra-nyit-a-kispesti-klub-2/
LOCATION:Kispesti Kaszinó  (1191 Budapest Fő u. 42.)
ORGANIZER;CN="Ruzsa Viktor":MAILTO:kispest.szervezo@vgyke.com
END:VEVENT
BEGIN:VEVENT
DTSTART;TZID=Europe/Budapest:20241108T140000
DTEND;TZID=Europe/Budapest:20241108T160000
DTSTAMP:20260422T030303
CREATED:20241024T112557Z
LAST-MODIFIED:20241024T112557Z
UID:36971-1731074400-1731081600@vgyke.com
SUMMARY:Görögországi misszió+segédeszközbolti kitelepülés+tagdíjfizetés a klubnapon
DESCRIPTION:A klubnapon a segédeszközbolt kitelepül a klubnapra\, bemutatva a legújabb újdonságokat\, lehetőség lesz tagdíjfizetésre\, és Rúzsa Magdolna görögországi missziójárol mesél.
URL:https://vgyke.com/event/gorogorszagi-missziosegedeszkozbolti-kitelepulestagdijfizetes-a-klubnapon/
LOCATION:Ferencvárosi Művelődési Központ FMK Budapest Haller u. 27. 1093
ORGANIZER;CN="Szalai Mikl%C3%B3sn%C3%A9":MAILTO:ferencvaros.szervezo@vgyke.com
END:VEVENT
BEGIN:VEVENT
DTSTART;TZID=Europe/Budapest:20241111T080000
DTEND;TZID=Europe/Budapest:20241111T150000
DTSTAMP:20260422T030303
CREATED:20241007T141621Z
LAST-MODIFIED:20241007T141650Z
UID:36875-1731312000-1731337200@vgyke.com
SUMMARY:Gyógy- és talpmasszázs VII. kerületi 65 év feletti lakosoknak
DESCRIPTION:Egyesületünk gyógymasszőrei várják a frissülni\, gyógyulni vágyó\n65 év feletti VII. kerületben élőket térítésmentes\nhát- vagy talpmasszázsra.\nBejelentkezés és időpontfoglalás: +36 70 7733-988
URL:https://vgyke.com/event/gyogy-es-talpmasszazs-vii-keruleti-65-ev-feletti-lakosoknak-3/
LOCATION:1071 Budapest\, Peterdy utca 16. VI. emelet
ORGANIZER;CN="VGYKE massz%C3%A1zs koordin%C3%A1ci%C3%B3":MAILTO:masszazs@vgyke.com
END:VEVENT
BEGIN:VEVENT
DTSTART;TZID=Europe/Budapest:20241111T150000
DTEND;TZID=Europe/Budapest:20241111T170000
DTSTAMP:20260422T030303
CREATED:20241119T143804Z
LAST-MODIFIED:20241119T143804Z
UID:37071-1731337200-1731344400@vgyke.com
SUMMARY:A Láthatár Bolt és az ügyfélszolgálat látogatása Kőbányán
DESCRIPTION:A jelenlévők befizethetika 2025. évi tagdíjat\, valamint vásárolhatnak a Láthatár Bolt kínálatából.
URL:https://vgyke.com/event/a-lathatar-bolt-es-az-ugyfelszolgalat-latogatasa-kobanyan/
LOCATION:Kőrösi Csoma Sándor Kőbányai Kulturális Központ (1105. Budapest\, Szent László tér 7-14)
ORGANIZER;CN="J%C3%A1nosi Veronika":MAILTO:erzsebetvaros.szervezo@vgyke.com
END:VEVENT
BEGIN:VEVENT
DTSTART;TZID=Europe/Budapest:20241112T080000
DTEND;TZID=Europe/Budapest:20241112T150000
DTSTAMP:20260422T030303
CREATED:20241007T142256Z
LAST-MODIFIED:20241007T142256Z
UID:36881-1731398400-1731423600@vgyke.com
SUMMARY:Gyógy- és talpmasszázs VII. kerületi 65 év feletti lakosoknak
DESCRIPTION:Egyesületünk gyógymasszőrei várják a frissülni\, gyógyulni vágyó\n65 év feletti VII. kerületben élőket térítésmentes\nhát- vagy talpmasszázsra.\nBejelentkezés és időpontfoglalás: +36 70 7733-988
URL:https://vgyke.com/event/gyogy-es-talpmasszazs-vii-keruleti-65-ev-feletti-lakosoknak-6/
LOCATION:1071 Budapest\, Peterdy utca 16. VI. emelet
ORGANIZER;CN="VGYKE massz%C3%A1zs koordin%C3%A1ci%C3%B3":MAILTO:masszazs@vgyke.com
END:VEVENT
BEGIN:VEVENT
DTSTART;TZID=Europe/Budapest:20241115T100000
DTEND;TZID=Europe/Budapest:20241115T120000
DTSTAMP:20260422T030303
CREATED:20241030T084416Z
LAST-MODIFIED:20241030T084416Z
UID:36989-1731664800-1731672000@vgyke.com
SUMMARY:Olvasni öröm! - Ismerkedés az MVGYOSZ Bodor Tibor Hangoskönyvtárával
DESCRIPTION:Kötetlen beszélgetés Puskás Kata Szidóniával\, a Bodor Tibor Kulturális Egyesület alapító-elnökével\, Bodor Tibor unokájával és Helle Maximilian technikussal\, előadóművésszel\, a digitális Hangoskönyvtár megálmodójával\, akik célul tűzték ki\, hogy minél több régi hangoskönyvet digitalizáljanak\, illetve minél több újat olvassanak fel látássérültek számára.
URL:https://vgyke.com/event/olvasni-orom-ismerkedes-az-mvgyosz-bodor-tibor-hangoskonyvtaraval/
LOCATION:Békásmegyeri Közösségi Ház (1039 Budapest Csobánka tér 5.) I. emeleti kisterem
ORGANIZER;CN="Ruzsa Viktor":MAILTO:kispest.szervezo@vgyke.com
END:VEVENT
BEGIN:VEVENT
DTSTART;TZID=Europe/Budapest:20241115T150000
DTEND;TZID=Europe/Budapest:20241115T160000
DTSTAMP:20260422T030303
CREATED:20241107T114739Z
LAST-MODIFIED:20241107T114739Z
UID:37024-1731682800-1731686400@vgyke.com
SUMMARY:Őszbúcsúztató Csepelen
DESCRIPTION:Őszi versekkel búcsúzunk az évszaktól egy hat éves kislány\, Lovász Abigél előadásában.
URL:https://vgyke.com/event/oszbucsuztato-csepelen/
LOCATION:online
ORGANIZER;CN="Koll%C3%A1rszki Bogl%C3%A1rka":MAILTO:csepel.szervezo@vgyke.com
END:VEVENT
END:VCALENDAR