BEGIN:VCALENDAR
VERSION:2.0
PRODID:-//Vakok és Gyengénlátók Közép-Magyarországi Regionális Egyesülete - ECPv6.15.20//NONSGML v1.0//EN
CALSCALE:GREGORIAN
METHOD:PUBLISH
X-WR-CALNAME:Vakok és Gyengénlátók Közép-Magyarországi Regionális Egyesülete
X-ORIGINAL-URL:https://vgyke.com
X-WR-CALDESC:Események Vakok és Gyengénlátók Közép-Magyarországi Regionális Egyesülete
REFRESH-INTERVAL;VALUE=DURATION:PT1H
X-Robots-Tag:noindex
X-PUBLISHED-TTL:PT1H
BEGIN:VTIMEZONE
TZID:Europe/Budapest
BEGIN:DAYLIGHT
TZOFFSETFROM:+0100
TZOFFSETTO:+0200
TZNAME:CEST
DTSTART:20250330T010000
END:DAYLIGHT
BEGIN:STANDARD
TZOFFSETFROM:+0200
TZOFFSETTO:+0100
TZNAME:CET
DTSTART:20251026T010000
END:STANDARD
BEGIN:DAYLIGHT
TZOFFSETFROM:+0100
TZOFFSETTO:+0200
TZNAME:CEST
DTSTART:20260329T010000
END:DAYLIGHT
BEGIN:STANDARD
TZOFFSETFROM:+0200
TZOFFSETTO:+0100
TZNAME:CET
DTSTART:20261025T010000
END:STANDARD
BEGIN:DAYLIGHT
TZOFFSETFROM:+0100
TZOFFSETTO:+0200
TZNAME:CEST
DTSTART:20270328T010000
END:DAYLIGHT
BEGIN:STANDARD
TZOFFSETFROM:+0200
TZOFFSETTO:+0100
TZNAME:CET
DTSTART:20271031T010000
END:STANDARD
END:VTIMEZONE
BEGIN:VEVENT
DTSTART;TZID=Europe/Budapest:20260429T160000
DTEND;TZID=Europe/Budapest:20260429T180000
DTSTAMP:20260421T171843
CREATED:20260415T155106Z
LAST-MODIFIED:20260415T155201Z
UID:40176-1777478400-1777485600@vgyke.com
SUMMARY:Összművészeti gálakoncert a Vakok iskolája diákjai és a Legato Kórus részvételével
DESCRIPTION:Kedves Klubtagok\, Kísérők\, Érdeklődők! \nSok szeretettel várunk mindenkit az erzsébetvárosi Lámpás Klub áprilisi programjára a Vakok Iskolájába\, egy évvégi zárókoncertre a hangszert tanuló diákok\nés a Legato Kórus részvételével. \nTalálkozó: 15:30-15:40 között a Vakok Iskolája főportáján\, lent \nA visszajelzéseket a részvételről és az esetleges segítség igényléséről 2026. 04. 24-én 18 óráig várjuk elérhetőségeink valamelyikén. \nFontos: A részvételi szándékot és a segítségre való igényt mindenképp szíveskedjenek jelezni a megadott időpontig\, mivel a segítségnyújtás igen korlátozott\nmértékben megoldható és szervezést igényel\, a létszámot pedig le kell adni. \nA jelenléti ív előzetes elkészítése érdekében jelentkezéskor kérjük szíveskedjenek megadni a jelentkező nevét és elérhetőségét (e-mail címét\, vagy telefonszámát) \nJánosi Veronika \nközösségi civilszervező \nElérhetőségek:\nMobil: +36 70 387 52 66\nE-mail:\nerzsebetvaros.szervezo@vgyke.com
URL:https://vgyke.com/event/osszmuveszeti-galakoncert-a-vakok-iskolaja-diakjai-es-a-legato-korus-reszvetelevel/
LOCATION:Vakok Iskolája (1146 BP. Ajtósy Dűrer Sor 39.)
ORGANIZER;CN="J%C3%A1nosi Veronika":MAILTO:erzsebetvaros.szervezo@vgyke.com
END:VEVENT
BEGIN:VEVENT
DTSTART;TZID=Europe/Budapest:20260509T100000
DTEND;TZID=Europe/Budapest:20260509T140000
DTSTAMP:20260421T171843
CREATED:20260421T075218Z
LAST-MODIFIED:20260421T075218Z
UID:40198-1778320800-1778335200@vgyke.com
SUMMARY:Óbuda Napja
DESCRIPTION:Óbuda-Békásmegyer Polgármesteri Hivatala szervezésében idén is megrendezik Óbuda Napját. A program több helyszínen\, köztük a Csobánka téren zajlik. A Békásmegyeri Közösségi Ház előtti téren a VGYKE is megtalálható lesz\, szemléletformáló programokkal és vakvezető kutyával várjuk az érdeklődő családokat.
URL:https://vgyke.com/event/obuda-napja/
LOCATION:1039 Budapest Csobánka tér 5. Békásmegyeri Közösségi Ház I. emeleti kisterem
ORGANIZER;CN="Ruzsa Viktor":MAILTO:obuda.szervezo@vgyke.com
END:VEVENT
BEGIN:VEVENT
DTSTART;TZID=Europe/Budapest:20260515T100000
DTEND;TZID=Europe/Budapest:20260515T120000
DTSTAMP:20260421T171843
CREATED:20260421T074934Z
LAST-MODIFIED:20260421T074934Z
UID:40195-1778839200-1778846400@vgyke.com
SUMMARY:A VGYKE Masszázs szolgáltatásáról Békásmegyeren
DESCRIPTION:Óbuda-Békásmegyer Polgármesteri Hivatalának támogatásával a VGYKE gyógymasszőrei térítésmentesen végeznek frissítő hát- és talpmasszázst Békásmegyeren a Vörösvári úti Szakrendelőben III. kerületi lakosok részére\, illetve igény esetén házhoz mennek. Ez nagy érdeklődést váltott ki a kerületben élő látássérült emberek\, köztük a VGYKE tagjai körében. Ezért májusi klubnapunkon a VGYKE Masszázs szolgáltatásának koordinátora\, Págány Noémi válaszol a felmerülő kérdésekre.
URL:https://vgyke.com/event/a-vgyke-masszazs-szolgaltatasarol-bekasmegyeren/
LOCATION:Békásmegyeri Közösségi Ház I. emeleti klubterem (1039 Budapest Csobánka tér 5.)
ORGANIZER;CN="Ruzsa Viktor":MAILTO:obuda.szervezo@vgyke.com
END:VEVENT
END:VCALENDAR