BEGIN:VCALENDAR
VERSION:2.0
PRODID:-//Vakok és Gyengénlátók Közép-Magyarországi Regionális Egyesülete - ECPv6.15.20//NONSGML v1.0//EN
CALSCALE:GREGORIAN
METHOD:PUBLISH
X-ORIGINAL-URL:https://vgyke.com
X-WR-CALDESC:Események Vakok és Gyengénlátók Közép-Magyarországi Regionális Egyesülete
REFRESH-INTERVAL;VALUE=DURATION:PT1H
X-Robots-Tag:noindex
X-PUBLISHED-TTL:PT1H
BEGIN:VTIMEZONE
TZID:Europe/Budapest
BEGIN:DAYLIGHT
TZOFFSETFROM:+0100
TZOFFSETTO:+0200
TZNAME:CEST
DTSTART:20220327T010000
END:DAYLIGHT
BEGIN:STANDARD
TZOFFSETFROM:+0200
TZOFFSETTO:+0100
TZNAME:CET
DTSTART:20221030T010000
END:STANDARD
BEGIN:DAYLIGHT
TZOFFSETFROM:+0100
TZOFFSETTO:+0200
TZNAME:CEST
DTSTART:20230326T010000
END:DAYLIGHT
BEGIN:STANDARD
TZOFFSETFROM:+0200
TZOFFSETTO:+0100
TZNAME:CET
DTSTART:20231029T010000
END:STANDARD
BEGIN:DAYLIGHT
TZOFFSETFROM:+0100
TZOFFSETTO:+0200
TZNAME:CEST
DTSTART:20240331T010000
END:DAYLIGHT
BEGIN:STANDARD
TZOFFSETFROM:+0200
TZOFFSETTO:+0100
TZNAME:CET
DTSTART:20241027T010000
END:STANDARD
END:VTIMEZONE
BEGIN:VEVENT
DTSTART;TZID=Europe/Budapest:20230131T100000
DTEND;TZID=Europe/Budapest:20230131T120000
DTSTAMP:20260423T230919
CREATED:20230703T132537Z
LAST-MODIFIED:20230703T132537Z
UID:33141-1675159200-1675166400@vgyke.com
SUMMARY:Külsős klub program
DESCRIPTION:Látogatás a Holokauszt Emlékközpontba
URL:https://vgyke.com/event/kulsos-klub-program/
LOCATION:1094 Budapest Páva u.39.
ORGANIZER;CN="Kiss M%C3%A1rta":MAILTO:zuglo.szervezo@vgyke.com
END:VEVENT
BEGIN:VEVENT
DTSTART;TZID=Europe/Budapest:20230131T100000
DTEND;TZID=Europe/Budapest:20230131T140000
DTSTAMP:20260423T230919
CREATED:20230619T173950Z
LAST-MODIFIED:20230619T173950Z
UID:32910-1675159200-1675173600@vgyke.com
SUMMARY:Látogatás a Holokauszt Emlékközpontba
DESCRIPTION:A Holokauszt Emlékközpont a világ kevés\, kizárólag a holokauszttal foglalkozó\, állami alapítású intézményeinek egyike. A látogatókat különleges és egyedi építészeti környezet fogadja. Frank O. Gehry\, a világ talán leghíresebb kortárs építésze (a bilbaói Guggenheim Múzeum tervezője) magyarországi látogatásakor Budapest panorámája mellett az Emlékközpontot nevezte meg a rá leginkább mély hatást gyakorló építészeti alkotásként. A modern épületegyüttesbe szervesen kapcsolódó Páva utcai zsinagóga autentikus hely\, egykor Budapest második legnagyobb zsinagógája volt. Az intézmény tudományos\, oktatási és kulturális központ. Interaktív állandó és különleges időszaki kiállításokkal\, élményközpontú múzeumpedagógiai programokkal\, kulturális rendezvényekkel várja a látogatókat.
URL:https://vgyke.com/event/latogatas-a-holokauszt-emlekkozpontba/
LOCATION:Holokauszt Emlékközpont\, Páva u. 39.\, Budapest\, 1094
ORGANIZER;CN="P%C3%A1zm%C3%A1n Krisztina":MAILTO:18.kerulet.szervezo@vgyke.com
END:VEVENT
BEGIN:VEVENT
DTSTART;TZID=Europe/Budapest:20230201T150000
DTEND;TZID=Europe/Budapest:20230201T170000
DTSTAMP:20260423T230919
CREATED:20230705T132750Z
LAST-MODIFIED:20230705T132750Z
UID:33208-1675263600-1675270800@vgyke.com
SUMMARY:Tapintható Skócia
DESCRIPTION:A duda\, mint hangszer már időszámításunk előtt 2000 évvel megjelent az ókori Mezopotámiában\, innen terjedt aztán el\, hogy a középkorra már Európa-szerte széles körben ismert és kedvelt hangszerré váljon. Annak ellenére\, hogy több országban (köztük Magyarországon) is máig élő hagyománya van e hangszeren való játéknak\, a köztudat egyértelműen Skóciát\, a skótokat kapcsolja hozzá.\nHogy ez miért is alakult így\, arról Kéri György\, Magyarország első skótdudása\, több könyv írója mesél majd nekünk\, nem fukarkodva a dudaszóval sem!\nMinden érdeklődőt szeretettel várunk erre a különleges programra!
URL:https://vgyke.com/event/tapinthato-skocia/
LOCATION:Újpesti Ifjúsági Ház 1042 Budapest István út 17-19
ORGANIZER;CN="Murg%C3%A1cs J%C3%A1nosn%C3%A9":MAILTO:ujpest.szervezo@vgyke.com
END:VEVENT
BEGIN:VEVENT
DTSTART;TZID=Europe/Budapest:20230202T140000
DTEND;TZID=Europe/Budapest:20230202T160000
DTSTAMP:20260423T230919
CREATED:20230616T143258Z
LAST-MODIFIED:20230616T143258Z
UID:32829-1675346400-1675353600@vgyke.com
SUMMARY:Ferencváros 2023.02.03-klubnap
DESCRIPTION:5 éves lett a ferencvárosi lámpás klub-ünneplés
URL:https://vgyke.com/event/ferencvaros-2023-02-03-klubnap/
LOCATION:Ferencvárosi Művelődési Központ FMK Budapest Haller utca 27. 1093
END:VEVENT
BEGIN:VEVENT
DTSTART;TZID=Europe/Budapest:20230202T150000
DTEND;TZID=Europe/Budapest:20230202T173000
DTSTAMP:20260423T230919
CREATED:20230702T084820Z
LAST-MODIFIED:20230702T084820Z
UID:33108-1675350000-1675359000@vgyke.com
SUMMARY:program
DESCRIPTION:Jégkirályság – narrált cirkuszi előadás
URL:https://vgyke.com/event/program-6/
LOCATION:Fővárosi Nagycirkusz\, Budapest Állatkerti krt. 12/a\, 1146
END:VEVENT
BEGIN:VEVENT
DTSTART;TZID=Europe/Budapest:20230203T140000
DTEND;TZID=Europe/Budapest:20230203T160000
DTSTAMP:20260423T230919
CREATED:20230616T144021Z
LAST-MODIFIED:20240129T141236Z
UID:32833-1675432800-1675440000@vgyke.com
SUMMARY:2023. február 03-online klub-születésnap
DESCRIPTION:A ferencvárosi lámpás klub születésnapjáról on-line bejelentkezés történt-meghívott vendégünk Lenkainé Vajda Viktória.
URL:https://vgyke.com/event/2023-februar-03-online-klub-szuletesnap/
LOCATION:Ferencvárosi Művelődési Központ FMK Budapest Haller utca 27. 1093
END:VEVENT
BEGIN:VEVENT
DTSTART;TZID=Europe/Budapest:20230207T140000
DTEND;TZID=Europe/Budapest:20230207T163000
DTSTAMP:20260423T230919
CREATED:20230702T085514Z
LAST-MODIFIED:20230702T085514Z
UID:33114-1675778400-1675787400@vgyke.com
SUMMARY:klubnap
DESCRIPTION:Krayné Faragó Zsuzsanna hangtálas bemutatót tartott
URL:https://vgyke.com/event/klubnap-5/
LOCATION:Csekovszky Árpád Művelődési Ház\, Hősök tere 9.\, 1172
END:VEVENT
BEGIN:VEVENT
DTSTART;TZID=Europe/Budapest:20230208T170000
DTEND;TZID=Europe/Budapest:20230208T190000
DTSTAMP:20260423T230919
CREATED:20230705T142419Z
LAST-MODIFIED:20230705T142419Z
UID:33238-1675875600-1675882800@vgyke.com
SUMMARY:Részvétel a 2023. február 8-ai Civil kerekasztal ülésén
DESCRIPTION:Új egyesület bemutakozása\, Angyalföldi TTE Kiss László\,\nCivil Szakmai Fórum – Közösségi akciótervezés workshop
URL:https://vgyke.com/event/reszvetel-a-2023-februar-8-ai-civil-kerekasztal-ulesen/
LOCATION:Angyalföldi József Attila Művelődési Központ   Budapest\, 1131. József Attila tér 4.
ORGANIZER;CN="Majl%C3%A1th M%C3%B3nika":MAILTO:angyalfold.szervezo@vgyke.com
END:VEVENT
BEGIN:VEVENT
DTSTART;TZID=Europe/Budapest:20230208T170000
DTEND;TZID=Europe/Budapest:20230208T190000
DTSTAMP:20260423T230919
CREATED:20230705T143218Z
LAST-MODIFIED:20230705T143218Z
UID:33244-1675875600-1675882800@vgyke.com
SUMMARY:Részvétel a 2023. február 8-ai Civil kerekasztal ülésén
DESCRIPTION:Új egyesület bemutakozása\, Angyalföldi TTE Kiss László\,\nCivil Szakmai Fórum – Közösségi akciótervezés workshop
URL:https://vgyke.com/event/reszvetel-a-2023-februar-8-ai-civil-kerekasztal-ulesen-2/
LOCATION:Angyalföldi József Attila Művelődési Központ   Budapest\, 1131. József Attila tér 4.
ORGANIZER;CN="Majl%C3%A1th M%C3%B3nika":MAILTO:angyalfold.szervezo@vgyke.com
END:VEVENT
BEGIN:VEVENT
DTSTART;TZID=Europe/Budapest:20230212T150000
DTEND;TZID=Europe/Budapest:20230212T170000
DTSTAMP:20260423T230919
CREATED:20230616T145410Z
LAST-MODIFIED:20230616T145410Z
UID:32840-1676214000-1676221200@vgyke.com
SUMMARY:Ferencváros 2023.02.12-program   Pinceszínház
DESCRIPTION:Hajmeresztő című előadás megtekintése a pinceszínházban-NSZI pályázat keretében
URL:https://vgyke.com/event/ferencvaros-2023-02-12-program-pinceszinhaz/
LOCATION:Budapest Török Pál u. 3. 1093 Pinceszínház
END:VEVENT
BEGIN:VEVENT
DTSTART;TZID=Europe/Budapest:20230213T150000
DTEND;TZID=Europe/Budapest:20230213T170000
DTSTAMP:20260423T230919
CREATED:20230627T163538Z
LAST-MODIFIED:20230627T163538Z
UID:33028-1676300400-1676307600@vgyke.com
SUMMARY:A farsangról Kőbányán
DESCRIPTION:A jelenlévők megismerhetik a farsang történetét játékos formában\, egy quíz segítségével.
URL:https://vgyke.com/event/a-farsangrol-kobanyan/
LOCATION:Kőrösi Csoma Sándor Kőbányai Kulturális Központ
ORGANIZER;CN="Duplinszki Katalin":MAILTO:kobanya.szervezo@vgyke.com
END:VEVENT
BEGIN:VEVENT
DTSTART;TZID=Europe/Budapest:20230216T140000
DTEND;TZID=Europe/Budapest:20230216T160000
DTSTAMP:20260423T230919
CREATED:20230623T151054Z
LAST-MODIFIED:20230623T151054Z
UID:32992-1676556000-1676563200@vgyke.com
SUMMARY:Farsang és ismerkedés Erzsébetvárosban
DESCRIPTION:A jelenlévők megismerkedhetnek egymással és a farsang történetével játékos formában
URL:https://vgyke.com/event/farsang-es-ismerkedes-erzsebetvarosban/
LOCATION:KlauDió Civil Központ\, Nagydiófa utca 34.\, Budapest\, 1077
ORGANIZER;CN="J%C3%A1nosi Veronika":MAILTO:erzsebetvaros.szervezo@vgyke.com
END:VEVENT
BEGIN:VEVENT
DTSTART;TZID=Europe/Budapest:20230216T173000
DTEND;TZID=Europe/Budapest:20230216T203000
DTSTAMP:20260423T230919
CREATED:20230705T133237Z
LAST-MODIFIED:20230705T133237Z
UID:33210-1676568600-1676579400@vgyke.com
SUMMARY:Fényből szőtt álmok - kirándulás a Lumina Parkba
DESCRIPTION:Szeretettel hívunk a margitszigeti Palatinus fürdő területén már csak február folyamán megtekinthető Lumina Parkba\, ahol felejthetetlen világkörüli sétát tehetsz egy különleges\, fény és hangjáték által létrehozott mesebeli világban! A parkban 19 lélegzetelállító helyszín varázsol el\, és 3 művész 4 egyedi installációja is megtalálható a mintegy 1800 méteres\, szinte valamennyi állomásán rámpákkal akadálymentesített sétányon. A sötétben megelevenednek előttünk Földünk kontinensei és annak csodálatos állatvilága\, nevezetességei.\nA séta tervezett időtartama 120 perc\, a csoport létszáma legfeljebb 20 fő.
URL:https://vgyke.com/event/fenybol-szott-almok-kirandulas-a-lumina-parkba/
LOCATION:Lumina Park Budapest – 1003 Budapest\, Soós Rezső stny. 1. (Palatinus fürdő)
ORGANIZER;CN="Murg%C3%A1cs J%C3%A1nosn%C3%A9":MAILTO:ujpest.szervezo@vgyke.com
END:VEVENT
BEGIN:VEVENT
DTSTART;TZID=Europe/Budapest:20230217T100000
DTEND;TZID=Europe/Budapest:20230217T120000
DTSTAMP:20260423T230919
CREATED:20230703T142928Z
LAST-MODIFIED:20230703T142928Z
UID:33186-1676628000-1676635200@vgyke.com
SUMMARY:Lakásklubot tartottunk farsangi hangulatban.
DESCRIPTION:Farsangi szokásokról beszélgettünk a tagokkal. Felidéztük régi kedves emlékeinket\, és közben farsangi fánkot fogyasztottunk.
URL:https://vgyke.com/event/lakasklubot-tartottunk-farsangi-hangulatban/
ORGANIZER;CN="Vasn%C3%A9 Pint%C3%A9r Ter%C3%A9z":MAILTO:obuda.szervezo@vgyke.com
END:VEVENT
BEGIN:VEVENT
DTSTART;TZID=Europe/Budapest:20230217T100000
DTEND;TZID=Europe/Budapest:20230217T130000
DTSTAMP:20260423T230919
CREATED:20230623T150155Z
LAST-MODIFIED:20230627T075338Z
UID:32985-1676628000-1676638800@vgyke.com
SUMMARY:Látogatás  a Vakok Iskolája Péktanműhelyében
DESCRIPTION:A résztvevők megismerkedhetnek a látássérültek számára Budapesten elérhető pékrésszakképzés történetével és tanítási módszereivel.
URL:https://vgyke.com/event/latogatas-a-vakok-iskolaja-pektanmuhelyeben/
LOCATION:Vakok Iskolája\, Ajtósi Dűrer Sor 39.\, Budapest\, 1146
ORGANIZER;CN="Duplinszki Katalin":MAILTO:kobanya.szervezo@vgyke.com
END:VEVENT
BEGIN:VEVENT
DTSTART;TZID=Europe/Budapest:20230217T100000
DTEND;TZID=Europe/Budapest:20230217T130000
DTSTAMP:20260423T230919
CREATED:20230627T080036Z
LAST-MODIFIED:20230627T080149Z
UID:33016-1676628000-1676638800@vgyke.com
SUMMARY:Látogatás  a Vakok Iskolája Péktanműhelyében
DESCRIPTION:A résztvevők megismerkedhetnek a látássérültek számára Budapesten elérhető pékrésszakképzés történetével és tanítási módszereivel.
URL:https://vgyke.com/event/latogatas-a-vakok-iskolaja-pektanmuhelyeben-3/
LOCATION:Vakok Iskolája\, Ajtósi Dűrer Sor 39.\, Budapest\, 1146
ORGANIZER;CN="J%C3%A1nosi Veronika":MAILTO:erzsebetvaros.szervezo@vgyke.com
END:VEVENT
BEGIN:VEVENT
DTSTART;TZID=Europe/Budapest:20230218T150000
DTEND;TZID=Europe/Budapest:20230218T170000
DTSTAMP:20260423T230919
CREATED:20230616T150232Z
LAST-MODIFIED:20230616T150232Z
UID:32843-1676732400-1676739600@vgyke.com
SUMMARY:Ferencváros 2023.02.18 program-Nemzeti Színház Don Juan
DESCRIPTION:A Nemzeti Színházban a Don Juan előadás megtekintése
URL:https://vgyke.com/event/ferencvaros-2023-02-18-program-nemzeti-szinhaz-don-juan/
LOCATION:Budapest Bajor Gizi park 1. Nemzeti Színház
END:VEVENT
BEGIN:VEVENT
DTSTART;TZID=Europe/Budapest:20230220T150000
DTEND;TZID=Europe/Budapest:20230220T170000
DTSTAMP:20260423T230919
CREATED:20230628T150647Z
LAST-MODIFIED:20230628T150647Z
UID:33060-1676905200-1676912400@vgyke.com
SUMMARY:Rajzolni látássérültként
DESCRIPTION:Egy tagunk\, Bizsók László Virgil jött el klubnapunkra\, aki saját készítésű rajzait mutatta be\, és mesélt arról\, milyen rajzolni látássérültként.
URL:https://vgyke.com/event/rajzolni-latasserultkent/
LOCATION:Napraforgó Központ\, Cziráki utca 22. 1. emelet\, klubterem\, Budapest\, 1163
ORGANIZER;CN="Koll%C3%A1rszki Bogl%C3%A1rka":MAILTO:csepel.szervezo@vgyke.com
END:VEVENT
BEGIN:VEVENT
DTSTART;TZID=Europe/Budapest:20230222T140000
DTEND;TZID=Europe/Budapest:20230222T160000
DTSTAMP:20260423T230919
CREATED:20230705T144912Z
LAST-MODIFIED:20230705T144912Z
UID:33256-1677074400-1677081600@vgyke.com
SUMMARY:Látogatás a Szent István Bazilikában
DESCRIPTION:Ellátogatunk a Szent István bazilikába\, ahol egy csodálatos tárlatvezetéssel egybekötött élmény vár rátok.\nA Szent István Bazilika Magyarország egyik legjelentősebb épülete\, az Esztergom-Budapesti főegyházmegye társszékesegyháza az Esztergomi bazilika mellett.
URL:https://vgyke.com/event/latogatas-a-szent-istvan-bazilikaban/
LOCATION:1051. Budapest\, Szent István tér 1.
ORGANIZER;CN="Majl%C3%A1th M%C3%B3nika":MAILTO:angyalfold.szervezo@vgyke.com
END:VEVENT
BEGIN:VEVENT
DTSTART;TZID=Europe/Budapest:20230222T150000
DTEND;TZID=Europe/Budapest:20230222T170000
DTSTAMP:20260423T230919
CREATED:20230619T181931Z
LAST-MODIFIED:20230619T181931Z
UID:32933-1677078000-1677085200@vgyke.com
SUMMARY:Februári klubnap a XVIII. kerületben - Farsang és didgeridoo
DESCRIPTION:Ez alkalommal egy zenés meditációval/stresszoldással egybekötött ismeretterjesztő jellegű programra kerül sor\, amiben különleges\, ősi hangszerekről\, távoli kultúrákról és zenékről lesz szó. Vendégünk lesz egy harsona művész\, aki meg is szólaltatja nekünk az észak-ausztráliai őslakosok fúvós hangszerét\, a didgeridoo-t.\nE meditatív élmény után farsangi hangulatban folytatjuk a délutánt egy kvízzel és tánccal.
URL:https://vgyke.com/event/februari-klubnap-a-xviii-keruletben-farsang-es-didgeridoo/
LOCATION:Kondor Béla Közösségi Ház\, Kondor Béla sétány 8.\, Budapest\, 1181
ORGANIZER;CN="P%C3%A1zm%C3%A1n Krisztina":MAILTO:18.kerulet.szervezo@vgyke.com
END:VEVENT
BEGIN:VEVENT
DTSTART;TZID=Europe/Budapest:20230226T150000
DTEND;TZID=Europe/Budapest:20230226T170000
DTSTAMP:20260423T230919
CREATED:20230703T132928Z
LAST-MODIFIED:20230703T132928Z
UID:33144-1677423600-1677430800@vgyke.com
SUMMARY:Külsős klub program
DESCRIPTION:A Jégkirályság című audionarrált előadás megtekintése
URL:https://vgyke.com/event/kulsos-klub-program-2/
LOCATION:Fővárosi Nagycirkusz\, Budapest Állatkerti krt. 12/a\, 1146
ORGANIZER;CN="Kiss M%C3%A1rta":MAILTO:zuglo.szervezo@vgyke.com
END:VEVENT
BEGIN:VEVENT
DTSTART;TZID=Europe/Budapest:20230227T100000
DTEND;TZID=Europe/Budapest:20230227T120000
DTSTAMP:20260423T230919
CREATED:20230703T133230Z
LAST-MODIFIED:20230703T133230Z
UID:33146-1677492000-1677499200@vgyke.com
SUMMARY:Külsős program
DESCRIPTION:Látogatás a Bibliamúzeumba
URL:https://vgyke.com/event/kulsos-program/
LOCATION:1092 Budapest Ráday u. 28.\, Ráday u. 28.\, Budapest\, 1092
ORGANIZER;CN="Kiss M%C3%A1rta":MAILTO:zuglo.szervezo@vgyke.com
END:VEVENT
BEGIN:VEVENT
DTSTART;TZID=Europe/Budapest:20230227T150000
DTEND;TZID=Europe/Budapest:20230227T190000
DTSTAMP:20260423T230919
CREATED:20230705T145209Z
LAST-MODIFIED:20230705T145209Z
UID:33260-1677510000-1677524400@vgyke.com
SUMMARY:Nemzetközi Nőnap
DESCRIPTION:Beszélgetés a Nemzetközi Nőnap alkalmából
URL:https://vgyke.com/event/nemzetkozi-nonap/
LOCATION:Prevenciós Központ 1134. Budapest\, Tüzér u. 56-58.
ORGANIZER;CN="Majl%C3%A1th M%C3%B3nika":MAILTO:angyalfold.szervezo@vgyke.com
END:VEVENT
BEGIN:VEVENT
DTSTART;TZID=Europe/Budapest:20230228T140000
DTEND;TZID=Europe/Budapest:20230228T160000
DTSTAMP:20260423T230919
CREATED:20230703T130844Z
LAST-MODIFIED:20230703T130844Z
UID:33131-1677592800-1677600000@vgyke.com
SUMMARY:Klubnap
DESCRIPTION:Az első vak motoros Karvai Sándor volt a vendégünk
URL:https://vgyke.com/event/klubnap-8/
LOCATION:Zuglói Civil Ház\, Csertő park 12.\, Budapest\, 1144
ORGANIZER;CN="Kiss M%C3%A1rta":MAILTO:zuglo.szervezo@vgyke.com
END:VEVENT
BEGIN:VEVENT
DTSTART;TZID=Europe/Budapest:20230301T150000
DTEND;TZID=Europe/Budapest:20230301T170000
DTSTAMP:20260423T230919
CREATED:20230705T133604Z
LAST-MODIFIED:20230705T133821Z
UID:33213-1677682800-1677690000@vgyke.com
SUMMARY:Márciusi Klubnap
DESCRIPTION:Szeretettel hívunk márciusi klubnapunkra\, melynek témája a bűnmegelőzés\, a legújabb bűnözői trükkök\, ezek megismerése\, kivédése.\nVendégünk Varga Brigitta főtörzszászlós kmb.\, akit február elején tüntetett ki a Rendészeti Országos Rendőrkapitány-helyettes a 2022-es „Iskola rendőre” programban nyújtott kiemelkedő teljesítményéért. Ezúttal is a tőle megszokott élvezetes és informatív előadás keretében mesél a különféle átverésekről\, csalásokról\, tanulságos bűnesetekről – elkerülendő\, hogy áldozatul essünk ezeknek.\nA klub második felében pedig az Ayala Együttes játszik majd\, zenével ünnepelve a tél végét\, a tavasz kezdetét\, a találkozást.\nVárjuk minden kedves tagunkat\, családtagjaikat és kísérőiket! A klub nyitott és nyilvános\, minden érdeklődőt szívesen látunk!
URL:https://vgyke.com/event/marciusi-klubnap/
LOCATION:Újpesti Ifjúsági Ház 1042 Budapest István út 17-19
ORGANIZER;CN="Murg%C3%A1cs J%C3%A1nosn%C3%A9":MAILTO:ujpest.szervezo@vgyke.com
END:VEVENT
BEGIN:VEVENT
DTSTART;TZID=Europe/Budapest:20230303T140000
DTEND;TZID=Europe/Budapest:20230303T160000
DTSTAMP:20260423T230919
CREATED:20230616T152055Z
LAST-MODIFIED:20240129T141446Z
UID:32848-1677852000-1677859200@vgyke.com
SUMMARY:ferencvaros 2023.03.03-online klub
DESCRIPTION:Nagyné Antal Judit üvegműves mutatja be az üveg történetét\, az üvegékszerek készítésenek technikáját\, és megtudhatjuk az ólomüveg titkát is.
URL:https://vgyke.com/event/ferencvaros-2023-03-03-online-klub/
LOCATION:Ferencvárosi Művelődési Központ FMK Budapest Haller utca 27. 1093
END:VEVENT
BEGIN:VEVENT
DTSTART;TZID=Europe/Budapest:20230307T140000
DTEND;TZID=Europe/Budapest:20230307T163000
DTSTAMP:20260423T230919
CREATED:20230702T085735Z
LAST-MODIFIED:20230702T085735Z
UID:33117-1678197600-1678206600@vgyke.com
SUMMARY:klubnap
DESCRIPTION:Vendégünk\, Berkó Norbert a MVGYOSZ Hangoskönyvtárát mutatta be
URL:https://vgyke.com/event/klubnap-6/
LOCATION:Rákosligeti Katolikuskör\, XV. Utca 2.
END:VEVENT
BEGIN:VEVENT
DTSTART;TZID=Europe/Budapest:20230308T140000
DTEND;TZID=Europe/Budapest:20230308T160000
DTSTAMP:20260423T230919
CREATED:20230703T131140Z
LAST-MODIFIED:20230703T131140Z
UID:33133-1678284000-1678291200@vgyke.com
SUMMARY:Klubnap
DESCRIPTION:Dvarieczki Bálint az ALKO-Soft ügyvezetője volt a vendégünk
URL:https://vgyke.com/event/klubnap-9/
LOCATION:Zuglói Civil Ház\, Csertő park 12.\, Budapest\, 1144
ORGANIZER;CN="Kiss M%C3%A1rta":MAILTO:zuglo.szervezo@vgyke.com
END:VEVENT
BEGIN:VEVENT
DTSTART;TZID=Europe/Budapest:20230313T150000
DTEND;TZID=Europe/Budapest:20230313T170000
DTSTAMP:20260423T230919
CREATED:20230627T163134Z
LAST-MODIFIED:20230627T163303Z
UID:33026-1678719600-1678726800@vgyke.com
SUMMARY:Előadás március 15-éről\, ahogy az iskolában nem hallhattuk
DESCRIPTION:A jelenlévők előadást hallhatnak Acsay Péter történelem szakos tanártól március 15-éről és a hozzá fűződő Kőbányai személyekről
URL:https://vgyke.com/event/eloadas-marcius-15-erol-ahogy-az-iskolaban-nem-hallhattuk/
LOCATION:Kőrösi Csoma Sándor Kőbányai Kulturális Központ
ORGANIZER;CN="Duplinszki Katalin":MAILTO:kobanya.szervezo@vgyke.com
END:VEVENT
BEGIN:VEVENT
DTSTART;TZID=Europe/Budapest:20230316T140000
DTEND;TZID=Europe/Budapest:20230316T160000
DTSTAMP:20260423T230919
CREATED:20230623T144906Z
LAST-MODIFIED:20230623T145113Z
UID:32979-1678975200-1678982400@vgyke.com
SUMMARY:Előadás március 15-éről\,  és hozzá fűződő Erzsébetvárosi személyekről
DESCRIPTION:A jelenlévők előadást hallhatnak Acsay Péter történelem szakos tanártól március 15-éről és a hozzá fűződő Erzsébetvárosi eseményekről\, személyekről.
URL:https://vgyke.com/event/eloadas-marcius-15-erol-es-hozza-fuzodo-erzsebetvarosi-szemelyekrol/
LOCATION:KlauDió Civil Központ\, Nagydiófa utca 34.\, Budapest\, 1077
ORGANIZER;CN="J%C3%A1nosi Veronika":MAILTO:erzsebetvaros.szervezo@vgyke.com
END:VEVENT
END:VCALENDAR