BEGIN:VCALENDAR
VERSION:2.0
PRODID:-//Vakok és Gyengénlátók Közép-Magyarországi Regionális Egyesülete - ECPv6.15.20//NONSGML v1.0//EN
CALSCALE:GREGORIAN
METHOD:PUBLISH
X-ORIGINAL-URL:https://vgyke.com
X-WR-CALDESC:Események Vakok és Gyengénlátók Közép-Magyarországi Regionális Egyesülete
REFRESH-INTERVAL;VALUE=DURATION:PT1H
X-Robots-Tag:noindex
X-PUBLISHED-TTL:PT1H
BEGIN:VTIMEZONE
TZID:Europe/Budapest
BEGIN:DAYLIGHT
TZOFFSETFROM:+0100
TZOFFSETTO:+0200
TZNAME:CEST
DTSTART:20220327T010000
END:DAYLIGHT
BEGIN:STANDARD
TZOFFSETFROM:+0200
TZOFFSETTO:+0100
TZNAME:CET
DTSTART:20221030T010000
END:STANDARD
BEGIN:DAYLIGHT
TZOFFSETFROM:+0100
TZOFFSETTO:+0200
TZNAME:CEST
DTSTART:20230326T010000
END:DAYLIGHT
BEGIN:STANDARD
TZOFFSETFROM:+0200
TZOFFSETTO:+0100
TZNAME:CET
DTSTART:20231029T010000
END:STANDARD
BEGIN:DAYLIGHT
TZOFFSETFROM:+0100
TZOFFSETTO:+0200
TZNAME:CEST
DTSTART:20240331T010000
END:DAYLIGHT
BEGIN:STANDARD
TZOFFSETFROM:+0200
TZOFFSETTO:+0100
TZNAME:CET
DTSTART:20241027T010000
END:STANDARD
END:VTIMEZONE
BEGIN:VEVENT
DTSTART;TZID=Europe/Budapest:20230307T140000
DTEND;TZID=Europe/Budapest:20230307T163000
DTSTAMP:20260423T230918
CREATED:20230702T085735Z
LAST-MODIFIED:20230702T085735Z
UID:33117-1678197600-1678206600@vgyke.com
SUMMARY:klubnap
DESCRIPTION:Vendégünk\, Berkó Norbert a MVGYOSZ Hangoskönyvtárát mutatta be
URL:https://vgyke.com/event/klubnap-6/
LOCATION:Rákosligeti Katolikuskör\, XV. Utca 2.
END:VEVENT
BEGIN:VEVENT
DTSTART;TZID=Europe/Budapest:20230308T140000
DTEND;TZID=Europe/Budapest:20230308T160000
DTSTAMP:20260423T230918
CREATED:20230703T131140Z
LAST-MODIFIED:20230703T131140Z
UID:33133-1678284000-1678291200@vgyke.com
SUMMARY:Klubnap
DESCRIPTION:Dvarieczki Bálint az ALKO-Soft ügyvezetője volt a vendégünk
URL:https://vgyke.com/event/klubnap-9/
LOCATION:Zuglói Civil Ház\, Csertő park 12.\, Budapest\, 1144
ORGANIZER;CN="Kiss M%C3%A1rta":MAILTO:zuglo.szervezo@vgyke.com
END:VEVENT
BEGIN:VEVENT
DTSTART;TZID=Europe/Budapest:20230313T150000
DTEND;TZID=Europe/Budapest:20230313T170000
DTSTAMP:20260423T230918
CREATED:20230627T163134Z
LAST-MODIFIED:20230627T163303Z
UID:33026-1678719600-1678726800@vgyke.com
SUMMARY:Előadás március 15-éről\, ahogy az iskolában nem hallhattuk
DESCRIPTION:A jelenlévők előadást hallhatnak Acsay Péter történelem szakos tanártól március 15-éről és a hozzá fűződő Kőbányai személyekről
URL:https://vgyke.com/event/eloadas-marcius-15-erol-ahogy-az-iskolaban-nem-hallhattuk/
LOCATION:Kőrösi Csoma Sándor Kőbányai Kulturális Központ
ORGANIZER;CN="Duplinszki Katalin":MAILTO:kobanya.szervezo@vgyke.com
END:VEVENT
BEGIN:VEVENT
DTSTART;TZID=Europe/Budapest:20230316T140000
DTEND;TZID=Europe/Budapest:20230316T160000
DTSTAMP:20260423T230918
CREATED:20230623T144906Z
LAST-MODIFIED:20230623T145113Z
UID:32979-1678975200-1678982400@vgyke.com
SUMMARY:Előadás március 15-éről\,  és hozzá fűződő Erzsébetvárosi személyekről
DESCRIPTION:A jelenlévők előadást hallhatnak Acsay Péter történelem szakos tanártól március 15-éről és a hozzá fűződő Erzsébetvárosi eseményekről\, személyekről.
URL:https://vgyke.com/event/eloadas-marcius-15-erol-es-hozza-fuzodo-erzsebetvarosi-szemelyekrol/
LOCATION:KlauDió Civil Központ\, Nagydiófa utca 34.\, Budapest\, 1077
ORGANIZER;CN="J%C3%A1nosi Veronika":MAILTO:erzsebetvaros.szervezo@vgyke.com
END:VEVENT
BEGIN:VEVENT
DTSTART;TZID=Europe/Budapest:20230317T100000
DTEND;TZID=Europe/Budapest:20230317T120000
DTSTAMP:20260423T230918
CREATED:20230703T142416Z
LAST-MODIFIED:20230703T142416Z
UID:33181-1679047200-1679054400@vgyke.com
SUMMARY:Klubnap vendége volt Berkó Norbert okos eszköz oktató.
DESCRIPTION:A Hangoskönyvtár alkalmazásáról hallottunk részletes tájékoztatást. A jelenlévők kérdéseikre választ kaptak\, és Norbi elérhetőségét megadva felajánlotta a továbbiakban is a segítségnyújtást.
URL:https://vgyke.com/event/klubnap-vendege-volt-berko-norbert-okos-eszkoz-oktato/
ORGANIZER;CN="Vasn%C3%A9 Pint%C3%A9r Ter%C3%A9z":MAILTO:obuda.szervezo@vgyke.com
END:VEVENT
BEGIN:VEVENT
DTSTART;TZID=Europe/Budapest:20230317T100000
DTEND;TZID=Europe/Budapest:20230317T130000
DTSTAMP:20260423T230918
CREATED:20230623T145713Z
LAST-MODIFIED:20230623T145713Z
UID:32981-1679047200-1679058000@vgyke.com
SUMMARY:Mezőgazdasági Múzeum meglátogatása
DESCRIPTION:A jelenlévők megismerhetik a pásztorkodás történetét.
URL:https://vgyke.com/event/mezogazdasagi-muzeum-meglatogatasa/
LOCATION:Mezőgazdasági Múzeum\, Városliget\, Vajdahunyad Vára\, Budapest
ORGANIZER;CN="Duplinszki Katalin":MAILTO:kobanya.szervezo@vgyke.com
END:VEVENT
BEGIN:VEVENT
DTSTART;TZID=Europe/Budapest:20230320T100000
DTEND;TZID=Europe/Budapest:20230320T140000
DTSTAMP:20260423T230918
CREATED:20230619T175155Z
LAST-MODIFIED:20230619T175226Z
UID:32917-1679306400-1679320800@vgyke.com
SUMMARY:Látogatás a Budapest Retro Élményközpontba
DESCRIPTION:Egy élménydús\, interaktív időutazásra hívunk.\nGyere és próbáld ki milyen egy Lada rendőrautóval járőrözni a Gazdagréti lakótelepen\, nézd meg mi mindent vitt magával az űrbe Farkas Bertalan\, hallgass korabeli vicceket\, kabarékat telefonfülkében\, próbáld ki magad bemondóként a korabeli Híradó stúdiójában. A 3 szintes ultramodern létesítmény még számtalan élményt kínál. Ha időutazásod során megéheznél\, vagy egy italra vágysz\, vár az Élményközpont Bisztrója sok-sok retro finomsággal.
URL:https://vgyke.com/event/latogatas-a-budapest-retro-elmenykozpontba/
LOCATION:Budapest Retro Élményközpont\, Október 6. utca 4.\, Budapest\, 1051
ORGANIZER;CN="P%C3%A1zm%C3%A1n Krisztina":MAILTO:18.kerulet.szervezo@vgyke.com
END:VEVENT
BEGIN:VEVENT
DTSTART;TZID=Europe/Budapest:20230320T150000
DTEND;TZID=Europe/Budapest:20230320T163000
DTSTAMP:20260423T230918
CREATED:20230628T145722Z
LAST-MODIFIED:20230628T145722Z
UID:33055-1679324400-1679329800@vgyke.com
SUMMARY:Szülinapoztunk
DESCRIPTION:A XVI. Kerületi klub 5. szülinapját ünnepelte\, mely keretében beszélgettünk\, süteményeztünk\, és egy nagyon kedves tagunk egy saját készítésű ajándékkal is meglepett bennünket.
URL:https://vgyke.com/event/szulinapoztunk/
LOCATION:Napraforgó Központ\, Cziráki utca 22. 1. emelet\, klubterem\, Budapest\, 1163
ORGANIZER;CN="Koll%C3%A1rszki Bogl%C3%A1rka":MAILTO:csepel.szervezo@vgyke.com
END:VEVENT
BEGIN:VEVENT
DTSTART;TZID=Europe/Budapest:20230321T100000
DTEND;TZID=Europe/Budapest:20230321T120000
DTSTAMP:20260423T230918
CREATED:20230703T133639Z
LAST-MODIFIED:20230703T133639Z
UID:33149-1679392800-1679400000@vgyke.com
SUMMARY:Külsős klub program
DESCRIPTION:A Deák téri Földalatti Vasúti Múzeumban jártunk
URL:https://vgyke.com/event/kulsos-klub-program-3/
LOCATION:1051 Budapest Erzsébet tér 14.
ORGANIZER;CN="Kiss M%C3%A1rta":MAILTO:zuglo.szervezo@vgyke.com
END:VEVENT
BEGIN:VEVENT
DTSTART;TZID=Europe/Budapest:20230324T170000
DTEND;TZID=Europe/Budapest:20230324T190000
DTSTAMP:20260423T230918
CREATED:20230703T142135Z
LAST-MODIFIED:20230703T142135Z
UID:33179-1679677200-1679684400@vgyke.com
SUMMARY:Program: Színházi kulisszák mögött című előadáson voltunk a klubtagokkal.
DESCRIPTION:Szebényi Ágnes színháztörténész legendás színházi előadásokról beszélt. Ezek közül a Madách Színházban 1964-ben bemutatott “Bolond lány” című vígjátékról hallottunk.
URL:https://vgyke.com/event/program-szinhazi-kulisszak-mogott-cimu-eloadason-voltunk-a-klubtagokkal/
LOCATION:Békásmegyeri Közösségi Ház\, Csobánka tér 5.\, Budapest\,\, 1039
ORGANIZER;CN="Vasn%C3%A9 Pint%C3%A9r Ter%C3%A9z":MAILTO:obuda.szervezo@vgyke.com
END:VEVENT
BEGIN:VEVENT
DTSTART;TZID=Europe/Budapest:20230325T123000
DTEND;TZID=Europe/Budapest:20230325T150000
DTSTAMP:20260423T230918
CREATED:20230616T153642Z
LAST-MODIFIED:20230616T153642Z
UID:32856-1679747400-1679756400@vgyke.com
SUMMARY:ferencváros 2023.03.25-Mozizzunk
DESCRIPTION:A Corvin moziban a “Betyárbecsület” c. film megtekintése
URL:https://vgyke.com/event/ferencvaros-2023-03-25-mozizzunk/
END:VEVENT
BEGIN:VEVENT
DTSTART;TZID=Europe/Budapest:20230326T190000
DTEND;TZID=Europe/Budapest:20230326T210000
DTSTAMP:20260423T230918
CREATED:20230619T180224Z
LAST-MODIFIED:20230619T180224Z
UID:32923-1679857200-1679864400@vgyke.com
SUMMARY:Grecsó Krisztián: Vera - audionarrált színházi előadás a Pinceszínházban
DESCRIPTION:„Egy kislány a nyolcvanas évek Magyarországán. Figyel\, tanul. Tanulja a világot\, aminek a megértése bármikor nagy feladat lenne\, de ebben az évtizedben különösen is az. Tanulja a többi gyereket\, hogy miben olyan\, és miben más\, mint azok. Tanulja a felnőtteket\, akikkel (egyre inkább úgy érzi) nem stimmel valami. És ahogy elmerül a sok kis részletben\, szépen lassan világossá válik számára: a körülötte lévők nem mondanak igazat…„\nA Kőszegi Várszínház produkciója.\nAudionarrátor: Baksa-Szerecz Zsófia. Színpadbejárás nincs.
URL:https://vgyke.com/event/grecso-krisztian-vera-audionarralt-szinhazi-eloadas-a-pinceszinhazban/
LOCATION:Pinceszínház\, Török Pál u. 3.\, Budapest\, 1093
ORGANIZER;CN="P%C3%A1zm%C3%A1n Krisztina":MAILTO:18.kerulet.szervezo@vgyke.com
END:VEVENT
BEGIN:VEVENT
DTSTART;TZID=Europe/Budapest:20230327T150000
DTEND;TZID=Europe/Budapest:20230327T170000
DTSTAMP:20260423T230918
CREATED:20230705T145450Z
LAST-MODIFIED:20230705T145450Z
UID:33263-1679929200-1679936400@vgyke.com
SUMMARY:Tavaszváró klubnap
DESCRIPTION:A XIII. kerületi Lámpás klub tagjai a tavaszvárásról beszélgettek.
URL:https://vgyke.com/event/tavaszvaro-klubnap/
LOCATION:1134. Budapest\, Tüzér u. 56-58.
ORGANIZER;CN="Majl%C3%A1th M%C3%B3nika":MAILTO:angyalfold.szervezo@vgyke.com
END:VEVENT
BEGIN:VEVENT
DTSTART;TZID=Europe/Budapest:20230328T123000
DTEND;TZID=Europe/Budapest:20230328T143000
DTSTAMP:20260423T230918
CREATED:20230628T145048Z
LAST-MODIFIED:20230628T145206Z
UID:33053-1680006600-1680013800@vgyke.com
SUMMARY:A XVI. Kerületi Hősök terén jártunk
DESCRIPTION:Tagjainkkal ellátogattunk a XVI. Kerületi Hősök terére\, ahol a hideg ellenére kellemes beszélgettünk és megtudtuk\, miért is játszik olyan központi szerepet a kerület életében.
URL:https://vgyke.com/event/a-xvi-keruleti-hosok-teren-jartunk/
LOCATION:Budapest Hősök tere\, Budapest
ORGANIZER;CN="Koll%C3%A1rszki Bogl%C3%A1rka":MAILTO:csepel.szervezo@vgyke.com
END:VEVENT
BEGIN:VEVENT
DTSTART;TZID=Europe/Budapest:20230329T150000
DTEND;TZID=Europe/Budapest:20230329T170000
DTSTAMP:20260423T230918
CREATED:20230619T180802Z
LAST-MODIFIED:20230619T180802Z
UID:32926-1680102000-1680109200@vgyke.com
SUMMARY:Márciusi klubnap a XVIII. kerületben - Mi is az az AtoMol?
DESCRIPTION:Ez alkalommal dr. Szombati Zsigmondné látássérült gyógypedagógus látogat el hozzánk\, aki az AtoMol nevű eszköz ötletgazdája\, valamint a termék és az AtoMol szabadalmi védjegy bejegyzett tulajdonosa.\nEzzel az eszközzel látó\, és látássérült gyermekek is tudnak tanulni.\nEgyszerűvé és érthetővé teszi az atomok szerkezetét\, valamint a molekulák kötéseit – tulajdonképpen egy molekula modellező eszköz a kémia tantárgy tanításához.\nKlubunk második felében a Húsvétra készülődünk kvízzel és sütikészítéssel.
URL:https://vgyke.com/event/marciusi-klubnap-a-xviii-keruletben-mi-is-az-az-atomol/
LOCATION:Kondor Béla Közösségi Ház\, Kondor Béla sétány 8.\, Budapest\, 1181
ORGANIZER;CN="P%C3%A1zm%C3%A1n Krisztina":MAILTO:18.kerulet.szervezo@vgyke.com
END:VEVENT
BEGIN:VEVENT
DTSTART;TZID=Europe/Budapest:20230330T120000
DTEND;TZID=Europe/Budapest:20230330T140000
DTSTAMP:20260423T230918
CREATED:20230705T134036Z
LAST-MODIFIED:20230705T134036Z
UID:33215-1680177600-1680184800@vgyke.com
SUMMARY:Olvasópróbától a premierig - kirándulás a Bajor Gizi Színészmúzeumba
DESCRIPTION:Ismét a színház\, az előadóművészet elbűvölő világába hívunk! Akik velünk tartottak decemberben\, igazán hangulatos tárlatvezetésen vehettek részt a Bajor Gizi Színészmúzeumban\, ahol vezetőnk\, Szebényi Ágnes színháztörténész nemcsak a tárgyi és írásos emlékek között kalauzolt el\, de mesélt magáról a villáról is: olyan bennfentes történeteket hallhattunk\, amiket sehol máshol még! Ezúttal – szintén tárlatvezetéssel – arra a kérdésre keresünk majd választ\, hogyan is születik meg egy színdarab\, milyen utat jár be az olvasópróbától a premierig.\nEddigi tapasztalataink alapján bátran ajánljuk: tarts velünk – nem fogsz csalódni!\nA program időtartama előreláthatóan 120 perc.
URL:https://vgyke.com/event/olvasoprobatol-a-premierig-kirandulas-a-bajor-gizi-szineszmuzeumba/
LOCATION:Bajor Gizi Színészmúzeum (1124 Budapest\, Stromfeld Aurél út 16.)
ORGANIZER;CN="Murg%C3%A1cs J%C3%A1nosn%C3%A9":MAILTO:ujpest.szervezo@vgyke.com
END:VEVENT
BEGIN:VEVENT
DTSTART;TZID=Europe/Budapest:20230331T150000
DTEND;TZID=Europe/Budapest:20230331T170000
DTSTAMP:20260423T230918
CREATED:20230702T083645Z
LAST-MODIFIED:20230702T083645Z
UID:33099-1680274800-1680282000@vgyke.com
SUMMARY:program
DESCRIPTION:Látogatás a Csekovszky Emlékházban\, ahol megismerkedtünk a művész hagyatékával az özvegye segítségével
URL:https://vgyke.com/event/program-4/
LOCATION:Csekovszky Helytörténeti Gyűjtemény\, XV. u. 1.\, 1172
END:VEVENT
BEGIN:VEVENT
DTSTART;TZID=Europe/Budapest:20230404T090000
DTEND;TZID=Europe/Budapest:20230404T120000
DTSTAMP:20260423T230918
CREATED:20230616T154127Z
LAST-MODIFIED:20230616T154127Z
UID:32858-1680598800-1680609600@vgyke.com
SUMMARY:2023.04.04-Tolerancia nap
DESCRIPTION:A VGYKE a IX. kerületi Politechnikumban szemléletformálás
URL:https://vgyke.com/event/2023-04-04-tolerancia-nap/
END:VEVENT
BEGIN:VEVENT
DTSTART;TZID=Europe/Budapest:20230404T140000
DTEND;TZID=Europe/Budapest:20230404T163000
DTSTAMP:20260423T230918
CREATED:20230702T082806Z
LAST-MODIFIED:20230702T082806Z
UID:33092-1680616800-1680625800@vgyke.com
SUMMARY:klubnap
DESCRIPTION:Szalai Tünde kollégánk költői\, írói munkásságát mutatta be
URL:https://vgyke.com/event/klubnap-2/
LOCATION:Rákoshegyi Közösségi Ház\, Podmaniczky Zs. u. 3.\, Budapest\, 1174
END:VEVENT
BEGIN:VEVENT
DTSTART;TZID=Europe/Budapest:20230405T080000
DTEND;TZID=Europe/Budapest:20230405T130000
DTSTAMP:20260423T230918
CREATED:20230705T151142Z
LAST-MODIFIED:20230705T151548Z
UID:33277-1680681600-1680699600@vgyke.com
SUMMARY:Szemléletformálás a XIII. Hunyadi Mátyás Általános Iskolában
DESCRIPTION:Tájékoztattuk a gyerekeket a kutyakiképzés folyamatáról és költségeiről\, illetve\, hogy hol tartanak kutyakiképzést. Beszéltünk a beszélő okostelefon és számítógépek használatáról\, a vakvezető kutyával és a fehér bottal való közlekedésről is\, valamint a segítségnyújtás formáiról.
URL:https://vgyke.com/event/szemleletformalas-a-xiii-hunyadi-matyas-altalanos-iskolaban/
LOCATION:1138. Karikás Frigyes u. 3.
ORGANIZER;CN="Majl%C3%A1th M%C3%B3nika":MAILTO:angyalfold.szervezo@vgyke.com
END:VEVENT
BEGIN:VEVENT
DTSTART;TZID=Europe/Budapest:20230405T150000
DTEND;TZID=Europe/Budapest:20230405T170000
DTSTAMP:20260423T230918
CREATED:20230705T134300Z
LAST-MODIFIED:20230705T134300Z
UID:33218-1680706800-1680714000@vgyke.com
SUMMARY:Áprilisi klub - Egy újpesti orvos nyomában
DESCRIPTION:Szeretettel hívunk áprilisi klubnapunkra\, amely vendége Bernolák Béla író-fényképész.\n1943. január 12-én kezdődött meg a Don-kanyarban a szovjet áttörés. A Magyar Királyi 2. Honvéd Hadsereg katonáinak -40 fokos hidegben\, nyári hadfelszerelésben\, nehéz fegyverzet nélkül kellett megtartaniuk a több\, mint 200 kilométeres frontvonalat. A kilátástalan helyzet ellenére napokig védték állásaikat\, ám a védvonal végül összeroppant a túlerő nyomásától.\nA harcokban és a hosszú visszavonulás alatt 100-120 ezer magyar katona vesztette életét\, köztük egy újpesti családorvos\, dr. Bernolák Béla is. Unokája az ő sorsát kutatva kétszer is járt a Don-kanyarban és a voronyezsi katonai temetőben; ezekről az utakról és a kutatásról mesél majd nekünk. Fényképeiből több kiállítás\, illetve egy kisfilm is készült\, amit lehetőségünk lesz a klubon megtekinteni.
URL:https://vgyke.com/event/aprilisi-klub-egy-ujpesti-orvos-nyomaban/
LOCATION:Újpesti Ifjúsági Ház 1042 Budapest István út 17-19
ORGANIZER;CN="Murg%C3%A1cs J%C3%A1nosn%C3%A9":MAILTO:ujpest.szervezo@vgyke.com
END:VEVENT
BEGIN:VEVENT
DTSTART;TZID=Europe/Budapest:20230412T080000
DTEND;TZID=Europe/Budapest:20230412T170000
DTSTAMP:20260423T230918
CREATED:20230703T133948Z
LAST-MODIFIED:20230703T134041Z
UID:33152-1681286400-1681318800@vgyke.com
SUMMARY:Külsős klub program
DESCRIPTION:Éless-Szín jelmezeinek kiállítása és vására
URL:https://vgyke.com/event/kulsos-klub-program-4/
LOCATION:Zuglói Civil Ház\, Csertő park 12.\, Budapest\, 1144
ORGANIZER;CN="Kiss M%C3%A1rta":MAILTO:zuglo.szervezo@vgyke.com
END:VEVENT
BEGIN:VEVENT
DTSTART;TZID=Europe/Budapest:20230412T100000
DTEND;TZID=Europe/Budapest:20230412T123000
DTSTAMP:20260423T230918
CREATED:20230628T144753Z
LAST-MODIFIED:20230628T144753Z
UID:33050-1681293600-1681302600@vgyke.com
SUMMARY:A Magyar Nemzeti Múzeumban jártunk
DESCRIPTION:A Magyar Nemzeti Múzeumba látogattunk el\, ahol tárlatvezetők segítségével az ókori Pannónia provincia kiállítást tekintettük meg. A tárlatvezetés után egy kávét és egy szendvicset fogyaszthattunk el a múzeum kávézójában.
URL:https://vgyke.com/event/a-magyar-nemzeti-muzeumban-jartunk/
LOCATION:Magyar Nemzeti Múzeum\, Múzeum krt. 14-16.\, Budapest\, 1088
ORGANIZER;CN="Koll%C3%A1rszki Bogl%C3%A1rka":MAILTO:csepel.szervezo@vgyke.com
END:VEVENT
BEGIN:VEVENT
DTSTART;TZID=Europe/Budapest:20230412T140000
DTEND;TZID=Europe/Budapest:20230412T160000
DTSTAMP:20260423T230918
CREATED:20230703T131554Z
LAST-MODIFIED:20230703T131554Z
UID:33135-1681308000-1681315200@vgyke.com
SUMMARY:Klubnap
DESCRIPTION:Lenkainé Vajda Viktóriával a siketvakságról beszélgettünk
URL:https://vgyke.com/event/klubnap-10/
LOCATION:Zuglói Civil Ház\, Csertő park 12.\, Budapest\, 1144
ORGANIZER;CN="Kiss M%C3%A1rta":MAILTO:zuglo.szervezo@vgyke.com
END:VEVENT
BEGIN:VEVENT
DTSTART;TZID=Europe/Budapest:20230414T140000
DTEND;TZID=Europe/Budapest:20230414T141000
DTSTAMP:20260423T230918
CREATED:20230616T160211Z
LAST-MODIFIED:20230616T160211Z
UID:32863-1681480800-1681481400@vgyke.com
SUMMARY:ferencváros 2023. 04. 14. - online klub
DESCRIPTION:Aroma-party online bejelentkezés
URL:https://vgyke.com/event/ferencvaros-2023-04-14-online-klub/
END:VEVENT
BEGIN:VEVENT
DTSTART;TZID=Europe/Budapest:20230414T140000
DTEND;TZID=Europe/Budapest:20230414T160000
DTSTAMP:20260423T230918
CREATED:20230616T155459Z
LAST-MODIFIED:20230616T155459Z
UID:32860-1681480800-1681488000@vgyke.com
SUMMARY:ferencváros 2023.04.14-klubnap
DESCRIPTION:Aroma-party az aromák szerepe a mindennapokban
URL:https://vgyke.com/event/ferencvaros-2023-04-14-klubnap/
LOCATION:Ferencvárosi Művelődési Központ-FMK Budapest Haller utca 27. 1093
END:VEVENT
BEGIN:VEVENT
DTSTART;TZID=Europe/Budapest:20230417T150000
DTEND;TZID=Europe/Budapest:20230417T163000
DTSTAMP:20260423T230918
CREATED:20230628T144400Z
LAST-MODIFIED:20230628T144400Z
UID:33048-1681743600-1681749000@vgyke.com
SUMMARY:Hangtálak és gong a XVI. Kerületben
DESCRIPTION:Krayné Faragó Zsuzsanna mutatta be nekünk a hangtálakat és mesélt nekünk jótékony hatásaikról. Lehetőségünk is nyílt kipróbálni ezt a különleges élményt.
URL:https://vgyke.com/event/hangtalak-es-gong-a-xvi-keruletben/
LOCATION:Napraforgó Központ\, Cziráki utca 22. 1. emelet\, klubterem\, Budapest\, 1163
ORGANIZER;CN="Koll%C3%A1rszki Bogl%C3%A1rka":MAILTO:csepel.szervezo@vgyke.com
END:VEVENT
BEGIN:VEVENT
DTSTART;TZID=Europe/Budapest:20230418T100000
DTEND;TZID=Europe/Budapest:20230418T120000
DTSTAMP:20260423T230918
CREATED:20230623T144535Z
LAST-MODIFIED:20230623T144535Z
UID:32976-1681812000-1681819200@vgyke.com
SUMMARY:Látogatás a Magyar Kereskedelmi és Vendéglátó ipari múzeumba
DESCRIPTION:A jelenlévők megismerhetik a Xix.-XX. Század vendéglátásának történetét.
URL:https://vgyke.com/event/latogatas-a-magyar-kereskedelmi-es-vendeglato-ipari-muzeumba/
LOCATION:Magyar Kereskedelmi és Vendéglátóipari Múzeum\, Korona tér 1.\, Budapest\, 1036
ORGANIZER;CN="J%C3%A1nosi Veronika":MAILTO:erzsebetvaros.szervezo@vgyke.com
END:VEVENT
BEGIN:VEVENT
DTSTART;TZID=Europe/Budapest:20230418T100000
DTEND;TZID=Europe/Budapest:20230418T123000
DTSTAMP:20260423T230918
CREATED:20230705T134513Z
LAST-MODIFIED:20230705T134513Z
UID:33220-1681812000-1681821000@vgyke.com
SUMMARY:Látogatás a Magyar Kereskedelmi és Vendéglátóipari Múzeumba
DESCRIPTION:Látogassunk el együtt a Magyar Kereskedelmi és Vendéglátóipari Múzeumba\, ahol ezúttal a vendéglátás múltjával és jelenével ismerkedhetünk meg a tárlatvezetés folyamán! “A kiállítás a 19. század végi és 20. század eleji otthoni és hivatásszerű hazai vendéglátás tereit mutatja be. Megismerhetjük\, hol és hogyan töltötte szabad idejét a hajdani polgár\, hova utazott\, hol szállt meg\, mit rendelt asztalához. Megelevenedik egy korabeli szálloda\, egy kávéház és egy étterem\, továbbá egy cukrászda cukrászműhellyel és egy középpolgári család otthona. Betekintést nyerhetünk a korabeli mulatók és fürdőhelyek világába. Azt is megtudhatjuk\, mi volt a szállodai boyok feladata\, vagy kipróbálhatjuk\, milyen sommelier válna belőlünk.” (idézet a múzeum honlapjáról)\nA részvétel ingyenes\, viszont előzetes regisztrációhoz kötött\, legkésőbb 2023. április 13. 18:00-ig!
URL:https://vgyke.com/event/latogatas-a-magyar-kereskedelmi-es-vendeglatoipari-muzeumba/
ORGANIZER;CN="Murg%C3%A1cs J%C3%A1nosn%C3%A9":MAILTO:ujpest.szervezo@vgyke.com
END:VEVENT
BEGIN:VEVENT
DTSTART;TZID=Europe/Budapest:20230419T110000
DTEND;TZID=Europe/Budapest:20230419T123000
DTSTAMP:20260423T230918
CREATED:20230628T144049Z
LAST-MODIFIED:20230628T144049Z
UID:33045-1681902000-1681907400@vgyke.com
SUMMARY:Idegenvezetővel a Hősök terén
DESCRIPTION:Gámánné Morvay Katalin idegenvezetővel jártuk végig a Hősök terét és környékét. Sok érdekességet tudhattunk meg a tér történetéről és az ott megtalálható látnivalókról.
URL:https://vgyke.com/event/idegenvezetovel-a-hosok-teren/
LOCATION:Budapest Hősök tere\, Budapest
ORGANIZER;CN="Koll%C3%A1rszki Bogl%C3%A1rka":MAILTO:csepel.szervezo@vgyke.com
END:VEVENT
END:VCALENDAR