BEGIN:VCALENDAR
VERSION:2.0
PRODID:-//Vakok és Gyengénlátók Közép-Magyarországi Regionális Egyesülete - ECPv6.15.20//NONSGML v1.0//EN
CALSCALE:GREGORIAN
METHOD:PUBLISH
X-ORIGINAL-URL:https://vgyke.com
X-WR-CALDESC:Események Vakok és Gyengénlátók Közép-Magyarországi Regionális Egyesülete
REFRESH-INTERVAL;VALUE=DURATION:PT1H
X-Robots-Tag:noindex
X-PUBLISHED-TTL:PT1H
BEGIN:VTIMEZONE
TZID:Europe/Budapest
BEGIN:DAYLIGHT
TZOFFSETFROM:+0100
TZOFFSETTO:+0200
TZNAME:CEST
DTSTART:20220327T010000
END:DAYLIGHT
BEGIN:STANDARD
TZOFFSETFROM:+0200
TZOFFSETTO:+0100
TZNAME:CET
DTSTART:20221030T010000
END:STANDARD
BEGIN:DAYLIGHT
TZOFFSETFROM:+0100
TZOFFSETTO:+0200
TZNAME:CEST
DTSTART:20230326T010000
END:DAYLIGHT
BEGIN:STANDARD
TZOFFSETFROM:+0200
TZOFFSETTO:+0100
TZNAME:CET
DTSTART:20231029T010000
END:STANDARD
BEGIN:DAYLIGHT
TZOFFSETFROM:+0100
TZOFFSETTO:+0200
TZNAME:CEST
DTSTART:20240331T010000
END:DAYLIGHT
BEGIN:STANDARD
TZOFFSETFROM:+0200
TZOFFSETTO:+0100
TZNAME:CET
DTSTART:20241027T010000
END:STANDARD
END:VTIMEZONE
BEGIN:VEVENT
DTSTART;TZID=Europe/Budapest:20230731T150000
DTEND;TZID=Europe/Budapest:20230731T170000
DTSTAMP:20260423T135749
CREATED:20230727T173206Z
LAST-MODIFIED:20230727T173206Z
UID:33410-1690815600-1690822800@vgyke.com
SUMMARY:Klubnapi séta a Margitszigeten
DESCRIPTION:A XIII. kerületi Lámpás klub szabadtéri klubnap a Margitszigeten
URL:https://vgyke.com/event/klubnapi-seta-a-margitszigeten/
LOCATION:1138. Budapest\, Margitsziget
ORGANIZER;CN="Majl%C3%A1th M%C3%B3nika":MAILTO:angyalfold.szervezo@vgyke.com
END:VEVENT
BEGIN:VEVENT
DTSTART;TZID=Europe/Budapest:20230801T140000
DTEND;TZID=Europe/Budapest:20230801T163000
DTSTAMP:20260423T135749
CREATED:20230916T075006Z
LAST-MODIFIED:20230916T075041Z
UID:33809-1690898400-1690907400@vgyke.com
SUMMARY:Rákosmente augusztusi klub
DESCRIPTION:Dr. Kiss János előadása reumatológiai témában
URL:https://vgyke.com/event/rakosmente-augusztusi-klub/
LOCATION:Csekovszky Árpád Művelődési Ház\, Hősök tere 9.\, 1172
END:VEVENT
BEGIN:VEVENT
DTSTART;TZID=Europe/Budapest:20230802T150000
DTEND;TZID=Europe/Budapest:20230802T170000
DTSTAMP:20260423T135749
CREATED:20230729T083637Z
LAST-MODIFIED:20230729T083637Z
UID:33425-1690988400-1690995600@vgyke.com
SUMMARY:Kilenc élet -Erdélyi Tünde könyvbemutató
DESCRIPTION:Kedves Tagjaink\, kedves Érdeklődők! \nSzeretettel hívunk augusztusi klubnapunkra\, amely vendége Erdélyi Tünde írónő most megjelent könyvét hozza el Nekünk.. \nTündi már volt vendégünk akkor nagy sikert arattak novellái\, remélhetőleg most is nagy érdeklődés övezi majd felolvasását. \nVendégünk lesz még Varga Brigitta főhadnagy a kerületi rendőrkapitányságról.\nBrigitta állandó vendégünk a múlt hónapban is nagyon sok érdemi tájékoztatással lettünk gazdagabbak. Sajnos a bűnözés is fejlődik\, a csalások nagy része ma már a kiber térben zajlik. Ezzel kapcsolatos Brigi előadása arra fokuszálva\, hogyan kerül-hetjük el hogy áldozatává valljunk. \nVárjuk minden kedves tagunkat\, családtagjaikat és t! \nMurgács Jánosné és Czagány Izabella
URL:https://vgyke.com/event/kilenc-elet-erdelyi-tunde-konyvbemutato/
LOCATION:Újpesti Ifjúsági Ház 1042 Budapest István út 17-19
ORGANIZER;CN="Murg%C3%A1cs J%C3%A1nosn%C3%A9":MAILTO:ujpest.szervezo@vgyke.com
END:VEVENT
BEGIN:VEVENT
DTSTART;TZID=Europe/Budapest:20230804T140000
DTEND;TZID=Europe/Budapest:20230804T160000
DTSTAMP:20260423T135749
CREATED:20230727T174014Z
LAST-MODIFIED:20230727T174014Z
UID:33416-1691157600-1691164800@vgyke.com
SUMMARY:Klubnap ferencváros IX. kerület
DESCRIPTION:“Trabanton szállni élvezet” Vendég Bizsók Virgil László és megismerhetjük a fraktálrajz technikáját
URL:https://vgyke.com/event/klubnap-ferencvaros-ix-kerulet/
LOCATION:Budapest Haller u. 27. 1093 FMK
END:VEVENT
BEGIN:VEVENT
DTSTART;TZID=Europe/Budapest:20230808T100000
DTEND;TZID=Europe/Budapest:20230808T140000
DTSTAMP:20260423T135749
CREATED:20230727T172107Z
LAST-MODIFIED:20230727T172107Z
UID:33405-1691488800-1691503200@vgyke.com
SUMMARY:Játékos délután a Vakok kertjében
DESCRIPTION:A jelenlévők kipróbálhatják a lengő tekét és a vakpingpongot\, valamint megismerhetik a nemrég felújított parkot.
URL:https://vgyke.com/event/jatekos-delutan-a-vakok-kertjeben/
LOCATION:Városliget\, Vakok Kertje
ORGANIZER;CN="J%C3%A1nosi Veronika":MAILTO:erzsebetvaros.szervezo@vgyke.com
END:VEVENT
BEGIN:VEVENT
DTSTART;TZID=Europe/Budapest:20230810T140000
DTEND;TZID=Europe/Budapest:20230810T160000
DTSTAMP:20260423T135749
CREATED:20230802T145054Z
LAST-MODIFIED:20230802T145054Z
UID:33447-1691676000-1691683200@vgyke.com
SUMMARY:Klubdélután Pesterzsébeten az ismerkedés jegyében
DESCRIPTION:2023. augusztus 10.-én 14 órai kezdettel a Tagok és Érdeklődők együtt tölthetnek egy fantasztikus Klubdélutánt. Mivel a Pesterzsébeti Lámpás klub június 15.én indult Pesterzsébeten személyes jelenléttel\, ezért ezen alkalom az ismerkedés\, beszélgetés jövőtervezés jegyében fog telni.
URL:https://vgyke.com/event/klubdelutan-pesterzsebeten-az-ismerkedes-jegyeben/
LOCATION:Csili Művelődési Központ “B” épület(1201 Budapest\, Baross utca 55.)
ORGANIZER;CN="Dudikn%C3%A9 R%C3%A1cz Andrea":MAILTO:pesterzsebet.szervezo@vgyke.com
END:VEVENT
BEGIN:VEVENT
DTSTART;TZID=Europe/Budapest:20230814T150000
DTEND;TZID=Europe/Budapest:20230814T170000
DTSTAMP:20260423T135749
CREATED:20230808T070641Z
LAST-MODIFIED:20230808T070641Z
UID:33498-1692025200-1692032400@vgyke.com
SUMMARY:Emlékezzünk meg augusztus 20-áról
DESCRIPTION:A jelenlévők feleleveníthetik tudásukat az ünnep kapcsán és megoszthatják egymással tapasztalataikat\, hogy ők szokták-e ünnepelni a napot és mmiként.
URL:https://vgyke.com/event/emlekezzunk-meg-augusztus-20-arol/
LOCATION:Kőrösi Csoma Sándor Kőbányai Kulturális Központ (1105. Budapest\, Szent László tér 7-14)
ORGANIZER;CN="Duplinszki Katalin":MAILTO:kobanya.szervezo@vgyke.com
END:VEVENT
BEGIN:VEVENT
DTSTART;TZID=Europe/Budapest:20230815T100000
DTEND;TZID=Europe/Budapest:20230815T120000
DTSTAMP:20260423T135749
CREATED:20230802T144643Z
LAST-MODIFIED:20230802T144643Z
UID:33444-1692093600-1692100800@vgyke.com
SUMMARY:Látogatás a Biblia Múzeumba
DESCRIPTION:2023. augusztus 15.-én 10 órai kezdettel tárlatvezetéssel betekintést nyerhetünk a Biblia világába.
URL:https://vgyke.com/event/latogatas-a-biblia-muzeumba/
LOCATION:Biblia Múzeum (1092 Budapest Ráday u. 28.)
ORGANIZER;CN="Dudikn%C3%A9 R%C3%A1cz Andrea":MAILTO:pesterzsebet.szervezo@vgyke.com
END:VEVENT
BEGIN:VEVENT
DTSTART;TZID=Europe/Budapest:20230821T090000
DTEND;TZID=Europe/Budapest:20230821T130000
DTSTAMP:20260423T135749
CREATED:20230916T075905Z
LAST-MODIFIED:20230916T075905Z
UID:33816-1692608400-1692622800@vgyke.com
SUMMARY:Grassalkovich -kastély látogatása vezetéssel\, Gödöllő
DESCRIPTION:Grassalkovich -kastély látogatása vezetéssel\, Gödöllő
URL:https://vgyke.com/event/grassalkovich-kastely-latogatasa-vezetessel-godollo/
LOCATION:Gödöllő
END:VEVENT
BEGIN:VEVENT
DTSTART;TZID=Europe/Budapest:20230826T091500
DTEND;TZID=Europe/Budapest:20230826T160000
DTSTAMP:20260423T135749
CREATED:20230814T103041Z
LAST-MODIFIED:20230814T103041Z
UID:33516-1693041300-1693065600@vgyke.com
SUMMARY:Nagymaros-Visegrád körjárat a Dunán
DESCRIPTION:Vonattal megyünk Nagymarosra\, ott hajóáa szállunk\, másfél órás hajóú vár ránk\, majd vonnattal visszatérünk Budapestre.
URL:https://vgyke.com/event/nagymaros-visegrad-korjarat-a-dunan/
LOCATION:Nagymaros-Visegrád körjárat a Dunán
END:VEVENT
BEGIN:VEVENT
DTSTART;TZID=Europe/Budapest:20230829T070000
DTEND;TZID=Europe/Budapest:20230829T200000
DTSTAMP:20260423T135749
CREATED:20230822T152009Z
LAST-MODIFIED:20230822T152024Z
UID:33564-1693292400-1693339200@vgyke.com
SUMMARY:Kirándulás Szilvásváradra
DESCRIPTION:2023. augusztusi programunk szervezésekor igyekeztünk jó lóra tenni!\nÚgy gondoljuk sikerült is.\nMagyarország méltán híres a Lipicai ménesgazdaságban nevelt lovairól. A ménesgazdaság múzeumában a régmúlt idők lovas kocsijait tekintjünk meg\, majd megismerkedünk a ménes történetével is.\nA délutáni programon a Fátyol vízesés rabolhatja el szívünket.\nA program időtartama előreláthatóan egész nap\,\nA kirándulás alatt folyamatos szükség lesz kísérő segítségére\nA csoport maximális létszáma 25 fő\, melyet a jelentkezések sorrendjében fogunk feltölteni.\nA programra előzetes bejelentkezés szükséges legkésőbb 2023. augusztus 20. 12:00-ig! Kísérőt sajnos csak igen korlátozott mértékben tudunk biztosítani\, ezirányú igényeiteket mindenképp jelezzétek\, vagy gondoskodjatok saját segítőről. Megértéseteket köszönjük! ( A létszám betelt)
URL:https://vgyke.com/event/kirandulas-szilvasvaradra/
LOCATION:Szilvásvárad
ORGANIZER;CN="Murg%C3%A1cs J%C3%A1nosn%C3%A9":MAILTO:ujpest.szervezo@vgyke.com
END:VEVENT
BEGIN:VEVENT
DTSTART;TZID=Europe/Budapest:20230830T150000
DTEND;TZID=Europe/Budapest:20230830T170000
DTSTAMP:20260423T135749
CREATED:20230823T091837Z
LAST-MODIFIED:20230823T091837Z
UID:33567-1693407600-1693414800@vgyke.com
SUMMARY:Augusztusi klubnap a XVIII. kerületi Bókay Kertben
DESCRIPTION:Ezúttal a szabadban\, a kötetlen kikapcsolódás kap főszerepet: beszélgetés\, játék\, sport és árnyékban hűsölés a nagy melegben. Nyári élménybeszámolót tartunk és egy hűsítő dinnye partyval zárjuk a napot.\nRészvételi szándékodat kérlek\, jelezd a lenti elérhetőségek valamelyikén.
URL:https://vgyke.com/event/augusztusi-klubnap-a-xviii-keruleti-bokay-kertben/
LOCATION:Bókay Kert\, Szélmalom utca 33.\, Budapest\, 1181\, Magyarország
ORGANIZER;CN="P%C3%A1zm%C3%A1n Krisztina":MAILTO:18.kerulet.szervezo@vgyke.com
END:VEVENT
BEGIN:VEVENT
DTSTART;TZID=Europe/Budapest:20230831T100000
DTEND;TZID=Europe/Budapest:20230831T110000
DTSTAMP:20260423T135749
CREATED:20230828T131837Z
LAST-MODIFIED:20230828T131952Z
UID:33585-1693476000-1693479600@vgyke.com
SUMMARY:VGYKE - Projektzáró rendezvény FOF 2022-C-2675
DESCRIPTION:Kedves Partnereink!\nSok szeretettel hívunk mindenkit a „Közösség lámpásai” a látássérült emberek közösségbe szervezése FOF 2022-C-2675 online projektzáró eseményünkre\, ahol közösen értékeljük a megvalósult programokat és beszámolunk az elért eredményekről.\nA VGYKE évek óta sikeresen pályázik az NSZI által meghirdetett FOF pályázatain. 2021 után 2022-ben újabb lehetőséget kaptunk\, „A közösség lámpásai” mentori hálózata által szervezett látássérült helyi közösségek megerősítésére\, tartalmas szabadidős programok\, kirándulások\, múzeum látogatások szervezésére\, a látássérültek társadalmi életben való aktivitásának növelésére.\nA programok megtervezésekor előzetes igényfelmérést végeztünk a látássérült tagjaink körében. Rendkívül népszerűek az akadálymentesített színházi előadások\, múzeumi tárlatvezetések\, így az aktuálisan meghirdetett színházak és rendezvények programjai közül válogattunk. Közösségi Civilszervezőink Budapest 20 kerületében dolgoznak (II.\, III.\, IV.\, VI.\, VII.\, VIII.\, XI.\, X.\, XI.\, XII.\, XIII.\, XIV.\, XVI.\, XVII.\, XVIII.\, XIX.\, XX.\, XXI.\, XXII.\, XXIII.)\, ezekben a kerületekben kerestünk a programok megszervezésére alkalmas helyszíneket. Összesen 20 külső helyszínen megvalósuló szabadidős program\, 16 saját riport\, 86 online klub (facebook felületen)\, megvalósítását vállaltuk.\nAz esemény csatlakozási linkje:\nhttps://meet.google.com/kam-qwcq-yno\nAz eseményről felvétel készül\, melyet a VGYKE hivatalos YouTube csatornájára fogunk feltölteni. \nFodor Ágnes\nelnök\nA programok a Belügyminisztérium és a Slachta Margit Nemzeti Szociálpolitikai Intézet támogatásával valósultak meg.
URL:https://vgyke.com/event/vgyke-projektzaro-rendezveny-fof-2022-c-2675/
END:VEVENT
BEGIN:VEVENT
DTSTART;TZID=Europe/Budapest:20230901T140000
DTEND;TZID=Europe/Budapest:20230901T160000
DTSTAMP:20260423T135749
CREATED:20230814T103310Z
LAST-MODIFIED:20230814T103310Z
UID:33519-1693576800-1693584000@vgyke.com
SUMMARY:Klubnap ferencváros
DESCRIPTION:Meghívott vendég: Nemes Nagy Tünde elnök Szabolcs Szatmár-Bereg Megyei elnök
URL:https://vgyke.com/event/klubnap-ferencvaros/
END:VEVENT
BEGIN:VEVENT
DTSTART;TZID=Europe/Budapest:20230905T140000
DTEND;TZID=Europe/Budapest:20230905T163000
DTSTAMP:20260423T135749
CREATED:20230916T074540Z
LAST-MODIFIED:20230916T074621Z
UID:33805-1693922400-1693931400@vgyke.com
SUMMARY:Klubnap\, Ügyfélszolgálat
DESCRIPTION:Ismerkedés az ügyfélszolgálat tevékenységével\, tagdíj befizetési lehetőség
URL:https://vgyke.com/event/klubnap-ugyfelszolgalat/
LOCATION:Csekovszky Árpád Művelődési Ház\, Hősök tere 9.
END:VEVENT
BEGIN:VEVENT
DTSTART;TZID=Europe/Budapest:20230906T070000
DTEND;TZID=Europe/Budapest:20230906T200000
DTSTAMP:20260423T135749
CREATED:20230831T101704Z
LAST-MODIFIED:20230831T101945Z
UID:33606-1693983600-1694030400@vgyke.com
SUMMARY:Szeptemberi klub: támogató szolgálat és szilvásváradi élménybeszámoló
DESCRIPTION:Kedves Tagjaink\, kedves Kisérők! \nSzeretettel hívunk szeptemberi klubunkra\, melynek vendége Szabó Pálma Edina\, aki a VGYKE Louis Braille Támogató Szolgálatának egyik\, sok tagtársunk által elismert és kedvelt\, rutinos munkatársa. Pálma a Támogató Szolgálat munkájáról fog nekünk mesélni – hogyan dolgoznak\, ki és milyen módon veheti igénybe az általuk kínált segítséget.\nCsatlakozz hozzánk\, hogy közösen vitassuk meg a hallottakat és esetleges kérdéseid! Némi harapnivaló és üdítő mellett pedig ki-ki elmesélheti\, mi volt számára a legkülönlegesebb tapasztalás legutóbbi\, szilvásváradi kirándulásunkon – így azok is részesülhetnek kicsit az élményből\, akik ezúttal nem tudtak velünk tartani.\nVárjuk minden kedves tagunkat és kísérőiket! \nAz esemény Facebook-linkje:\nhttps://fb.me/e/aZvF2zadx
URL:https://vgyke.com/event/szeptemberi-klub-tamogato-szolgalat-es-szilvasvaradi-elmenybeszamolo/
LOCATION:Újpesti Kulturális Központ: Ifjúsági Ház (Budapest\, 1042. István út 17-19.) I. emelet 117. terem (a terem változhat)
ORGANIZER;CN="Murg%C3%A1cs J%C3%A1nosn%C3%A9":MAILTO:ujpest.szervezo@vgyke.com
END:VEVENT
BEGIN:VEVENT
DTSTART;TZID=Europe/Budapest:20230906T150000
DTEND;TZID=Europe/Budapest:20230906T170000
DTSTAMP:20260423T135749
CREATED:20230907T080519Z
LAST-MODIFIED:20230907T080519Z
UID:33694-1694012400-1694019600@vgyke.com
SUMMARY:Szeptemberi klub: támogató szolgálat és szilvásváradi élménybeszámoló
DESCRIPTION:Kedves Tagjaink\, kedves Kisérők! \nSzeretettel hívunk szeptemberi klubunkra\, melynek vendége Szabó Pálma Edina\, aki a VGYKE Louis Braille Támogató Szolgálatának egyik\, sok tagtársunk által elismert és kedvelt\, rutinos munkatársa. Pálma a Támogató Szolgálat munkájáról fog nekünk mesélni – hogyan dolgoznak\, ki és milyen módon veheti igénybe az általuk kínált segítséget.\nCsatlakozz hozzánk\, hogy közösen vitassuk meg a hallottakat és esetleges kérdéseid! Némi harapnivaló és üdítő mellett pedig ki-ki elmesélheti\, mi volt számára a legkülönlegesebb tapasztalás legutóbbi\, szilvásváradi kirándulásunkon – így azok is részesülhetnek kicsit az élményből\, akik ezúttal nem tudtak velünk tartani.\nVárjuk minden kedves tagunkat és kísérőiket! \nAz esemény Facebook-linkje:\nhttps://fb.me/e/aZvF2zadx
URL:https://vgyke.com/event/szeptemberi-klub-tamogato-szolgalat-es-szilvasvaradi-elmenybeszamolo-2/
LOCATION:Újpesti Kulturális Központ: Ifjúsági Ház
ORGANIZER;CN="Murg%C3%A1cs J%C3%A1nosn%C3%A9":MAILTO:ujpest.szervezo@vgyke.com
END:VEVENT
BEGIN:VEVENT
DTSTART;TZID=Europe/Budapest:20230909T140000
DTEND;TZID=Europe/Budapest:20230909T180000
DTSTAMP:20260423T135749
CREATED:20230905T141729Z
LAST-MODIFIED:20230905T141729Z
UID:33663-1694268000-1694282400@vgyke.com
SUMMARY:Kitelepülés Ferencvárosi lakótelepi mulatság
DESCRIPTION:A ferencvárosi József Attila lakótelepen “Lakótelepi mulatságon” kitelepülés
URL:https://vgyke.com/event/kitelepules-ferencvarosi-lakotelepi-mulatsag-2/
LOCATION:Ferencvárosi József Attila lakótelep
END:VEVENT
BEGIN:VEVENT
DTSTART;TZID=Europe/Budapest:20230911T150000
DTEND;TZID=Europe/Budapest:20230911T170000
DTSTAMP:20260423T135749
CREATED:20230905T072621Z
LAST-MODIFIED:20230905T072748Z
UID:33633-1694444400-1694451600@vgyke.com
SUMMARY:Bemutatkozik Ruzsa Viktor\, a Civil Rádió munkatársa.
DESCRIPTION:A résztvevők megismerkedhetnek Ruzsa Viktorral\, aki rádióskét dolgozik már vek óta. Mesél nekik munkája mikéntjéről és kezdetéről.
URL:https://vgyke.com/event/bemutatkozik-ruzsa-viktor-a-civil-radio-munkatarsa/
LOCATION:Kőrösi Csoma Sándor Kőbányai Kulturális Központ (1105. Budapest\, Szent László tér 7-14)
ORGANIZER;CN="Duplinszki Katalin":MAILTO:kobanya.szervezo@vgyke.com
END:VEVENT
BEGIN:VEVENT
DTSTART;TZID=Europe/Budapest:20230913T140000
DTEND;TZID=Europe/Budapest:20230913T150000
DTSTAMP:20260423T135749
CREATED:20230905T143747Z
LAST-MODIFIED:20230905T143747Z
UID:33665-1694613600-1694617200@vgyke.com
SUMMARY:Információk a közbiztonságról
DESCRIPTION:Kedves tagok\, kísérők\, érdeklődők! \nSzeretettel hívunk szeptemberi klubnapunkra\, melynek vendége Sebőkné Barad Márta rendőr törzsszászlós a XIV. kerületi Rendőrkapitányság körzeti megbízottja\, akitől fontos információkat hallhatunk arról\, hogy mire figyeljünk\, milyen újabb csalások történnek és egyéb közérdekű információkról. Kérdéseinkre hasznos tanácsokat kaphatunk. \nMinden érdeklődőt várunk szeretettel!
URL:https://vgyke.com/event/informaciok-a-kozbiztonsagrol/
LOCATION:Zuglói Civil Ház\, Csertő park 12.\, Budapest\, 1144
ORGANIZER;CN="Kiss M%C3%A1rta":MAILTO:zuglo.szervezo@vgyke.com
END:VEVENT
BEGIN:VEVENT
DTSTART;TZID=Europe/Budapest:20230913T140000
DTEND;TZID=Europe/Budapest:20230913T153000
DTSTAMP:20260423T135749
CREATED:20230907T080119Z
LAST-MODIFIED:20230907T080119Z
UID:33692-1694613600-1694619000@vgyke.com
SUMMARY:Kirándulás a béke szigetére
DESCRIPTION:Kedves klubtagunk\, tisztelt érdeklődő! \nÁllandó fáradtság gyötör\, ám mégsem tudsz egy igazán jót aludni? Szükséged lenne legalább néhány perc háborítatlan nyugalomra\, hogy feltöltődhess? Annyi stressz ér mostanában\, hogy a benned halmozódó feszültség már fájdalmat okoz? Szereted a tibeti hangtálak éteri\, zengő hangját?\nNeked való következő programunk\, ha csak egyetlen kérdésre is igennel válaszoltál! A tibeti hangtál néven ismert rezgőtálakat ugyanis ősidők óta használják a keleti kultúrákban gyógyítási\, meditációs és egyéb relaxációs célokra. Az általuk keltett rezgések révén energetizáló\, lazító\, stressz- és fájdalomcsökkentő hatást fejtenek ki. Krayné Faragó Zsuzsanna\, a Gong Akadémia egyik alapítója\, aki 2004 óta dolgozik a hangmunka területén\, felajánlott nekünk egy hangfürdőt\, amit klubjaink bejáratott helyszínén\, az újpesti Ifjúsági Házban tarthatunk meg. Rövid testlazító relaxációval kezdünk\, majd elmerülünk a hangok és rezgések világában. A hangtálakból és a gongból érkező hangok ellazítják a testet és az elmét is\, oldják a stresszt\, a testben lévő blokkokat.\nA hangfürdő végén\, aki szeretné\, kézbe veheti a hangtálakat\, kipróbálhatja a rezgésüket\, és mód nyílik a kérdések megválaszolására is!\nA hangfürdőt székeken ülve és fekve is lehet élvezni. Aki az utóbbira vágyik\, hozhat magával egy polifoamot\, ill. egy fej alá való párnát; de korlátozott mértékben az Ifjúsági Ház is tud kölcsönözni néhány szivacsot. Fontos\, hogy aki szívritmus szabályozóval él\, vagy epilepsziás\, vagy a terhesség első trimeszterében van\, annak nem javasolt a részvétel. \nProgramunk ingyenes\, de regisztrációköteles. Kérünk benneteket\, hogy részvételi szándékotokat feltétlenül jelezzétek 2023. szeptember 11. 12:00-ig\, mert tudnunk kell\, hogy hány főre készüljünk!\nProgramunk további részletei Facebook-eseményünkben olvashatóak (a link Facebook-profil megléte nélkül is megtekinthető):\nhttps://fb.me/e/1yEOnfeRy \nA hangfürdő tervezett időtartama 90 perc\, a csoport létszáma legfeljebb 30 fő.\nJelentkezni 2023. május 29. 12:00-ig lehet elérhetőségeinken.\nVárunk szeretettel!
URL:https://vgyke.com/event/kirandulas-a-beke-szigetere/
LOCATION:Újpesti Kulturális Központ: Ifjúsági Ház (Budapest\, 1042. István út 17-19.) I. emelet 117. terem (a terem változhat)
ORGANIZER;CN="Murg%C3%A1cs J%C3%A1nosn%C3%A9":MAILTO:ujpest.szervezo@vgyke.com
END:VEVENT
BEGIN:VEVENT
DTSTART;TZID=Europe/Budapest:20230916T080000
DTEND;TZID=Europe/Budapest:20230916T170000
DTSTAMP:20260423T135749
CREATED:20230916T080121Z
LAST-MODIFIED:20230916T080121Z
UID:33819-1694851200-1694883600@vgyke.com
SUMMARY:Külső program\, hangfürdő
DESCRIPTION:Hangfürdő Újpesten
URL:https://vgyke.com/event/kulso-program-hangfurdo/
LOCATION:Újpesti Ifjúsági Ház\, István u. 17-19
END:VEVENT
BEGIN:VEVENT
DTSTART;TZID=Europe/Budapest:20230919T100000
DTEND;TZID=Europe/Budapest:20230919T120000
DTSTAMP:20260423T135749
CREATED:20230913T075236Z
LAST-MODIFIED:20230913T075236Z
UID:33758-1695117600-1695124800@vgyke.com
SUMMARY:Látogatás a Postamúzeumba
DESCRIPTION:2023. szeptember 19.-én ellátogatunk a Postamúzeumba\, ahol tárlatvezetéssel megismerhetjük a vezetékes\, illetve vezeték nélküli távközlést\, a hagyományos posta eszközeit\, valamint lehetőségünk nyílik megtekinteni a 17. századtól napjainkig viselt postai egyenruhákat
URL:https://vgyke.com/event/latogatas-a-postamuzeumba/
LOCATION:Postamúzeum (1068 Budapest Benczúr utca 27.)
ORGANIZER;CN="Dudikn%C3%A9 R%C3%A1cz Andrea":MAILTO:pesterzsebet.szervezo@vgyke.com
END:VEVENT
BEGIN:VEVENT
DTSTART;TZID=Europe/Budapest:20230921T100000
DTEND;TZID=Europe/Budapest:20230921T140000
DTSTAMP:20260423T135749
CREATED:20230905T145535Z
LAST-MODIFIED:20230905T145535Z
UID:33667-1695290400-1695304800@vgyke.com
SUMMARY:Erzsébetváros szeptemberi klubnapja az Alko-Soft-tal
DESCRIPTION:A résztvevők találkozhatnak Dvariecki Bálinttal\, az Alko-Soft BT munkatársával\, aki bemutatja tevékenységüket.
URL:https://vgyke.com/event/erzsebetvaros-szeptemberi-klubnapja-az-alko-soft-tal/
LOCATION:1077. Budapest\, Nagydiófa utca 34. (KlauDió Civil Központ)
ORGANIZER;CN="J%C3%A1nosi Veronika":MAILTO:erzsebetvaros.szervezo@vgyke.com
END:VEVENT
BEGIN:VEVENT
DTSTART;TZID=Europe/Budapest:20230922T100000
DTEND;TZID=Europe/Budapest:20230922T120000
DTSTAMP:20260423T135749
CREATED:20230913T172136Z
LAST-MODIFIED:20230913T172157Z
UID:33785-1695376800-1695384000@vgyke.com
SUMMARY:Meghívó - Lámpás klubvezető váltás lesz Óbudán
DESCRIPTION:Rendhagyó klubnap lesz a harmadik kerületben. Vasné Pintér Teréz a harmadik kerületi látássérültek Lámpás klubjának vezetője nyugdíjba megy. Ruzsa Viktor közösségi civil szervező veszi át a klub vezetését.
URL:https://vgyke.com/event/meghivo-lampas-klubvezeto-valtas-lesz-obudan/
LOCATION:Békásmegyeri Közösségi Ház\, Csobánka tér 5.\, Budapest\,\, 1039
ORGANIZER;CN="Vasn%C3%A9 Pint%C3%A9r Ter%C3%A9z":MAILTO:obuda.szervezo@vgyke.com
END:VEVENT
BEGIN:VEVENT
DTSTART;TZID=Europe/Budapest:20230922T100000
DTEND;TZID=Europe/Budapest:20230922T120000
DTSTAMP:20260423T135749
CREATED:20230929T132518Z
LAST-MODIFIED:20230929T132518Z
UID:33973-1695376800-1695384000@vgyke.com
SUMMARY:Békásmegyeri Közösségi Ház 1039 Budapest\, Csobánka tér 5.
DESCRIPTION:Vasné Pintér Teréz klubvezető nyugdíjba megy. Októbertől Ruzsa Viktor Közösségi civil szervező veszi át a klub vezetését. Váratlanul eljöttek és ezzel meglepetést szereztek a Lámpás kollégák. Ajándékaik egyike volt egy világító Lámpás. A tagokkal együtt idézték fel az elmúlt évek örömteli eseményeit.
URL:https://vgyke.com/event/bekasmegyeri-kozossegi-haz-1039-budapest-csobanka-ter-5/
LOCATION:Békásmegyeri Közösségi Ház 1039 Budapest\, Csobánka tér 5.
ORGANIZER;CN="Vasn%C3%A9 Pint%C3%A9r Ter%C3%A9z":MAILTO:obuda.szervezo@vgyke.com
END:VEVENT
BEGIN:VEVENT
DTSTART;TZID=Europe/Budapest:20230923T111500
DTEND;TZID=Europe/Budapest:20230923T121500
DTSTAMP:20260423T135749
CREATED:20230913T190713Z
LAST-MODIFIED:20230913T190713Z
UID:33787-1695467700-1695471300@vgyke.com
SUMMARY:Szabadulószoba
DESCRIPTION:A karib tenger kalózai-vajon milyen kalózok leszünk\, kiszabadulunk az ismereteink birtokában?
URL:https://vgyke.com/event/szabaduloszoba/
LOCATION:Budapest Gát utca 39
END:VEVENT
BEGIN:VEVENT
DTSTART;TZID=Europe/Budapest:20230924T110000
DTEND;TZID=Europe/Budapest:20230924T170000
DTSTAMP:20260423T135749
CREATED:20230919T150939Z
LAST-MODIFIED:20230919T150939Z
UID:33850-1695553200-1695574800@vgyke.com
SUMMARY:Látogatás a Gödöllői Grassalkovich Kastélyba
DESCRIPTION:A XIII. kerületi Lámpás klub tagjai ellátogatnak a Gödöllői Grassalkovich Kastélyba
URL:https://vgyke.com/event/latogatas-a-godolloi-grassalkovich-kastelyba/
LOCATION:2100. Gödöllő\, Grassalkovich-kastély 5852.
ORGANIZER;CN="Majl%C3%A1th M%C3%B3nika":MAILTO:angyalfold.szervezo@vgyke.com
END:VEVENT
BEGIN:VEVENT
DTSTART;TZID=Europe/Budapest:20230925T150000
DTEND;TZID=Europe/Budapest:20230925T170000
DTSTAMP:20260423T135749
CREATED:20230919T151236Z
LAST-MODIFIED:20230919T151304Z
UID:33853-1695654000-1695661200@vgyke.com
SUMMARY:Teadélután az Angyalföldi Lámpás Klubon
DESCRIPTION:A XIII. kerületi Lámpás klub tagjai teadélutánt tartanak
URL:https://vgyke.com/event/teadelutan-az-angyalfoldi-lampas-klubon/
LOCATION:1134. Budapest\, Tüzér u. 56-58.
ORGANIZER;CN="Majl%C3%A1th M%C3%B3nika":MAILTO:angyalfold.szervezo@vgyke.com
END:VEVENT
BEGIN:VEVENT
DTSTART;TZID=Europe/Budapest:20230926T150000
DTEND;TZID=Europe/Budapest:20230926T170000
DTSTAMP:20260423T135749
CREATED:20230919T151912Z
LAST-MODIFIED:20230919T151912Z
UID:33855-1695740400-1695747600@vgyke.com
SUMMARY:Program - Vakok Kertjébe látogatunk
DESCRIPTION:A felújított Vakok kertvében a kikapcsolódást kínáló eszközöket kipróbáljuk\, és közben jól elbeszélgetünk.
URL:https://vgyke.com/event/program-vakok-kertjebe-latogatunk/
LOCATION:Városliget\, Budapest\, 1146\, Magyarország
ORGANIZER;CN="Vasn%C3%A9 Pint%C3%A9r Ter%C3%A9z":MAILTO:obuda.szervezo@vgyke.com
END:VEVENT
END:VCALENDAR